Workbook

Sheet Template
A1: TREAT NAME
A2: TREAT SIZE
A3: Instructions to calculate
B4: Flavor | C4: Calories | D4: Calories from Fat | E4: Fat | F4: Saturated Fat | G4: Trans Fat | H4: Cholesterol | I4: Sodium | J4: Total Carbohydrates | K4: Dietary Fiber | L4: Total Sugar | M4: Added Sugar | N4: Protein | O4: Vitamin D | P4: Vitamin D (% DV) | Q4: Calcium | R4: Calcium (%DV) | S4: Iron | T4: Iron (%DV) | U4: Potassium | V4: Potassium (%DV)
A5: Italian | B5: Apple Berry Blue
B6: Banana
B7: Birch Beer
B8: Blood Orange
B9: Blue Raspberry
B10: Blueberry
B11: Cherry
B12: Cherry Lemonade
B13: Cherry Limeade
B14: Chocolate
B15: Chocolate Chocolate Chip
B16: Cotton Candy
B17: Dr Pepper
... B58: Wild Black Cherry
A59: All-Natural Ice | B59: All Natural Banana
B60: All Natural Coconut
B61: All Natural Cranberry
B62: All Natural Cranberry Pineapple
B63: All Natural Cranberry Strawberry
B64: All Natural Orange
B65: All-Natural Orange Pineapple
B66: All Natural Pineapple Coconut
B67: All Natural Pineapple
B68: All Natural Strawberry
B69: All Natural Strawberry Banana
B70: All Natural Strawberry Pineapple
A71: Cream Ice | B71: Banana Split Cream
B72: Birthday Cake
B73: Black Cherry Cheesecake
B74: Brookie Dough
B75: Caramel (dulce)
B76: Cheesecake
B77: Chocolate Chip Cheesecake
B78: Chocolate Covered Banana
B79: Chocolate Covered Strawberry
B80: Coconut Cream
...

Sheet Kids (8.2 oz)
A1: ICE FLAVORS
A2: KIDS PORTION
B3: Flavor | C3: Calories | D3: Calories from Fat | E3: Fat | F3: Saturated Fat | G3: Trans Fat | H3: Cholesterol | I3: Sodium | J3: Total Carbohydrates | K3: Dietary Fiber | L3: Total Sugar | M3: Added Sugar | N3: Protein | O3: Vitamin D | P3: Vitamin D (% DV) | Q3: Calcium | R3: Calcium (%DV) | S3: Iron | T3: Iron (%DV) | U3: Potassium | V3: Potassium (%DV)
A4: Italian | B4: Apple Berry Blue | C4: 180 | D4: 0 | E4: 0 | F4: 0 | G4: 0 | H4: 0 | I4: 30 | J4: 46 | K4: 0 | L4: 44 | M4: 43 | N4: 0 | O4: 0 | P4: 0 | Q4: 8 | R4: 0 | S4: 0 | T4: 0 | U4: 16 | V4: 0
B5: Banana | C5: 220 | D5: 5 | E5: 0 | F5: 0 | G5: 0 | H5: 0 | I5: 25 | J5: 54 | K5: 0 | L5: 52 | M5: 50 | N5: 0 | O5: 0 | P5: 0 | Q5: 6 | R5: 0 | S5: 0 | T5: 0 | U5: 42 | V5: 0
B6: Birch Beer | C6: 150 | D6: 0 | E6: 0 | F6: 0 | G6: 0 | H6: 0 | I6: 20 | J6: 38 | K6: 0 | L6: 37 | M6: 37 | N6: 0 | O6: 0 | P6: 0 | Q6: 5.83057 | R6: 0 | S6: 0.006911 | T6: 0 | U6: 0 | V6: 0
B7: Blood Orange | C7: 180 | D7: 0 | E7: 0 | F7: 0 | G7: 0 | H7: 0 | I7: 25 | J7: 45 | K7: 0 | L7: 43 | M7: 43 | N7: 0 | O7: 0 | P7: 0 | Q7: 7 | R7: 0 | S7: 0 | T7: 0 | U7: 9 | V7: 0
B8: Blue Raspberry | C8: 200 | D8: 0 | E8: 0 | F8: 0 | G8: 0 | H8: 0 | I8: 30 | J8: 51 | K8: 0 | L8: 49 | M8: 49 | N8: 0 | O8: 0 | P8: 0 | Q8: 7 | R8: 0 | S8: 0 | T8: 0 | U8: 1 | V8: 0
B9: Blueberry | C9: 280 | D9: 0 | E9: 0 | F9: 0 | G9: 0 | H9: 0 | I9: 30 | J9: 72 | K9: 0 | L9: 70 | M9: 70 | N9: 0 | O9: 0 | P9: 0 | Q9: 7 | R9: 0 | S9: 0 | T9: 0 | U9: 1 | V9: 0
B10: Cherry | C10: 160 | D10: 0 | E10: 0 | F10: 0 | G10: 0 | H10: 0 | I10: 25 | J10: 41 | K10: 0 | L10: 38 | M10: 37 | N10: 0 | O10: 0 | P10: 0 | Q10: 10 | R10: 0 | S10: 0 | T10: 0 | U10: 1 | V10: 0
B11: Cherry Lemonade | C11: 170 | D11: 0 | E11: 0 | F11: 0 | G11: 0 | H11: 0 | I11: 30 | J11: 45 | K11: 0 | L11: 42 | M11: 42 | N11: 0 | O11: 0 | P11: 0 | Q11: 7 | R11: 0 | S11: 0 | T11: 0 | U11: 13 | V11: 0
B12: Cherry Limeade | C12: 150 | D12: 0 | E12: 0 | F12: 0 | G12: 0 | H12: 0 | I12: 25 | J12: 38 | K12: 0 | L12: 36 | M12: 36 | N12: 0 | O12: 0 | P12: 0 | Q12: 6.81509 | R12: 0 | S12: 0.041608 | T12: 0 | U12: 10 | V12: 0
B13: Chocolate | C13: 230 | D13: 5 | E13: 0 | F13: 0 | G13: 0 | H13: 0 | I13: 45 | J13: 59 | K13: 1 | L13: 56 | M13: 56 | N13: 1 | O13: 0 | P13: 0 | Q13: 10 | R13: 0 | S13: 0 | T13: 0 | U13: 59 | V13: 2
B14: Chocolate Chocolate Chip | C14: 250 | D14: 15 | E14: 2 | F14: 1 | G14: 0 | H14: 0 | I14: 40 | J14: 61 | K14: 0 | L14: 58 | M14: 58 | N14: 1 | O14: 0 | P14: 0 | Q14: 12.4386 | R14: 2 | S14: 0.970327 | T14: 6 | U14: 85 | V14: 2
B15: Cotton Candy | C15: 220 | D15: 0 | E15: 0 | F15: 0 | G15: 0 | H15: 0 | I15: 15 | J15: 54 | K15: 0 | L15: 54 | M15: 20 | N15: 0 | O15: 0 | P15: 0 | Q15: 7 | R15: 0 | S15: 0 | T15: 0 | U15: 0 | V15: 0
B16: Dr Pepper | C16: 200 | D16: 0 | E16: 0 | F16: 0 | G16: 0 | H16: 0 | I16: 20 | J16: 54 | K16: 0 | L16: 53 | M16: 20 | N16: 0 | O16: 0 | P16: 0 | Q16: 5 | R16: 0 | S16: 0 | T16: 0 | U16: 0 | V16: 0
... B58: Unicorn | C58: 190 | D58: 0 | E58: 0 | F58: 0 | G58: 0 | H58: 0 | I58: 85 | J58: 49 | K58: 0 | L58: 44 | M58: 44 | N58: 0 | O58: 0 | P58: 0 | Q58: 6 | R58: 0 | S58: 0 | T58: 0 | U58: 17 | V58: 0
A59: All-Natural Ice | B59: All Natural Banana | C59: 200 | D59: 0 | E59: 0 | F59: 0 | G59: 0 | H59: 0 | I59: 10 | J59: 40 | K59: 1 | L59: 38 | M59: 35 | N59: 0 | O59: 0 | P59: 0 | Q59: 16 | R59: 2 | S59: 0 | T59: 0 | U59: 145 | V59: 4
B60: All Natural Coconut | C60: 150 | D60: 10 | E60: 1 | F60: 1 | G60: 0 | H60: 0 | I60: 10 | J60: 36 | K60: 0 | L60: 35 | M60: 32 | N60: 0 | O60: 0 | P60: 0 | Q60: 8 | R60: 0 | S60: 1 | T60: 6 | U60: 7 | V60: 0
B61: All Natural Cranberry | C61: 160 | D61: 0 | E61: 0 | F61: 0 | G61: 0 | H61: 0 | I61: 10 | J61: 40 | K61: 0 | L61: 38 | M61: 38 | N61: 0 | O61: 0 | P61: 0 | Q61: 9 | R61: 0 | S61: 0 | T61: 0 | U61: 6 | V61: 0
B62: All Natural Cranberry Pineapple | C62: 150 | D62: 0 | E62: 0 | F62: 0 | G62: 0 | H62: 0 | I62: 10 | J62: 40 | K62: 0 | L62: 39 | M62: 37 | N62: 0 | O62: 0 | P62: 0 | Q62: 9 | R62: 0 | S62: 0 | T62: 0 | U62: 15 | V62: 0
B63: All Natural Cranberry Strawberry | C63: 200 | D63: 0 | E63: 0 | F63: 0 | G63: 0 | H63: 0 | I63: 10 | J63: 38 | K63: 1 | L63: 36 | M63: 35 | N63: 0 | O63: 0 | P63: 0 | Q63: 19 | R63: 2 | S63: 0 | T63: 0 | U63: 112 | V63: 2
B64: All Natural Orange | C64: 160 | D64: 0 | E64: 0 | F64: 0 | G64: 0 | H64: 0 | I64: 10 | J64: 40 | K64: 0 | L64: 39 | M64: 36 | N64: 0 | O64: 0 | P64: 0 | Q64: 13 | R64: 2 | S64: 0 | T64: 0 | U64: 67 | V64: 2
B65: All Natural Pineapple | C65: 170 | D65: 0 | E65: 0 | F65: 0 | G65: 0 | H65: 0 | I65: 10 | J65: 43 | K65: 0 | L65: 42 | M65: 37 | N65: 0 | O65: 0 | P65: 0 | Q65: 11 | R65: 0 | S65: 0 | T65: 0 | U65: 39 | V65: 0
B66: All Natural Pineapple Coconut | C66: 150 | D66: 5 | E66: 0.5 | F66: 0.5 | G66: 0 | H66: 0 | I66: 10 | J66: 37 | K66: 0 | L66: 36 | M66: 32 | N66: 0 | O66: 0 | P66: 0 | Q66: 8 | R66: 0 | S66: 1 | T66: 6 | U66: 12 | V66: 0
B67: All Natural Strawberry | C67: 220 | D67: 0 | E67: 0 | F67: 0 | G67: 0 | H67: 0 | I67: 10 | J67: 34 | K67: 2 | L67: 32 | M67: 31 | N67: 1 | O67: 0 | P67: 0 | Q67: 26 | R67: 2 | S67: 0 | T67: 0 | U67: 199 | V67: 4
B68: All Natural Strawberry Banana | C68: 190 | D68: 0 | E68: 0 | F68: 0 | G68: 0 | H68: 0 | I68: 10 | J68: 35 | K68: 1 | L68: 34 | M68: 32 | N68: 0 | O68: 0 | P68: 0 | Q68: 18 | R68: 2 | S68: 0 | T68: 0 | U68: 134 | V68: 2
B69: All Natural Strawberry Pineapple | C69: 170 | D69: 0 | E69: 0 | F69: 0 | G69: 0 | H69: 0 | I69: 10 | J69: 32 | K69: 1 | L69: 31 | M69: 29 | N69: 0 | O69: 0 | P69: 0 | Q69: 18 | R69: 2 | S69: 0 | T69: 0 | U69: 124 | V69: 2
B70: All-Natural Orange-Pineapple | C70: 170 | D70: 0 | E70: 0 | F70: 0 | G70: 0 | H70: 0 | I70: 10 | J70: 41 | K70: 0 | L70: 40 | M70: 36 | N70: 0 | O70: 0 | P70: 0 | Q70: 12 | R70: 0 | S70: 0 | T70: 0 | U70: 55 | V70: 2
A71: Cream Ice | B71: Birthday Cake | C71: 240 | D71: 25 | E71: 3 | F71: 2.5 | G71: 0 | H71: 0 | I71: 125 | J71: 53 | K71: 0 | L71: 48 | M71: 41 | N71: 0 | O71: 0 | P71: 0 | Q71: 26 | R71: 2 | S71: 0 | T71: 0 | U71: 5 | V71: 0
B72: Banana Split Cream | C72: 240 | D72: 30 | E72: 3.5 | F72: 2.5 | G72: 0 | H72: 0 | I72: 35 | J72: 54 | K72: 0 | L72: 50 | M72: 22 | N72: 0 | O72: 0 | P72: 0 | Q72: 10.1461 | R72: 2 | S72: 0.393181 | T72: 2 | U72: 20 | V72: 1
B73: Black Cherry Cheesecake | C73: 230 | D73: 25 | E73: 2.5 | F73: 2 | G73: 0 | H73: 0 | I73: 50 | J73: 52 | K73: 0 | L73: 49 | M73: 20 | N73: 0 | O73: 0 | P73: 0 | Q73: 11 | R73: 0 | S73: 0 | T73: 0 | U73: 5 | V73: 0
B74: Brookie Dough | C74: 260 | D74: 40 | E74: 4.5 | F74: 3 | G74: 0 | H74: 0 | I74: 90 | J74: 54 | K74: 0 | L74: 47 | M74: 45 | N74: 1 | O74: 0 | P74: 0 | Q74: 12 | R74: 0 | S74: 0 | T74: 0 | U74: 40 | V74: 0
B75: Caramel (dulce) | C75: 260 | D75: 25 | E75: 2.5 | F75: 2 | G75: 0 | H75: 0 | I75: 110 | J75: 59 | K75: 0 | L75: 53 | M75: 42 | N75: 0 | O75: 0 | P75: 0 | Q75: 8 | R75: 0 | S75: 0 | T75: 0 | U75: 21 | V75: 0
B76: Cheesecake | C76: 220 | D76: 25 | E76: 2.5 | F76: 2.5 | G76: 0 | H76: 0 | I76: 55 | J76: 51 | K76: 0 | L76: 48 | M76: 21 | N76: 0 | O76: 0 | P76: 0 | Q76: 6 | R76: 0 | S76: 0 | T76: 0 | U76: 5 | V76: 0
B77: Chocolate Chip Cheesecake | C77: 250 | D77: 40 | E77: 4 | F77: 3 | G77: 0 | H77: 0 | I77: 50 | J77: 53 | K77: 0 | L77: 50 | M77: 24 | N77: 1 | O77: 0 | P77: 0 | Q77: 8.57823 | R77: 0 | S77: 0.602658 | T77: 4 | U77: 35 | V77: 1
B78: Chocolate Covered Banana | C78: 250 | D78: 35 | E78: 4 | F78: 3 | G78: 0 | H78: 0 | I78: 55 | J78: 55 | K78: 0 | L78: 52 | M78: 21 | N78: 1 | O78: 0 | P78: 0 | Q78: 16 | R78: 2 | S78: 0 | T78: 0 | U78: 27 | V78: 0
B79: Chocolate Covered Strawberry | C79: 250 | D79: 40 | E79: 4.5 | F79: 3.5 | G79: 0 | H79: 0 | I79: 60 | J79: 54 | K79: 0 | L79: 50 | M79: 47 | N79: 1 | O79: 0 | P79: 0 | Q79: 16.6959 | R79: 2 | S79: 0.704563 | T79: 4 | U79: 35 | V79: 1
B80: Coconut Cream | C80: 220 | D80: 25 | E80: 3 | F80: 2.5 | G80: 0 | H80: 0 | I80: 50 | J80: 50 | K80: 0 | L80: 46 | M80: 44 | N80: 0 | O80: 0 | P80: 0 | Q80: 7 | R80: 0 | S80: 0 | T80: 0 | U80: 7 | V80: 0
B81: Cookie Dough | C81: 240 | D81: 35 | E81: 4 | F81: 2.5 | G81: 0 | H81: 0 | I81: 70 | J81: 52 | K81: 0 | L81: 47 | M81: 47 | N81: 1 | O81: 0 | P81: 0 | Q81: 7.72262 | R81: 0 | S81: 0.311234 | T81: 2 | U81: 35 | V81: 1
...

Sheet Kids (7 oz)
A1: CUP - 7 oz
A3: Flavor | B3: Calories | C3: Calories from Fat | D3: Fat | E3: Saturated Fat | F3: Trans Fat | G3: Cholesterol | H3: Sodium | I3: Total Carbohydrates | J3: Dietary Fiber | K3: Total Sugar | L3: Added Sugar | M3: Protein | N3: Vitamin D | O3: Vitamin D (% DV) | P3: Calcium | Q3: Calcium (%DV) | R3: Iron | S3: Iron (%DV) | T3: Potassium | U3: Potassium (%DV)
A4: All Natural Cranberry Pineapple | B4: 130 | C4: 0 | D4: 0 | E4: 0 | F4: 0 | G4: 0 | H4: 10 | I4: 34 | J4: 0 | K4: 33 | L4: 32 | M4: 0 | N4: 0 | O4: 0 | P4: 8.04805 | Q4: 0 | R4: 0.146538 | S4: 0 | T4: 15 | U4: 0
A5: All Natural Cranberry Strawberry | B5: 170 | C5: 0 | D5: 0 | E5: 0 | F5: 0 | G5: 0 | H5: 5 | I5: 33 | J5: 0 | K5: 30 | L5: 30 | M5: 0 | N5: 0 | O5: 0 | P5: 16.0042 | Q5: 2 | R5: 0.150967 | S5: 0 | T5: 95 | U5: 3
A6: All Natural Orange-Pineapple | B6: 140 | C6: 0 | D6: 0 | E6: 0 | F6: 0 | G6: 0 | H6: 10 | I6: 35 | J6: 0 | K6: 34 | L6: 31 | M6: 0 | N6: 0 | O6: 0 | P6: 10.4482 | Q6: 2 | R6: 0.174413 | S6: 0 | T6: 45 | U6: 1
A7: All Natural Strawberry Pineapple | B7: 150 | C7: 0 | D7: 0 | E7: 0 | F7: 0 | G7: 0 | H7: 10 | I7: 28 | J7: 0 | K7: 26 | L7: 25 | M7: 0 | N7: 0 | O7: 0 | P7: 15.6204 | Q7: 2 | R7: 0.115109 | S7: 0 | T7: 105 | U7: 3
A8: All Natural Strawberry-Banana | B8: 160 | C8: 0 | D8: 0 | E8: 0 | F8: 0 | G8: 0 | H8: 10 | I8: 30 | J8: 0 | K8: 29 | L8: 27 | M8: 0 | N8: 0 | O8: 0 | P8: 15.5558 | Q8: 2 | R8: 0.128944 | S8: 0 | T8: 115 | U8: 3
A9: All-Natural Banana | B9: 170 | C9: 0 | D9: 0 | E9: 0 | F9: 0 | G9: 0 | H9: 10 | I9: 34 | J9: 0 | K9: 32 | L9: 30 | M9: 0 | N9: 0 | O9: 0 | P9: 13.98 | Q9: 2 | R9: 0.122437 | S9: 0 | T9: 125 | U9: 4
A10: All-Natural Coconut | B10: 130 | C10: 5 | D10: 1 | E10: 1 | F10: 0 | G10: 0 | H10: 10 | I10: 30 | J10: 0 | K10: 30 | L10: 27 | M10: 0 | N10: 0 | O10: 0 | P10: 7.09738 | Q10: 0 | R10: 0.529537 | S10: 2 | T10: 5 | U10: 0
A11: All-Natural Cranberry | B11: 130 | C11: 0 | D11: 0 | E11: 0 | F11: 0 | G11: 0 | H11: 10 | I11: 34 | J11: 0 | K11: 33 | L11: 32 | M11: 0 | N11: 0 | O11: 0 | P11: 7.54571 | Q11: 0 | R11: 0.116569 | S11: 0 | T11: 5 | U11: 0
A12: All-Natural Orange | B12: 140 | C12: 0 | D12: 0 | E12: 0 | F12: 0 | G12: 0 | H12: 10 | I12: 34 | J12: 0 | K12: 33 | L12: 31 | M12: 0 | N12: 0 | O12: 0 | P12: 11.0418 | Q12: 2 | R12: 0.114701 | S12: 0 | T12: 55 | U12: 2
A13: All Natural Pineapple Coconut | B13: 130 | C13: 5 | D13: 0.5 | E13: 0.5 | F13: 0 | G13: 0 | H13: 10 | I13: 32 | J13: 0 | K13: 31 | L13: 28 | M13: 0 | N13: 0 | O13: 0 | P13: 7.17886 | Q13: 0 | R13: 0.441326 | S13: 2 | T13: 10 | U13: 0
A14: All-Natural Pineapple | B14: 150 | C14: 0 | D14: 0 | E14: 0 | F14: 0 | G14: 0 | H14: 10 | I14: 36 | J14: 0 | K14: 36 | L14: 32 | M14: 0 | N14: 0 | O14: 0 | P14: 9.63241 | Q14: 0 | R14: 0.2526 | S14: 2 | T14: 35 | U14: 1
A15: All-Natural Strawberry | B15: 190 | C15: 0 | D15: 0 | E15: 0 | F15: 0 | G15: 0 | H15: 5 | I15: 29 | J15: 0 | K15: 27 | L15: 27 | M15: 1 | N15: 0 | O15: 0 | P15: 21.8354 | Q15: 2 | R15: 0.107218 | S15: 0 | T15: 170 | U15: 5
... A104: Unicorn | B104: 160 | C104: 0 | D104: 0 | E104: 0 | F104: 0 | G104: 0 | H104: 75 | I104: 42 | J104: 0 | K104: 38 | L104: 38 | M104: 0 | N104: 0 | O104: 0 | P104: 6 | Q104: 0 | R104: 0 | S104: 0 | T104: 15 | U104: 0
A107: Range | B107: =MIN(B4:B104) &" - "& MAX(B4:B104) -> 70 - 250 | C107: =MIN(C4:C104) &" - "& MAX(C4:C104) -> 0 - 50 | D107: =MIN(D4:D104) &" - "& MAX(D4:D104) -> 0 - 6 | E107: =MIN(E4:E104) &" - "& MAX(E4:E104) -> 0 - 3 | F107: =MIN(F4:F104) &" - "& MAX(F4:F104) -> 0 - 0 | G107: =MIN(G4:G104) &" - "& MAX(G4:G104) -> 0 - 0 | H107: =MIN(H4:H104) &" - "& MAX(H4:H104) -> 5 - 110 | I107: =MIN(I4:I104) &" - "& MAX(I4:I104) -> 25 - 61 | ... U107: =MIN(U4:U104) &" - "& MAX(U4:U104) -> 0 - 5
A108: Average | B108: =AVERAGE(B4:B104) -> 167.82178 | C108: =AVERAGE(C4:C104) -> 7.8217822 | D108: =AVERAGE(D4:D104) -> 0.85643564 | E108: =AVERAGE(E4:E104) -> 0.6039604 | F108: =AVERAGE(F4:F104) -> 0 | G108: =AVERAGE(G4:G104) -> 0 | H108: =AVERAGE(H4:H104) -> 32.920792 | I108: =AVERAGE(I4:I104) -> 40.485149 | ... U108: =AVERAGE(U4:U104) -> 0.55445545

Sheet Kids 
A1: Italian Ice
A2: Kids Portion (8.2 oz)
A3: Flavor Type | B3: Flavor | C3: Calories | D3: Calories | E3: Calories from Fat | F3: Calories from Fat | G3: Fat | H3: Fat | I3: Saturated Fat | J3: Saturated Fat | K3: Trans Fat | L3: Trans Fat | M3: Cholesterol | N3: Cholesterol | O3: Sodium | P3: Sodium | Q3: Total Carbohydrates | R3: Total Carbohydrates | S3: Dietary Fiber | T3: Dietary Fiber | U3: Total Sugar | V3: Total Sugar | W3: Added Sugar | X3: Added Sugar | Y3: Protein | Z3: Protein | AA3: Vitamin D | AB3: Vitamin D | AC3: Vitamin D (% DV) | AD3: Vitamin D (% DV) | AE3: Calcium | AF3: Calcium | AG3: Calcium (%DV) | AH3: Calcium (%DV) | AI3: Iron | AJ3: Iron | AK3: Iron (%DV) | AL3: Iron (%DV) | AM3: Potassium | AN3: Potassium | AO3: Potassium (%DV) | AP3: Potassium (%DV)
A4: Italian Ice | B4: Apple Berry Blue | C4: 180.573 | D4: =MROUND(C4,10) -> 180 | E4: 0 | F4: =IF(E4<5,0,(IF(E4>50,MROUND(E4,10),MROUND(E4,5)))) -> 0 | G4: 0 | H4: =IF(G4<0.5,0,MROUND(G4,5)) -> 0 | I4: 0 | J4: =IF(I4<0.5,0,MROUND(I4,5)) -> 0 | K4: 0 | L4: =IF(K4<0.5,0,MROUND(K4,5)) -> 0 | M4: 0 | N4: 0 | O4: 29.085 | P4: =MROUND(O4,5) -> 30 | Q4: 45.711 | R4: =(MROUND(Q4,1)) -> 46 | S4: 0.015 | T4: 0 | U4: 44.305 | V4: =(MROUND(U4,1)) -> 44 | W4: 42.853 | X4: =(MROUND(W4,1)) -> 43 | Y4: 0 | Z4: 0 | AA4: 0 | AB4: =MROUND(AA4,1) -> 0 | AC4: 0 | AD4: =IF(AC4<1,"*",IF(AC4>1,((MROUND(AC4,2))*0.01))) -> * | AE4: 5.934 | AF4: =MROUND(AE4,1) -> 6 | AG4: 0.456 | AH4: =IF(AG4<1,"*",IF(AG4>1,((MROUND(AG4,2))*0.01))) -> * | AI4: 0.025 | AJ4: =MROUND(AI4,1) -> 0 | AK4: 0.136 | AL4: =IF(AK4<1,"*",IF(AK4>1,((MROUND(AK4,2))*0.01))) -> * | AM4: 0.504 | AN4: =MROUND(AM4,1) -> 1 | AO4: 0.011 | AP4: =IF(AO4<1,"*",IF(AO4>1,((MROUND(AO4,2))*0.01))) -> *
A5: Italian Ice | B5: Banana | C5: 215.023 | D5: =MROUND(C5,10) -> 220 | E5: 0.521 | F5: =IF(E5<5,0,(IF(E5>50,MROUND(E5,10),MROUND(E5,5)))) -> 0 | G5: 0.058 | H5: =IF(G5<0.5,0,MROUND(G5,5)) -> 0 | I5: 0.048 | J5: =IF(I5<0.5,0,MROUND(I5,5)) -> 0 | K5: 0.002 | L5: =IF(K5<0.5,0,MROUND(K5,5)) -> 0 | M5: 0 | N5: 0 | O5: 24.719 | P5: =MROUND(O5,5) -> 25 | Q5: 54.417 | R5: =(MROUND(Q5,1)) -> 54 | S5: 0.234 | T5: 0 | U5: 51.967 | V5: =(MROUND(U5,1)) -> 52 | W5: 50.423 | X5: =(MROUND(W5,1)) -> 50 | Y5: 0.083 | Z5: 0 | AA5: 0 | AB5: =MROUND(AA5,1) -> 0 | AC5: 0 | AD5: =IF(AC5<1,"*",IF(AC5>1,((MROUND(AC5,2))*0.01))) -> * | AE5: 5.531 | AF5: =MROUND(AE5,1) -> 6 | AG5: 0.425 | AH5: =IF(AG5<1,"*",IF(AG5>1,((MROUND(AG5,2))*0.01))) -> * | AI5: 0.042 | AJ5: =MROUND(AI5,1) -> 0 | AK5: 0.233 | AL5: =IF(AK5<1,"*",IF(AK5>1,((MROUND(AK5,2))*0.01))) -> * | AM5: 42.168 | AN5: =MROUND(AM5,1) -> 42 | AO5: 0.897 | AP5: =IF(AO5<1,"*",IF(AO5>1,((MROUND(AO5,2))*0.01))) -> *
A6: Italian Ice | B6: Blue Raspberry | C6: 203.962 | D6: =MROUND(C6,10) -> 200 | E6: 0 | F6: =IF(E6<5,0,(IF(E6>50,MROUND(E6,10),MROUND(E6,5)))) -> 0 | G6: 0 | H6: =IF(G6<0.5,0,MROUND(G6,5)) -> 0 | I6: 0 | J6: =IF(I6<0.5,0,MROUND(I6,5)) -> 0 | K6: 0 | L6: =IF(K6<0.5,0,MROUND(K6,5)) -> 0 | M6: 0 | N6: 0 | O6: 28.13 | P6: =MROUND(O6,5) -> 30 | Q6: 51.729 | R6: =(MROUND(Q6,1)) -> 52 | S6: 0.021 | T6: 0 | U6: 50.413 | V6: =(MROUND(U6,1)) -> 50 | W6: 50.413 | X6: =(MROUND(W6,1)) -> 50 | Y6: 0 | Z6: 0 | AA6: 0 | AB6: =MROUND(AA6,1) -> 0 | AC6: 0 | AD6: =IF(AC6<1,"*",IF(AC6>1,((MROUND(AC6,2))*0.01))) -> * | AE6: 10.038 | AF6: =MROUND(AE6,1) -> 10 | AG6: 0.772 | AH6: =IF(AG6<1,"*",IF(AG6>1,((MROUND(AG6,2))*0.01))) -> * | AI6: 0.36 | AJ6: =MROUND(AI6,1) -> 0 | AK6: 2.001 | AL6: =IF(AK6<1,"*",IF(AK6>1,((MROUND(AK6,2))*0.01))) -> 0.02 | AM6: 47.768 | AN6: =MROUND(AM6,1) -> 48 | AO6: 1.016 | AP6: =IF(AO6<1,"*",IF(AO6>1,((MROUND(AO6,2))*0.01))) -> 0.02
A7: Italian Ice | B7: Blueberry | C7: 204.729 | D7: =MROUND(C7,10) -> 200 | E7: 0.2422 | F7: =IF(E7<5,0,(IF(E7>50,MROUND(E7,10),MROUND(E7,5)))) -> 0 | G7: 0 | H7: =IF(G7<0.5,0,MROUND(G7,5)) -> 0 | I7: 0.002 | J7: =IF(I7<0.5,0,MROUND(I7,5)) -> 0 | K7: 0 | L7: =IF(K7<0.5,0,MROUND(K7,5)) -> 0 | M7: 0 | N7: 0 | O7: 28.408 | P7: =MROUND(O7,5) -> 30 | Q7: 51.866 | R7: =(MROUND(Q7,1)) -> 52 | S7: 0.134 | T7: 0 | U7: 50.371 | V7: =(MROUND(U7,1)) -> 50 | W7: 50.016 | X7: =(MROUND(W7,1)) -> 50 | Y7: 0.018 | Z7: 0 | AA7: 0 | AB7: =MROUND(AA7,1) -> 0 | AC7: 0 | AD7: =IF(AC7<1,"*",IF(AC7>1,((MROUND(AC7,2))*0.01))) -> * | AE7: 26.392 | AF7: =MROUND(AE7,1) -> 26 | AG7: 2.03 | AH7: =IF(AG7<1,"*",IF(AG7>1,((MROUND(AG7,2))*0.01))) -> 0.02 | AI7: 0.197 | AJ7: =MROUND(AI7,1) -> 0 | AK7: 1.095 | AL7: =IF(AK7<1,"*",IF(AK7>1,((MROUND(AK7,2))*0.01))) -> 0.02 | AM7: 5.036 | AN7: =MROUND(AM7,1) -> 5 | AO7: 0.107 | AP7: =IF(AO7<1,"*",IF(AO7>1,((MROUND(AO7,2))*0.01))) -> *
A8: Italian Ice | B8: Blueberry Lemonade | C8: 146.504 | D8: =MROUND(C8,10) -> 150 | E8: 0.0491 | F8: =IF(E8<5,0,(IF(E8>50,MROUND(E8,10),MROUND(E8,5)))) -> 0 | G8: 0.037 | H8: =IF(G8<0.5,0,MROUND(G8,5)) -> 0 | I8: 0.001 | J8: =IF(I8<0.5,0,MROUND(I8,5)) -> 0 | K8: 0 | L8: =IF(K8<0.5,0,MROUND(K8,5)) -> 0 | M8: 0 | N8: 0 | O8: 25.664 | P8: =MROUND(O8,5) -> 25 | Q8: 38.037 | R8: =(MROUND(Q8,1)) -> 38 | S8: 0.188 | T8: 0 | U8: 35.118 | V8: =(MROUND(U8,1)) -> 35 | W8: 34.482 | X8: =(MROUND(W8,1)) -> 34 | Y8: 0.117 | Z8: 0 | AA8: 0 | AB8: =MROUND(AA8,1) -> 0 | AC8: 0 | AD8: =IF(AC8<1,"*",IF(AC8>1,((MROUND(AC8,2))*0.01))) -> * | AE8: 16.005 | AF8: =MROUND(AE8,1) -> 16 | AG8: 1.231 | AH8: =IF(AG8<1,"*",IF(AG8>1,((MROUND(AG8,2))*0.01))) -> 0.02 | AI8: 0.07 | AJ8: =MROUND(AI8,1) -> 0 | AK8: 0.39 | AL8: =IF(AK8<1,"*",IF(AK8>1,((MROUND(AK8,2))*0.01))) -> * | AM8: 14.334 | AN8: =MROUND(AM8,1) -> 14 | AO8: 0.305 | AP8: =IF(AO8<1,"*",IF(AO8>1,((MROUND(AO8,2))*0.01))) -> *
A9: Italian Ice | B9: Cantaloupe | C9: 174.194 | D9: =MROUND(C9,10) -> 170 | E9: 0.075 | F9: =IF(E9<5,0,(IF(E9>50,MROUND(E9,10),MROUND(E9,5)))) -> 0 | G9: 0.008 | H9: =IF(G9<0.5,0,MROUND(G9,5)) -> 0 | I9: 0.002 | J9: =IF(I9<0.5,0,MROUND(I9,5)) -> 0 | K9: 0 | L9: =IF(K9<0.5,0,MROUND(K9,5)) -> 0 | M9: 0 | N9: 0 | O9: 28.71 | P9: =MROUND(O9,5) -> 30 | Q9: 44.247 | R9: =(MROUND(Q9,1)) -> 44 | S9: 0.04 | T9: 0 | U9: 42.266 | V9: =(MROUND(U9,1)) -> 42 | W9: 41.92 | X9: =(MROUND(W9,1)) -> 42 | Y9: 0.042 | Z9: 0 | AA9: 0 | AB9: =MROUND(AA9,1) -> 0 | AC9: 0 | AD9: =IF(AC9<1,"*",IF(AC9>1,((MROUND(AC9,2))*0.01))) -> * | AE9: 6.591 | AF9: =MROUND(AE9,1) -> 7 | AG9: 0.507 | AH9: =IF(AG9<1,"*",IF(AG9>1,((MROUND(AG9,2))*0.01))) -> * | AI9: 0.043 | AJ9: =MROUND(AI9,1) -> 0 | AK9: 0.24 | AL9: =IF(AK9<1,"*",IF(AK9>1,((MROUND(AK9,2))*0.01))) -> * | AM9: 0.698 | AN9: =MROUND(AM9,1) -> 1 | AO9: 0.015 | AP9: =IF(AO9<1,"*",IF(AO9>1,((MROUND(AO9,2))*0.01))) -> *
A10: Italian Ice | B10: Carnival | C10: 186.99 | D10: =MROUND(C10,10) -> 190 | E10: 0 | F10: =IF(E10<5,0,(IF(E10>50,MROUND(E10,10),MROUND(E10,5)))) -> 0 | G10: 0 | H10: =IF(G10<0.5,0,MROUND(G10,5)) -> 0 | I10: 0 | J10: =IF(I10<0.5,0,MROUND(I10,5)) -> 0 | K10: 0 | L10: =IF(K10<0.5,0,MROUND(K10,5)) -> 0 | M10: 0 | N10: 0 | O10: 25.159 | P10: =MROUND(O10,5) -> 25 | Q10: 47.268 | R10: =(MROUND(Q10,1)) -> 47 | S10: 0 | T10: 0 | U10: 45.468 | V10: =(MROUND(U10,1)) -> 45 | W10: 45.787 | X10: =(MROUND(W10,1)) -> 46 | Y10: 0 | Z10: 0 | AA10: 0 | AB10: =MROUND(AA10,1) -> 0 | AC10: 0 | AD10: =IF(AC10<1,"*",IF(AC10>1,((MROUND(AC10,2))*0.01))) -> * | AE10: 6.821 | AF10: =MROUND(AE10,1) -> 7 | AG10: 0.525 | AH10: =IF(AG10<1,"*",IF(AG10>1,((MROUND(AG10,2))*0.01))) -> * | AI10: 0.051 | AJ10: =MROUND(AI10,1) -> 0 | AK10: 0.283 | AL10: =IF(AK10<1,"*",IF(AK10>1,((MROUND(AK10,2))*0.01))) -> * | AM10: 2.95 | AN10: =MROUND(AM10,1) -> 3 | AO10: 0.063 | AP10: =IF(AO10<1,"*",IF(AO10>1,((MROUND(AO10,2))*0.01))) -> *
A11: Italian Ice | B11: Cherry | C11: 157.576 | D11: =MROUND(C11,10) -> 160 | E11: 0 | F11: =IF(E11<5,0,(IF(E11>50,MROUND(E11,10),MROUND(E11,5)))) -> 0 | G11: 0.021 | H11: =IF(G11<0.5,0,MROUND(G11,5)) -> 0 | I11: 0 | J11: =IF(I11<0.5,0,MROUND(I11,5)) -> 0 | K11: 0 | L11: =IF(K11<0.5,0,MROUND(K11,5)) -> 0 | M11: 0 | N11: 0 | O11: 27.006 | P11: =MROUND(O11,5) -> 25 | Q11: 40.533 | R11: =(MROUND(Q11,1)) -> 41 | S11: 0.081 | T11: 0 | U11: 38.112 | V11: =(MROUND(U11,1)) -> 38 | W11: 36.842 | X11: =(MROUND(W11,1)) -> 37 | Y11: 0.021 | Z11: 0 | AA11: 0 | AB11: =MROUND(AA11,1) -> 0 | AC11: 0 | AD11: =IF(AC11<1,"*",IF(AC11>1,((MROUND(AC11,2))*0.01))) -> * | AE11: 8.445 | AF11: =MROUND(AE11,1) -> 8 | AG11: 0.65 | AH11: =IF(AG11<1,"*",IF(AG11>1,((MROUND(AG11,2))*0.01))) -> * | AI11: 0.034 | AJ11: =MROUND(AI11,1) -> 0 | AK11: 0.187 | AL11: =IF(AK11<1,"*",IF(AK11>1,((MROUND(AK11,2))*0.01))) -> * | AM11: 26.525 | AN11: =MROUND(AM11,1) -> 27 | AO11: 0.564 | AP11: =IF(AO11<1,"*",IF(AO11>1,((MROUND(AO11,2))*0.01))) -> *
A12: Italian Ice | B12: Cherry Lemonade | C12: 170.202 | D12: =MROUND(C12,10) -> 170 | E12: 0.242 | F12: =IF(E12<5,0,(IF(E12>50,MROUND(E12,10),MROUND(E12,5)))) -> 0 | G12: 0.027 | H12: =IF(G12<0.5,0,MROUND(G12,5)) -> 0 | I12: 0 | J12: =IF(I12<0.5,0,MROUND(I12,5)) -> 0 | K12: 0 | L12: =IF(K12<0.5,0,MROUND(K12,5)) -> 0 | M12: 0 | N12: 0 | O12: 22.956 | P12: =MROUND(O12,5) -> 25 | Q12: 44.176 | R12: =(MROUND(Q12,1)) -> 44 | S12: 0.042 | T12: 0 | U12: 41.103 | V12: =(MROUND(U12,1)) -> 41 | W12: 40.824 | X12: =(MROUND(W12,1)) -> 41 | Y12: 0.075 | Z12: 0 | AA12: 0 | AB12: =MROUND(AA12,1) -> 0 | AC12: 0.003 | AD12: =IF(AC12<1,"*",IF(AC12>1,((MROUND(AC12,2))*0.01))) -> * | AE12: 11.038 | AF12: =MROUND(AE12,1) -> 11 | AG12: 0.849 | AH12: =IF(AG12<1,"*",IF(AG12>1,((MROUND(AG12,2))*0.01))) -> * | AI12: 0.288 | AJ12: =MROUND(AI12,1) -> 0 | AK12: 1.601 | AL12: =IF(AK12<1,"*",IF(AK12>1,((MROUND(AK12,2))*0.01))) -> 0.02 | AM12: 59.519 | AN12: =MROUND(AM12,1) -> 60 | AO12: 1.266 | AP12: =IF(AO12<1,"*",IF(AO12>1,((MROUND(AO12,2))*0.01))) -> 0.02
A13: Italian Ice | B13: Cherry Limeade | C13: 191.065 | D13: =MROUND(C13,10) -> 190 | E13: 0.035 | F13: =IF(E13<5,0,(IF(E13>50,MROUND(E13,10),MROUND(E13,5)))) -> 0 | G13: 0.004 | H13: =IF(G13<0.5,0,MROUND(G13,5)) -> 0 | I13: 0 | J13: =IF(I13<0.5,0,MROUND(I13,5)) -> 0 | K13: 0 | L13: =IF(K13<0.5,0,MROUND(K13,5)) -> 0 | M13: 0 | N13: 0 | O13: 39.048 | P13: =MROUND(O13,5) -> 40 | Q13: 48.826 | R13: =(MROUND(Q13,1)) -> 49 | S13: 0.088 | T13: 0 | U13: 46.437 | V13: =(MROUND(U13,1)) -> 46 | W13: 46.403 | X13: =(MROUND(W13,1)) -> 46 | Y13: 0.023 | Z13: 0 | AA13: 0 | AB13: =MROUND(AA13,1) -> 0 | AC13: 0 | AD13: =IF(AC13<1,"*",IF(AC13>1,((MROUND(AC13,2))*0.01))) -> * | AE13: 6.061 | AF13: =MROUND(AE13,1) -> 6 | AG13: 0.466 | AH13: =IF(AG13<1,"*",IF(AG13>1,((MROUND(AG13,2))*0.01))) -> * | AI13: 0.024 | AJ13: =MROUND(AI13,1) -> 0 | AK13: 0.134 | AL13: =IF(AK13<1,"*",IF(AK13>1,((MROUND(AK13,2))*0.01))) -> * | AM13: 12.544 | AN13: =MROUND(AM13,1) -> 13 | AO13: 0.267 | AP13: =IF(AO13<1,"*",IF(AO13>1,((MROUND(AO13,2))*0.01))) -> *
A14: Italian Ice | B14: Chocolate | C14: 230.651 | D14: =MROUND(C14,10) -> 230 | E14: 2.525 | F14: =IF(E14<5,0,(IF(E14>50,MROUND(E14,10),MROUND(E14,5)))) -> 0 | G14: 0.281 | H14: =IF(G14<0.5,0,MROUND(G14,5)) -> 0 | I14: 0.166 | J14: =IF(I14<0.5,0,MROUND(I14,5)) -> 0 | K14: 0 | L14: =IF(K14<0.5,0,MROUND(K14,5)) -> 0 | M14: 0 | N14: 0 | O14: 43.544 | P14: =MROUND(O14,5) -> 45 | Q14: 58.8 | R14: =(MROUND(Q14,1)) -> 59 | S14: 0.821 | T14: less than 1 g | U14: 55.857 | V14: =(MROUND(U14,1)) -> 56 | W14: 55.627 | X14: =(MROUND(W14,1)) -> 56 | Y14: 0.831 | Z14: less than 1 g | AA14: 0.004 | AB14: =MROUND(AA14,1) -> 0 | AC14: 0 | AD14: =IF(AC14<1,"*",IF(AC14>1,((MROUND(AC14,2))*0.01))) -> * | AE14: 5.38 | AF14: =MROUND(AE14,1) -> 5 | AG14: 0.414 | AH14: =IF(AG14<1,"*",IF(AG14>1,((MROUND(AG14,2))*0.01))) -> * | AI14: 0.009 | AJ14: =MROUND(AI14,1) -> 0 | AK14: 0.05 | AL14: =IF(AK14<1,"*",IF(AK14>1,((MROUND(AK14,2))*0.01))) -> * | AM14: 0.758 | AN14: =MROUND(AM14,1) -> 1 | AO14: 0.016 | AP14: =IF(AO14<1,"*",IF(AO14>1,((MROUND(AO14,2))*0.01))) -> *
A15: Italian Ice | B15: Chocolate Chocolate Chip | C15: 261.341 | D15: =MROUND(C15,10) -> 260 | E15: 17.663 | F15: =IF(E15<5,0,(IF(E15>50,MROUND(E15,10),MROUND(E15,5)))) -> 20 | G15: 1.995 | H15: =MROUND(G15,0.5) -> 2 | I15: 1.188 | J15: =MROUND(I15,0.5) -> 1 | K15: 0 | L15: =IF(K15<0.5,0,MROUND(K15,5)) -> 0 | M15: 0 | N15: 0 | O15: 43.386 | P15: =MROUND(O15,5) -> 45 | Q15: 63.383 | R15: =(MROUND(Q15,1)) -> 63 | S15: 1.344 | T15: =(MROUND(S15,1)) -> 1 | U15: 59.582 | V15: =(MROUND(U15,1)) -> 60 | W15: 59.351 | X15: =(MROUND(W15,1)) -> 59 | Y15: 0.831 | Z15: less than 1 g | AA15: 0.004 | AB15: =MROUND(AA15,1) -> 0 | AC15: 0 | AD15: =IF(AC15<1,"*",IF(AC15>1,((MROUND(AC15,2))*0.01))) -> * | AE15: 0.001 | AF15: =MROUND(AE15,1) -> 0 | AG15: 1.088 | AH15: =IF(AG15<1,"*",IF(AG15>1,((MROUND(AG15,2))*0.01))) -> 0.02 | AI15: 0.071 | AJ15: =MROUND(AI15,1) -> 0 | AK15: 0.392 | AL15: =IF(AK15<1,"*",IF(AK15>1,((MROUND(AK15,2))*0.01))) -> * | AM15: 12.246 | AN15: =MROUND(AM15,1) -> 12 | AO15: 0.261 | AP15: =IF(AO15<1,"*",IF(AO15>1,((MROUND(AO15,2))*0.01))) -> *
A16: Italian Ice | B16: Clementine | C16: 160.945 | D16: =MROUND(C16,10) -> 160 | E16: 0.028 | F16: =IF(E16<5,0,(IF(E16>50,MROUND(E16,10),MROUND(E16,5)))) -> 0 | G16: 0.003 | H16: =IF(G16<0.5,0,MROUND(G16,5)) -> 0 | I16: 0 | J16: =IF(I16<0.5,0,MROUND(I16,5)) -> 0 | K16: 0 | L16: =IF(K16<0.5,0,MROUND(K16,5)) -> 0 | M16: 0 | N16: 0 | O16: 22.53 | P16: =MROUND(O16,5) -> 25 | Q16: 40.688 | R16: =(MROUND(Q16,1)) -> 41 | S16: 0.047 | T16: 0 | U16: 38.727 | V16: =(MROUND(U16,1)) -> 39 | W16: 38.63 | X16: =(MROUND(W16,1)) -> 39 | Y16: 0.014 | Z16: 0 | AA16: 0 | AB16: =MROUND(AA16,1) -> 0 | AC16: 0 | AD16: =IF(AC16<1,"*",IF(AC16>1,((MROUND(AC16,2))*0.01))) -> * | AE16: 9.555 | AF16: =MROUND(AE16,1) -> 10 | AG16: 0.735 | AH16: =IF(AG16<1,"*",IF(AG16>1,((MROUND(AG16,2))*0.01))) -> * | AI16: 0.021 | AJ16: =MROUND(AI16,1) -> 0 | AK16: 0.116 | AL16: =IF(AK16<1,"*",IF(AK16>1,((MROUND(AK16,2))*0.01))) -> * | AM16: 0.831 | AN16: =MROUND(AM16,1) -> 1 | AO16: 0.018 | AP16: =IF(AO16<1,"*",IF(AO16>1,((MROUND(AO16,2))*0.01))) -> *
A17: Italian Ice | B17: Cotton Candy | C17: 195.669 | D17: =MROUND(C17,10) -> 200 | E17: 0 | F17: =IF(E17<5,0,(IF(E17>50,MROUND(E17,10),MROUND(E17,5)))) -> 0 | G17: 0 | H17: =IF(G17<0.5,0,MROUND(G17,5)) -> 0 | I17: 0 | J17: =IF(I17<0.5,0,MROUND(I17,5)) -> 0 | K17: 0 | L17: =IF(K17<0.5,0,MROUND(K17,5)) -> 0 | M17: 0 | N17: 0 | O17: 21.194 | P17: =MROUND(O17,5) -> 20 | Q17: 49.445 | R17: =(MROUND(Q17,1)) -> 49 | S17: 0 | T17: 0 | U17: 47.898 | V17: =(MROUND(U17,1)) -> 48 | W17: 47.898 | X17: =(MROUND(W17,1)) -> 48 | Y17: 0 | Z17: 0 | AA17: 0 | AB17: =MROUND(AA17,1) -> 0 | AC17: 0 | AD17: =IF(AC17<1,"*",IF(AC17>1,((MROUND(AC17,2))*0.01))) -> * | AE17: 7.108 | AF17: =MROUND(AE17,1) -> 7 | AG17: 0.547 | AH17: =IF(AG17<1,"*",IF(AG17>1,((MROUND(AG17,2))*0.01))) -> * | AI17: 0.019 | AJ17: =MROUND(AI17,1) -> 0 | AK17: 0.108 | AL17: =IF(AK17<1,"*",IF(AK17>1,((MROUND(AK17,2))*0.01))) -> * | AM17: 19.346 | AN17: =MROUND(AM17,1) -> 19 | AO17: 0.412 | AP17: =IF(AO17<1,"*",IF(AO17>1,((MROUND(AO17,2))*0.01))) -> *
A18: Italian Ice | B18: Dr. Pepper | C18: 98.273 | D18: =MROUND(C18,10) -> 100 | E18: 0 | F18: =IF(E18<5,0,(IF(E18>50,MROUND(E18,10),MROUND(E18,5)))) -> 0 | G18: 0 | H18: =IF(G18<0.5,0,MROUND(G18,5)) -> 0 | I18: 0 | J18: =IF(I18<0.5,0,MROUND(I18,5)) -> 0 | K18: 0 | L18: =IF(K18<0.5,0,MROUND(K18,5)) -> 0 | M18: 0 | N18: 0 | O18: 25.874 | P18: =MROUND(O18,5) -> 25 | Q18: 25.644 | R18: =(MROUND(Q18,1)) -> 26 | S18: 0 | T18: 0 | U18: 24.844 | V18: =(MROUND(U18,1)) -> 25 | W18: 18.834 | X18: =(MROUND(W18,1)) -> 19 | Y18: 0 | Z18: 0 | AA18: 0 | AB18: =MROUND(AA18,1) -> 0 | AC18: 0 | AD18: =IF(AC18<1,"*",IF(AC18>1,((MROUND(AC18,2))*0.01))) -> * | AE18: 6.199 | AF18: =MROUND(AE18,1) -> 6 | AG18: 0.477 | AH18: =IF(AG18<1,"*",IF(AG18>1,((MROUND(AG18,2))*0.01))) -> * | AI18: 0.027 | AJ18: =MROUND(AI18,1) -> 0 | AK18: 0.148 | AL18: =IF(AK18<1,"*",IF(AK18>1,((MROUND(AK18,2))*0.01))) -> * | AM18: 2.603 | AN18: =MROUND(AM18,1) -> 3 | AO18: 0.055 | AP18: =IF(AO18<1,"*",IF(AO18>1,((MROUND(AO18,2))*0.01))) -> *
A19: Italian Ice | B19: Georgia Peach | C19: 182.393 | D19: =MROUND(C19,10) -> 180 | E19: 0 | F19: =IF(E19<5,0,(IF(E19>50,MROUND(E19,10),MROUND(E19,5)))) -> 0 | G19: 0 | H19: =IF(G19<0.5,0,MROUND(G19,5)) -> 0 | I19: 0 | J19: =IF(I19<0.5,0,MROUND(I19,5)) -> 0 | K19: 0 | L19: =IF(K19<0.5,0,MROUND(K19,5)) -> 0 | M19: 0 | N19: 0 | O19: 21.415 | P19: =MROUND(O19,5) -> 20 | Q19: 45.943 | R19: =(MROUND(Q19,1)) -> 46 | S19: 0.179 | T19: 0 | U19: 44.518 | V19: =(MROUND(U19,1)) -> 45 | W19: 43.518 | X19: =(MROUND(W19,1)) -> 44 | Y19: 0.111 | Z19: 0 | AA19: 0 | AB19: =MROUND(AA19,1) -> 0 | AC19: 0.018 | AD19: =IF(AC19<1,"*",IF(AC19>1,((MROUND(AC19,2))*0.01))) -> * | AE19: 10.285 | AF19: =MROUND(AE19,1) -> 10 | AG19: 0.791 | AH19: =IF(AG19<1,"*",IF(AG19>1,((MROUND(AG19,2))*0.01))) -> * | AI19: 0.436 | AJ19: =MROUND(AI19,1) -> 0 | AK19: 2.419 | AL19: =IF(AK19<1,"*",IF(AK19>1,((MROUND(AK19,2))*0.01))) -> 0.02 | AM19: 59.041 | AN19: =MROUND(AM19,1) -> 59 | AO19: 1.256 | AP19: =IF(AO19<1,"*",IF(AO19>1,((MROUND(AO19,2))*0.01))) -> 0.02
A20: Italian Ice | B20: Green Apple | C20: 191.652 | D20: =MROUND(C20,10) -> 190 | E20: 0 | F20: =IF(E20<5,0,(IF(E20>50,MROUND(E20,10),MROUND(E20,5)))) -> 0 | G20: 0 | H20: =IF(G20<0.5,0,MROUND(G20,5)) -> 0 | I20: 0 | J20: =IF(I20<0.5,0,MROUND(I20,5)) -> 0 | K20: 0 | L20: =IF(K20<0.5,0,MROUND(K20,5)) -> 0 | M20: 0 | N20: 0 | O20: 29.025 | P20: =MROUND(O20,5) -> 30 | Q20: 48.597 | R20: =(MROUND(Q20,1)) -> 49 | S20: 0.011 | T20: 0 | U20: 47.13 | V20: =(MROUND(U20,1)) -> 47 | W20: 44.369 | X20: =(MROUND(W20,1)) -> 44 | Y20: 0 | Z20: 0 | AA20: 0 | AB20: =MROUND(AA20,1) -> 0 | AC20: 0 | AD20: =IF(AC20<1,"*",IF(AC20>1,((MROUND(AC20,2))*0.01))) -> * | AE20: 16.307 | AF20: =MROUND(AE20,1) -> 16 | AG20: 1.254 | AH20: =IF(AG20<1,"*",IF(AG20>1,((MROUND(AG20,2))*0.01))) -> 0.02 | AI20: 0.597 | AJ20: =MROUND(AI20,1) -> 1 | AK20: 3.315 | AL20: =IF(AK20<1,"*",IF(AK20>1,((MROUND(AK20,2))*0.01))) -> 0.04 | AM20: 39.152 | AN20: =MROUND(AM20,1) -> 39 | AO20: 0.833 | AP20: =IF(AO20<1,"*",IF(AO20>1,((MROUND(AO20,2))*0.01))) -> *
A21: Italian Ice | B21: Gummy Bear | C21: 234.692 | D21: =MROUND(C21,10) -> 230 | E21: 0.473 | F21: =IF(E21<5,0,(IF(E21>50,MROUND(E21,10),MROUND(E21,5)))) -> 0 | G21: 0.053 | H21: =IF(G21<0.5,0,MROUND(G21,5)) -> 0 | I21: 0 | J21: =IF(I21<0.5,0,MROUND(I21,5)) -> 0 | K21: 0 | L21: =IF(K21<0.5,0,MROUND(K21,5)) -> 0 | M21: 0 | N21: 0 | O21: 23.95 | P21: =MROUND(O21,5) -> 25 | Q21: 58.627 | R21: =(MROUND(Q21,1)) -> 59 | S21: 0 | T21: 0 | U21: 53.985 | V21: =(MROUND(U21,1)) -> 54 | W21: 53.985 | X21: =(MROUND(W21,1)) -> 54 | Y21: 0.421 | Z21: 0 | AA21: 0 | AB21: =MROUND(AA21,1) -> 0 | AC21: 0.018 | AD21: =IF(AC21<1,"*",IF(AC21>1,((MROUND(AC21,2))*0.01))) -> * | AE21: 12.608 | AF21: =MROUND(AE21,1) -> 13 | AG21: 0.97 | AH21: =IF(AG21<1,"*",IF(AG21>1,((MROUND(AG21,2))*0.01))) -> * | AI21: 1 | AJ21: =MROUND(AI21,1) -> 1 | AK21: 5.554 | AL21: =IF(AK21<1,"*",IF(AK21>1,((MROUND(AK21,2))*0.01))) -> 0.06 | AM21: 88.02 | AN21: =MROUND(AM21,1) -> 88 | AO21: 1.873 | AP21: =IF(AO21<1,"*",IF(AO21>1,((MROUND(AO21,2))*0.01))) -> 0.02
A22: Italian Ice | B22: Island Fusion | C22: 209.362 | D22: =MROUND(C22,10) -> 210 | E22: 0.081 | F22: =IF(E22<5,0,(IF(E22>50,MROUND(E22,10),MROUND(E22,5)))) -> 0 | G22: 0.009 | H22: =IF(G22<0.5,0,MROUND(G22,5)) -> 0 | I22: 0.005 | J22: =IF(I22<0.5,0,MROUND(I22,5)) -> 0 | K22: 0.005 | L22: =IF(K22<0.5,0,MROUND(K22,5)) -> 0 | M22: 0 | N22: 0 | O22: 21.943 | P22: =MROUND(O22,5) -> 20 | Q22: 52.892 | R22: =(MROUND(Q22,1)) -> 53 | S22: 0.14 | T22: 0 | U22: 50.696 | V22: =(MROUND(U22,1)) -> 51 | W22: 49.768 | X22: =(MROUND(W22,1)) -> 50 | Y22: 0.122 | Z22: 0 | AA22: 0.549 | AB22: =MROUND(AA22,1) -> 1 | AC22: 0 | AD22: =IF(AC22<1,"*",IF(AC22>1,((MROUND(AC22,2))*0.01))) -> * | AE22: 10.029 | AF22: =MROUND(AE22,1) -> 10 | AG22: 0.771 | AH22: =IF(AG22<1,"*",IF(AG22>1,((MROUND(AG22,2))*0.01))) -> * | AI22: 0.476 | AJ22: =MROUND(AI22,1) -> 0 | AK22: 2.644 | AL22: =IF(AK22<1,"*",IF(AK22>1,((MROUND(AK22,2))*0.01))) -> 0.02 | AM22: 72.135 | AN22: =MROUND(AM22,1) -> 72 | AO22: 1.535 | AP22: =IF(AO22<1,"*",IF(AO22>1,((MROUND(AO22,2))*0.01))) -> 0.02
A23: Italian Ice | B23: Juicy Pear | C23: 179.08 | D23: =MROUND(C23,10) -> 180 | E23: 0 | F23: =IF(E23<5,0,(IF(E23>50,MROUND(E23,10),MROUND(E23,5)))) -> 0 | G23: 0 | H23: =IF(G23<0.5,0,MROUND(G23,5)) -> 0 | I23: 0 | J23: =IF(I23<0.5,0,MROUND(I23,5)) -> 0 | K23: 0 | L23: =IF(K23<0.5,0,MROUND(K23,5)) -> 0 | M23: 0 | N23: 0 | O23: 21.757 | P23: =MROUND(O23,5) -> 20 | Q23: 45.134 | R23: =(MROUND(Q23,1)) -> 45 | S23: 0 | T23: 0 | U23: 43.312 | V23: =(MROUND(U23,1)) -> 43 | W23: 43.142 | X23: =(MROUND(W23,1)) -> 43 | Y23: 0.004 | Z23: 0 | AA23: 0 | AB23: =MROUND(AA23,1) -> 0 | AC23: 0 | AD23: =IF(AC23<1,"*",IF(AC23>1,((MROUND(AC23,2))*0.01))) -> * | AE23: 12.394 | AF23: =MROUND(AE23,1) -> 12 | AG23: 0.953 | AH23: =IF(AG23<1,"*",IF(AG23>1,((MROUND(AG23,2))*0.01))) -> * | AI23: 0.802 | AJ23: =MROUND(AI23,1) -> 1 | AK23: 4.457 | AL23: =IF(AK23<1,"*",IF(AK23>1,((MROUND(AK23,2))*0.01))) -> 0.04 | AM23: 60.753 | AN23: =MROUND(AM23,1) -> 61 | AO23: 1.293 | AP23: =IF(AO23<1,"*",IF(AO23>1,((MROUND(AO23,2))*0.01))) -> 0.02
A24: Italian Ice | B24: Key Lime | C24: 175.54 | D24: =MROUND(C24,10) -> 180 | E24: 0 | F24: =IF(E24<5,0,(IF(E24>50,MROUND(E24,10),MROUND(E24,5)))) -> 0 | G24: 0.014 | H24: =IF(G24<0.5,0,MROUND(G24,5)) -> 0 | I24: 0 | J24: =IF(I24<0.5,0,MROUND(I24,5)) -> 0 | K24: 0 | L24: =IF(K24<0.5,0,MROUND(K24,5)) -> 0 | M24: 0 | N24: 0 | O24: 43.886 | P24: =MROUND(O24,5) -> 45 | Q24: 44.552 | R24: =(MROUND(Q24,1)) -> 45 | S24: 0.04 | T24: 0 | U24: 41.888 | V24: =(MROUND(U24,1)) -> 42 | W24: 41.769 | X24: =(MROUND(W24,1)) -> 42 | Y24: 0.047 | Z24: 0 | AA24: 0 | AB24: =MROUND(AA24,1) -> 0 | AC24: 0.018 | AD24: =IF(AC24<1,"*",IF(AC24>1,((MROUND(AC24,2))*0.01))) -> * | AE24: 15.567 | AF24: =MROUND(AE24,1) -> 16 | AG24: 1.197 | AH24: =IF(AG24<1,"*",IF(AG24>1,((MROUND(AG24,2))*0.01))) -> 0.02 | AI24: 0.707 | AJ24: =MROUND(AI24,1) -> 1 | AK24: 3.926 | AL24: =IF(AK24<1,"*",IF(AK24>1,((MROUND(AK24,2))*0.01))) -> 0.04 | AM24: 100.765 | AN24: =MROUND(AM24,1) -> 101 | AO24: 2.144 | AP24: =IF(AO24<1,"*",IF(AO24>1,((MROUND(AO24,2))*0.01))) -> 0.02
A25: Italian Ice | B25: KOOL-AID Sharkleberry Fin | C25: 196.45 | D25: =MROUND(C25,10) -> 200 | E25: 0 | F25: =IF(E25<5,0,(IF(E25>50,MROUND(E25,10),MROUND(E25,5)))) -> 0 | G25: 0 | H25: =IF(G25<0.5,0,MROUND(G25,5)) -> 0 | I25: 0 | J25: =IF(I25<0.5,0,MROUND(I25,5)) -> 0 | K25: 0 | L25: =IF(K25<0.5,0,MROUND(K25,5)) -> 0 | M25: 0 | N25: 0 | O25: 22.187 | P25: =MROUND(O25,5) -> 20 | Q25: 49.797 | R25: =(MROUND(Q25,1)) -> 50 | S25: 0 | T25: 0 | U25: 47.792 | V25: =(MROUND(U25,1)) -> 48 | W25: 47.792 | X25: =(MROUND(W25,1)) -> 48 | Y25: 0 | Z25: 0 | AA25: 0 | AB25: =MROUND(AA25,1) -> 0 | AC25: 0 | AD25: =IF(AC25<1,"*",IF(AC25>1,((MROUND(AC25,2))*0.01))) -> * | AE25: 6.159 | AF25: =MROUND(AE25,1) -> 6 | AG25: 0.474 | AH25: =IF(AG25<1,"*",IF(AG25>1,((MROUND(AG25,2))*0.01))) -> * | AI25: 0.016 | AJ25: =MROUND(AI25,1) -> 0 | AK25: 0.091 | AL25: =IF(AK25<1,"*",IF(AK25>1,((MROUND(AK25,2))*0.01))) -> * | AM25: 2.395 | AN25: =MROUND(AM25,1) -> 2 | AO25: 0.051 | AP25: =IF(AO25<1,"*",IF(AO25>1,((MROUND(AO25,2))*0.01))) -> *
A26: Italian Ice | B26: KOOL-AID Tropical Punch | C26: 184.61 | D26: =MROUND(C26,10) -> 180 | E26: 0 | F26: =IF(E26<5,0,(IF(E26>50,MROUND(E26,10),MROUND(E26,5)))) -> 0 | G26: 0 | H26: =IF(G26<0.5,0,MROUND(G26,5)) -> 0 | I26: 0 | J26: =IF(I26<0.5,0,MROUND(I26,5)) -> 0 | K26: 0 | L26: =IF(K26<0.5,0,MROUND(K26,5)) -> 0 | M26: 0 | N26: 0 | O26: 22.689 | P26: =MROUND(O26,5) -> 25 | Q26: 45.861 | R26: =(MROUND(Q26,1)) -> 46 | S26: 0 | T26: 0 | U26: 45.544 | V26: =(MROUND(U26,1)) -> 46 | W26: 45.544 | X26: =(MROUND(W26,1)) -> 46 | Y26: 0 | Z26: 0 | AA26: 0 | AB26: =MROUND(AA26,1) -> 0 | AC26: 0 | AD26: =IF(AC26<1,"*",IF(AC26>1,((MROUND(AC26,2))*0.01))) -> * | AE26: 7.296 | AF26: =MROUND(AE26,1) -> 7 | AG26: 0.561 | AH26: =IF(AG26<1,"*",IF(AG26>1,((MROUND(AG26,2))*0.01))) -> * | AI26: 0.102 | AJ26: =MROUND(AI26,1) -> 0 | AK26: 0.569 | AL26: =IF(AK26<1,"*",IF(AK26>1,((MROUND(AK26,2))*0.01))) -> * | AM26: 7.272 | AN26: =MROUND(AM26,1) -> 7 | AO26: 0.155 | AP26: =IF(AO26<1,"*",IF(AO26>1,((MROUND(AO26,2))*0.01))) -> *
A27: Italian Ice | B27: Lemon | C27: 151.65 | D27: =MROUND(C27,10) -> 150 | E27: 0.304 | F27: =IF(E27<5,0,(IF(E27>50,MROUND(E27,10),MROUND(E27,5)))) -> 0 | G27: 0.034 | H27: =IF(G27<0.5,0,MROUND(G27,5)) -> 0 | I27: 0.001 | J27: =IF(I27<0.5,0,MROUND(I27,5)) -> 0 | K27: 0 | L27: =IF(K27<0.5,0,MROUND(K27,5)) -> 0 | M27: 0 | N27: 0 | O27: 7.981 | P27: =MROUND(O27,5) -> 10 | Q27: 39.547 | R27: =(MROUND(Q27,1)) -> 40 | S27: 0.105 | T27: 0 | U27: 37.778 | V27: =(MROUND(U27,1)) -> 38 | W27: 37.439 | X27: =(MROUND(W27,1)) -> 37 | Y27: 0.089 | Z27: 0 | AA27: 0 | AB27: =MROUND(AA27,1) -> 0 | AC27: 0.005 | AD27: =IF(AC27<1,"*",IF(AC27>1,((MROUND(AC27,2))*0.01))) -> * | AE27: 8.097 | AF27: =MROUND(AE27,1) -> 8 | AG27: 0.623 | AH27: =IF(AG27<1,"*",IF(AG27>1,((MROUND(AG27,2))*0.01))) -> * | AI27: 0.306 | AJ27: =MROUND(AI27,1) -> 0 | AK27: 1.699 | AL27: =IF(AK27<1,"*",IF(AK27>1,((MROUND(AK27,2))*0.01))) -> 0.02 | AM27: 35.613 | AN27: =MROUND(AM27,1) -> 36 | AO27: 0.758 | AP27: =IF(AO27<1,"*",IF(AO27>1,((MROUND(AO27,2))*0.01))) -> *
... A38: Italian Ice | B38: Pineapple | C38: 178.139 | D38: =MROUND(C38,10) -> 180 | E38: 0 | F38: =IF(E38<5,0,(IF(E38>50,MROUND(E38,10),MROUND(E38,5)))) -> 0 | G38: 0 | H38: =IF(G38<0.5,0,MROUND(G38,5)) -> 0 | I38: 0 | J38: =IF(I38<0.5,0,MROUND(I38,5)) -> 0 | K38: 0 | L38: =IF(K38<0.5,0,MROUND(K38,5)) -> 0 | M38: 0 | N38: 0 | O38: 27.898 | P38: =MROUND(O38,5) -> 30 | Q38: 44.469 | R38: =(MROUND(Q38,1)) -> 44 | S38: 0.044 | T38: 0 | U38: 42.949 | V38: =(MROUND(U38,1)) -> 43 | W38: 42.21 | X38: =(MROUND(W38,1)) -> 42 | Y38: 0.031 | Z38: 0 | AA38: 0 | AB38: =MROUND(AA38,1) -> 0 | AC38: 0 | AD38: =IF(AC38<1,"*",IF(AC38>1,((MROUND(AC38,2))*0.01))) -> * | AE38: 5.641 | AF38: =MROUND(AE38,1) -> 6 | AG38: 0.434 | AH38: =IF(AG38<1,"*",IF(AG38>1,((MROUND(AG38,2))*0.01))) -> * | AI38: 0.017 | AJ38: =MROUND(AI38,1) -> 0 | AK38: 0.092 | AL38: =IF(AK38<1,"*",IF(AK38>1,((MROUND(AK38,2))*0.01))) -> * | AM38: 7.411 | AN38: =MROUND(AM38,1) -> 7 | AO38: 0.158 | AP38: =IF(AO38<1,"*",IF(AO38>1,((MROUND(AO38,2))*0.01))) -> *
A39: Italian Ice | B39: Raspberry | C39: 190.749 | D39: =MROUND(C39,10) -> 190 | E39: 0.019 | F39: =IF(E39<5,0,(IF(E39>50,MROUND(E39,10),MROUND(E39,5)))) -> 0 | G39: 0.002 | H39: =IF(G39<0.5,0,MROUND(G39,5)) -> 0 | I39: 0.002 | J39: =IF(I39<0.5,0,MROUND(I39,5)) -> 0 | K39: 0 | L39: =IF(K39<0.5,0,MROUND(K39,5)) -> 0 | M39: 0 | N39: 0 | O39: 28.131 | P39: =MROUND(O39,5) -> 30 | Q39: 48.43 | R39: =(MROUND(Q39,1)) -> 48 | S39: 0.668 | T39: less than 1 g | U39: 45.916 | V39: =(MROUND(U39,1)) -> 46 | W39: 45.461 | X39: =(MROUND(W39,1)) -> 45 | Y39: 0.233 | Z39: 0 | AA39: 0 | AB39: =MROUND(AA39,1) -> 0 | AC39: 0 | AD39: =IF(AC39<1,"*",IF(AC39>1,((MROUND(AC39,2))*0.01))) -> * | AE39: 5.203 | AF39: =MROUND(AE39,1) -> 5 | AG39: 0.4 | AH39: =IF(AG39<1,"*",IF(AG39>1,((MROUND(AG39,2))*0.01))) -> * | AI39: 0.011 | AJ39: =MROUND(AI39,1) -> 0 | AK39: 0.063 | AL39: =IF(AK39<1,"*",IF(AK39>1,((MROUND(AK39,2))*0.01))) -> * | AM39: 4.712 | AN39: =MROUND(AM39,1) -> 5 | AO39: 0.1 | AP39: =IF(AO39<1,"*",IF(AO39>1,((MROUND(AO39,2))*0.01))) -> *
A40: Italian Ice | B40: Raspberry Lemonade | C40: 131.361 | D40: =MROUND(C40,10) -> 130 | E40: 0.374 | F40: =IF(E40<5,0,(IF(E40>50,MROUND(E40,10),MROUND(E40,5)))) -> 0 | G40: 0.042 | H40: =IF(G40<0.5,0,MROUND(G40,5)) -> 0 | I40: 0.002 | J40: =IF(I40<0.5,0,MROUND(I40,5)) -> 0 | K40: 0 | L40: =IF(K40<0.5,0,MROUND(K40,5)) -> 0 | M40: 0 | N40: 0 | O40: 23.634 | P40: =MROUND(O40,5) -> 25 | Q40: 33.884 | R40: =(MROUND(Q40,1)) -> 34 | S40: 0.16 | T40: 0 | U40: 32.106 | V40: =(MROUND(U40,1)) -> 32 | W40: 31.684 | X40: =(MROUND(W40,1)) -> 32 | Y40: 0.099 | Z40: 0 | AA40: 0 | AB40: =MROUND(AA40,1) -> 0 | AC40: 0 | AD40: =IF(AC40<1,"*",IF(AC40>1,((MROUND(AC40,2))*0.01))) -> * | AE40: 5.252 | AF40: =MROUND(AE40,1) -> 5 | AG40: 0.404 | AH40: =IF(AG40<1,"*",IF(AG40>1,((MROUND(AG40,2))*0.01))) -> * | AI40: 0.01 | AJ40: =MROUND(AI40,1) -> 0 | AK40: 0.053 | AL40: =IF(AK40<1,"*",IF(AK40>1,((MROUND(AK40,2))*0.01))) -> * | AM40: 3.418 | AN40: =MROUND(AM40,1) -> 3 | AO40: 0.073 | AP40: =IF(AO40<1,"*",IF(AO40>1,((MROUND(AO40,2))*0.01))) -> *
A41: Italian Ice | B41: Rocket Pop | C41: 166.013 | D41: =MROUND(C41,10) -> 170 | E41: 0.099 | F41: =IF(E41<5,0,(IF(E41>50,MROUND(E41,10),MROUND(E41,5)))) -> 0 | G41: 0.011 | H41: =IF(G41<0.5,0,MROUND(G41,5)) -> 0 | I41: 0 | J41: =IF(I41<0.5,0,MROUND(I41,5)) -> 0 | K41: 0 | L41: =IF(K41<0.5,0,MROUND(K41,5)) -> 0 | M41: 0 | N41: 0 | O41: 26.027 | P41: =MROUND(O41,5) -> 25 | Q41: 42.4 | R41: =(MROUND(Q41,1)) -> 42 | S41: 0.021 | T41: 0 | U41: 40.699 | V41: =(MROUND(U41,1)) -> 41 | W41: 40.585 | X41: =(MROUND(W41,1)) -> 41 | Y41: 0.029 | Z41: 0 | AA41: 0 | AB41: =MROUND(AA41,1) -> 0 | AC41: 0 | AD41: =IF(AC41<1,"*",IF(AC41>1,((MROUND(AC41,2))*0.01))) -> * | AE41: 8.065 | AF41: =MROUND(AE41,1) -> 8 | AG41: 0.62 | AH41: =IF(AG41<1,"*",IF(AG41>1,((MROUND(AG41,2))*0.01))) -> * | AI41: 0.029 | AJ41: =MROUND(AI41,1) -> 0 | AK41: 0.159 | AL41: =IF(AK41<1,"*",IF(AK41>1,((MROUND(AK41,2))*0.01))) -> * | AM41: 22.791 | AN41: =MROUND(AM41,1) -> 23 | AO41: 0.485 | AP41: =IF(AO41<1,"*",IF(AO41>1,((MROUND(AO41,2))*0.01))) -> *
A42: Italian Ice | B42: Root Beer | C42: 185.018 | D42: =MROUND(C42,10) -> 190 | E42: 0 | F42: =IF(E42<5,0,(IF(E42>50,MROUND(E42,10),MROUND(E42,5)))) -> 0 | G42: 0 | H42: =IF(G42<0.5,0,MROUND(G42,5)) -> 0 | I42: 0 | J42: =IF(I42<0.5,0,MROUND(I42,5)) -> 0 | K42: 0 | L42: =IF(K42<0.5,0,MROUND(K42,5)) -> 0 | M42: 0 | N42: 0 | O42: 28.781 | P42: =MROUND(O42,5) -> 30 | Q42: 46.747 | R42: =(MROUND(Q42,1)) -> 47 | S42: 0.015 | T42: 0 | U42: 45.409 | V42: =(MROUND(U42,1)) -> 45 | W42: 45.409 | X42: =(MROUND(W42,1)) -> 45 | Y42: 0 | Z42: 0 | AA42: 0 | AB42: =MROUND(AA42,1) -> 0 | AC42: 0 | AD42: =IF(AC42<1,"*",IF(AC42>1,((MROUND(AC42,2))*0.01))) -> * | AE42: 6.611 | AF42: =MROUND(AE42,1) -> 7 | AG42: 0.509 | AH42: =IF(AG42<1,"*",IF(AG42>1,((MROUND(AG42,2))*0.01))) -> * | AI42: 0.062 | AJ42: =MROUND(AI42,1) -> 0 | AK42: 0.342 | AL42: =IF(AK42<1,"*",IF(AK42>1,((MROUND(AK42,2))*0.01))) -> * | AM42: 14.388 | AN42: =MROUND(AM42,1) -> 14 | AO42: 0.306 | AP42: =IF(AO42<1,"*",IF(AO42>1,((MROUND(AO42,2))*0.01))) -> *
A43: Italian Ice | B43: Skittles | C43: 157.53 | D43: =MROUND(C43,10) -> 160 | E43: 0 | F43: =IF(E43<5,0,(IF(E43>50,MROUND(E43,10),MROUND(E43,5)))) -> 0 | G43: 0 | H43: =IF(G43<0.5,0,MROUND(G43,5)) -> 0 | I43: 0 | J43: =IF(I43<0.5,0,MROUND(I43,5)) -> 0 | K43: 0 | L43: =IF(K43<0.5,0,MROUND(K43,5)) -> 0 | M43: 0 | N43: 0 | O43: 22.995 | P43: =MROUND(O43,5) -> 25 | Q43: 39.767 | R43: =(MROUND(Q43,1)) -> 40 | S43: 0 | T43: 0 | U43: 38.2 | V43: =(MROUND(U43,1)) -> 38 | W43: 38.2 | X43: =(MROUND(W43,1)) -> 38 | Y43: 0 | Z43: 0 | AA43: 0 | AB43: =MROUND(AA43,1) -> 0 | AC43: 0 | AD43: =IF(AC43<1,"*",IF(AC43>1,((MROUND(AC43,2))*0.01))) -> * | AE43: 5.901 | AF43: =MROUND(AE43,1) -> 6 | AG43: 0.454 | AH43: =IF(AG43<1,"*",IF(AG43>1,((MROUND(AG43,2))*0.01))) -> * | AI43: 0.037 | AJ43: =MROUND(AI43,1) -> 0 | AK43: 0.204 | AL43: =IF(AK43<1,"*",IF(AK43>1,((MROUND(AK43,2))*0.01))) -> * | AM43: 7.468 | AN43: =MROUND(AM43,1) -> 7 | AO43: 0.159 | AP43: =IF(AO43<1,"*",IF(AO43>1,((MROUND(AO43,2))*0.01))) -> *
A44: Italian Ice | B44: Sour Patch Kids Red | C44: 202.872 | D44: =MROUND(C44,10) -> 200 | E44: 0 | F44: =IF(E44<5,0,(IF(E44>50,MROUND(E44,10),MROUND(E44,5)))) -> 0 | G44: 0 | H44: =IF(G44<0.5,0,MROUND(G44,5)) -> 0 | I44: 0 | J44: =IF(I44<0.5,0,MROUND(I44,5)) -> 0 | K44: 0 | L44: =IF(K44<0.5,0,MROUND(K44,5)) -> 0 | M44: 0 | N44: 0 | O44: 29.024 | P44: =MROUND(O44,5) -> 30 | Q44: 51.268 | R44: =(MROUND(Q44,1)) -> 51 | S44: 0 | T44: 0 | U44: 48.258 | V44: =(MROUND(U44,1)) -> 48 | W44: 48.258 | X44: =(MROUND(W44,1)) -> 48 | Y44: 0 | Z44: 0 | AA44: 0 | AB44: =MROUND(AA44,1) -> 0 | AC44: 0 | AD44: =IF(AC44<1,"*",IF(AC44>1,((MROUND(AC44,2))*0.01))) -> * | AE44: 6.476 | AF44: =MROUND(AE44,1) -> 6 | AG44: 0.498 | AH44: =IF(AG44<1,"*",IF(AG44>1,((MROUND(AG44,2))*0.01))) -> * | AI44: 0.153 | AJ44: =MROUND(AI44,1) -> 0 | AK44: 0.85 | AL44: =IF(AK44<1,"*",IF(AK44>1,((MROUND(AK44,2))*0.01))) -> * | AM44: 11.778 | AN44: =MROUND(AM44,1) -> 12 | AO44: 0.251 | AP44: =IF(AO44<1,"*",IF(AO44>1,((MROUND(AO44,2))*0.01))) -> *
A45: Italian Ice | B45: Sour Patch Kids Watermelon | C45: 204.929 | D45: =MROUND(C45,10) -> 200 | E45: 0 | F45: =IF(E45<5,0,(IF(E45>50,MROUND(E45,10),MROUND(E45,5)))) -> 0 | G45: 0 | H45: =IF(G45<0.5,0,MROUND(G45,5)) -> 0 | I45: 0 | J45: =IF(I45<0.5,0,MROUND(I45,5)) -> 0 | K45: 0 | L45: =IF(K45<0.5,0,MROUND(K45,5)) -> 0 | M45: 0 | N45: 0 | O45: 22.632 | P45: =MROUND(O45,5) -> 25 | Q45: 51.175 | R45: =(MROUND(Q45,1)) -> 51 | S45: 0.038 | T45: 0 | U45: 48.248 | V45: =(MROUND(U45,1)) -> 48 | W45: 48.248 | X45: =(MROUND(W45,1)) -> 48 | Y45: 0.004 | Z45: 0 | AA45: 0 | AB45: =MROUND(AA45,1) -> 0 | AC45: 0 | AD45: =IF(AC45<1,"*",IF(AC45>1,((MROUND(AC45,2))*0.01))) -> * | AE45: 6.634 | AF45: =MROUND(AE45,1) -> 7 | AG45: 0.51 | AH45: =IF(AG45<1,"*",IF(AG45>1,((MROUND(AG45,2))*0.01))) -> * | AI45: 0.073 | AJ45: =MROUND(AI45,1) -> 0 | AK45: 0.408 | AL45: =IF(AK45<1,"*",IF(AK45>1,((MROUND(AK45,2))*0.01))) -> * | AM45: 11.586 | AN45: =MROUND(AM45,1) -> 12 | AO45: 0.247 | AP45: =IF(AO45<1,"*",IF(AO45>1,((MROUND(AO45,2))*0.01))) -> *
A46: Italian Ice | B46: Strawberry | C46: 205.525 | D46: =MROUND(C46,10) -> 210 | E46: 0.064 | F46: =IF(E46<5,0,(IF(E46>50,MROUND(E46,10),MROUND(E46,5)))) -> 0 | G46: 0.007 | H46: =IF(G46<0.5,0,MROUND(G46,5)) -> 0 | I46: 0.002 | J46: =IF(I46<0.5,0,MROUND(I46,5)) -> 0 | K46: 0 | L46: =IF(K46<0.5,0,MROUND(K46,5)) -> 0 | M46: 0 | N46: 0 | O46: 29.471 | P46: =MROUND(O46,5) -> 30 | Q46: 51.799 | R46: =(MROUND(Q46,1)) -> 52 | S46: 0.14 | T46: 0 | U46: 50.294 | V46: =(MROUND(U46,1)) -> 50 | W46: 49.607 | X46: =(MROUND(W46,1)) -> 50 | Y46: 0.127 | Z46: 0 | AA46: 0 | AB46: =MROUND(AA46,1) -> 0 | AC46: 0 | AD46: =IF(AC46<1,"*",IF(AC46>1,((MROUND(AC46,2))*0.01))) -> * | AE46: 6.442 | AF46: =MROUND(AE46,1) -> 6 | AG46: 0.496 | AH46: =IF(AG46<1,"*",IF(AG46>1,((MROUND(AG46,2))*0.01))) -> * | AI46: 0.048 | AJ46: =MROUND(AI46,1) -> 0 | AK46: 0.269 | AL46: =IF(AK46<1,"*",IF(AK46>1,((MROUND(AK46,2))*0.01))) -> * | AM46: 7.048 | AN46: =MROUND(AM46,1) -> 7 | AO46: 0.15 | AP46: =IF(AO46<1,"*",IF(AO46>1,((MROUND(AO46,2))*0.01))) -> *
A47: Italian Ice | B47: Strawberry Colada | C47: 204.082 | D47: =MROUND(C47,10) -> 200 | E47: 0.013 | F47: =IF(E47<5,0,(IF(E47>50,MROUND(E47,10),MROUND(E47,5)))) -> 0 | G47: 0.001 | H47: =IF(G47<0.5,0,MROUND(G47,5)) -> 0 | I47: 0 | J47: =IF(I47<0.5,0,MROUND(I47,5)) -> 0 | K47: 0 | L47: =IF(K47<0.5,0,MROUND(K47,5)) -> 0 | M47: 0 | N47: 0 | O47: 28.871 | P47: =MROUND(O47,5) -> 30 | Q47: 51.609 | R47: =(MROUND(Q47,1)) -> 52 | S47: 0.056 | T47: 0 | U47: 50.045 | V47: =(MROUND(U47,1)) -> 50 | W47: 49.765 | X47: =(MROUND(W47,1)) -> 50 | Y47: 0.062 | Z47: 0 | AA47: 0 | AB47: =MROUND(AA47,1) -> 0 | AC47: 0 | AD47: =IF(AC47<1,"*",IF(AC47>1,((MROUND(AC47,2))*0.01))) -> * | AE47: 7.396 | AF47: =MROUND(AE47,1) -> 7 | AG47: 0.569 | AH47: =IF(AG47<1,"*",IF(AG47>1,((MROUND(AG47,2))*0.01))) -> * | AI47: 0.052 | AJ47: =MROUND(AI47,1) -> 0 | AK47: 0.289 | AL47: =IF(AK47<1,"*",IF(AK47>1,((MROUND(AK47,2))*0.01))) -> * | AM47: 12.692 | AN47: =MROUND(AM47,1) -> 13 | AO47: 0.27 | AP47: =IF(AO47<1,"*",IF(AO47>1,((MROUND(AO47,2))*0.01))) -> *
A48: Italian Ice | B48: Strawberry Lemonade | C48: 174.917 | D48: =MROUND(C48,10) -> 170 | E48: 0.159 | F48: =IF(E48<5,0,(IF(E48>50,MROUND(E48,10),MROUND(E48,5)))) -> 0 | G48: 0.018 | H48: =IF(G48<0.5,0,MROUND(G48,5)) -> 0 | I48: 0 | J48: =IF(I48<0.5,0,MROUND(I48,5)) -> 0 | K48: 0 | L48: =IF(K48<0.5,0,MROUND(K48,5)) -> 0 | M48: 0 | N48: 0 | O48: 26.366 | P48: =MROUND(O48,5) -> 25 | Q48: 44.56 | R48: =(MROUND(Q48,1)) -> 45 | S48: 0.126 | T48: 0 | U48: 42.56 | V48: =(MROUND(U48,1)) -> 43 | W48: 42.041 | X48: =(MROUND(W48,1)) -> 42 | Y48: 0.109 | Z48: 0 | AA48: 0 | AB48: =MROUND(AA48,1) -> 0 | AC48: 0 | AD48: =IF(AC48<1,"*",IF(AC48>1,((MROUND(AC48,2))*0.01))) -> * | AE48: 11.962 | AF48: =MROUND(AE48,1) -> 12 | AG48: 0.92 | AH48: =IF(AG48<1,"*",IF(AG48>1,((MROUND(AG48,2))*0.01))) -> * | AI48: 0.521 | AJ48: =MROUND(AI48,1) -> 1 | AK48: 2.897 | AL48: =IF(AK48<1,"*",IF(AK48>1,((MROUND(AK48,2))*0.01))) -> 0.02 | AM48: 56.947 | AN48: =MROUND(AM48,1) -> 57 | AO48: 1.212 | AP48: =IF(AO48<1,"*",IF(AO48>1,((MROUND(AO48,2))*0.01))) -> 0.02
A49: Italian Ice | B49: Strawberry Margarita | C49: 201.03 | D49: =MROUND(C49,10) -> 200 | E49: 0.166 | F49: =IF(E49<5,0,(IF(E49>50,MROUND(E49,10),MROUND(E49,5)))) -> 0 | G49: 0.018 | H49: =IF(G49<0.5,0,MROUND(G49,5)) -> 0 | I49: 0.001 | J49: =IF(I49<0.5,0,MROUND(I49,5)) -> 0 | K49: 0 | L49: =IF(K49<0.5,0,MROUND(K49,5)) -> 0 | M49: 0 | N49: 0 | O49: 32.757 | P49: =MROUND(O49,5) -> 35 | Q49: 51.077 | R49: =(MROUND(Q49,1)) -> 51 | S49: 0.139 | T49: 0 | U49: 48.888 | V49: =(MROUND(U49,1)) -> 49 | W49: 48.374 | X49: =(MROUND(W49,1)) -> 48 | Y49: 0.114 | Z49: 0 | AA49: 0 | AB49: =MROUND(AA49,1) -> 0 | AC49: 0 | AD49: =IF(AC49<1,"*",IF(AC49>1,((MROUND(AC49,2))*0.01))) -> * | AE49: 7.924 | AF49: =MROUND(AE49,1) -> 8 | AG49: 0.61 | AH49: =IF(AG49<1,"*",IF(AG49>1,((MROUND(AG49,2))*0.01))) -> * | AI49: 0.582 | AJ49: =MROUND(AI49,1) -> 1 | AK49: 3.233 | AL49: =IF(AK49<1,"*",IF(AK49>1,((MROUND(AK49,2))*0.01))) -> 0.04 | AM49: 32.468 | AN49: =MROUND(AM49,1) -> 32 | AO49: 0.691 | AP49: =IF(AO49<1,"*",IF(AO49>1,((MROUND(AO49,2))*0.01))) -> *
A50: Italian Ice | B50: Strawberry- Watermelon | C50: 193.576 | D50: =MROUND(C50,10) -> 190 | E50: 0.075 | F50: =IF(E50<5,0,(IF(E50>50,MROUND(E50,10),MROUND(E50,5)))) -> 0 | G50: 0.008 | H50: =IF(G50<0.5,0,MROUND(G50,5)) -> 0 | I50: 0.01 | J50: =IF(I50<0.5,0,MROUND(I50,5)) -> 0 | K50: 0 | L50: =IF(K50<0.5,0,MROUND(K50,5)) -> 0 | M50: 0 | N50: 0 | O50: 29.519 | P50: =MROUND(O50,5) -> 30 | Q50: 48.886 | R50: =(MROUND(Q50,1)) -> 49 | S50: 0.056 | T50: 0 | U50: 47.3 | V50: =(MROUND(U50,1)) -> 47 | W50: 46.756 | X50: =(MROUND(W50,1)) -> 47 | Y50: 0.092 | Z50: 0 | AA50: 0 | AB50: =MROUND(AA50,1) -> 0 | AC50: 0 | AD50: =IF(AC50<1,"*",IF(AC50>1,((MROUND(AC50,2))*0.01))) -> * | AE50: 7.122 | AF50: =MROUND(AE50,1) -> 7 | AG50: 0.548 | AH50: =IF(AG50<1,"*",IF(AG50>1,((MROUND(AG50,2))*0.01))) -> * | AI50: 0.195 | AJ50: =MROUND(AI50,1) -> 0 | AK50: 7.084 | AL50: =IF(AK50<1,"*",IF(AK50>1,((MROUND(AK50,2))*0.01))) -> 0.08 | AM50: 10.272 | AN50: =MROUND(AM50,1) -> 10 | AO50: 0.219 | AP50: =IF(AO50<1,"*",IF(AO50>1,((MROUND(AO50,2))*0.01))) -> *
...

Sheet Small
A1: ICE FLAVORS
A2: SMALL PORTION
B3: Flavor | C3: Calories | D3: Calories from Fat | E3: Fat | F3: Saturated Fat | G3: Trans Fat | H3: Cholesterol | I3: Sodium | J3: Total Carbohydrates | K3: Dietary Fiber | L3: Total Sugar | M3: Added Sugar | N3: Protein | O3: Vitamin D | P3: Vitamin D (% DV) | Q3: Calcium | R3: Calcium (%DV) | S3: Iron | T3: Iron (%DV) | U3: Potassium | V3: Potassium (%DV)
A4: Italian | B4: Apple Berry Blue | C4: 250 | D4: 0 | E4: 0 | F4: 0 | G4: 0 | H4: 0 | I4: 45 | J4: 63 | K4: 0 | L4: 60 | M4: 58 | N4: 0 | O4: 1 | P4: 6 | Q4: 9 | R4: 0 | S4: 0 | T4: 0 | U4: 22 | V4: 0
B5: Banana | C5: 290 | D5: 5 | E5: 0.5 | F5: 0.5 | G5: 0 | H5: 0 | I5: 35 | J5: 74 | K5: 0 | L5: 71 | M5: 69 | N5: 0 | O5: 0 | P5: 0 | Q5: 8 | R5: 0 | S5: 0 | T5: 0 | U5: 58 | V5: 2
B6: Birch Beer | C6: 210 | D6: 0 | E6: 0 | F6: 0 | G6: 0 | H6: 0 | I6: 30 | J6: 53 | K6: 0 | L6: 50 | M6: 50 | N6: 0 | O6: 0 | P6: 0 | Q6: 7.96371 | R6: 0 | S6: 0.00944 | T6: 0 | U6: 0 | V6: 0
B7: Blood Orange | C7: 240 | D7: 0 | E7: 0 | F7: 0 | G7: 0 | H7: 0 | I7: 30 | J7: 61 | K7: 0 | L7: 59 | M7: 59 | N7: 0 | O7: 0 | P7: 0 | Q7: 10 | R7: 0 | S7: 0 | T7: 0 | U7: 13 | V7: 0
B8: Blue Raspberry | C8: 320 | D8: 0 | E8: 0 | F8: 0 | G8: 0 | H8: 0 | I8: 35 | J8: 82 | K8: 0 | L8: 79 | M8: 36 | N8: 0 | O8: 1 | P8: 6 | Q8: 6.90753 | R8: 0 | S8: 0.018274 | T8: 0 | U8: 0 | V8: 0
B9: Blueberry | C9: 210 | D9: 0 | E9: 0 | F9: 0 | G9: 0 | H9: 0 | I9: 40 | J9: 75 | K9: 0 | L9: 72 | M9: 34 | N9: 0 | O9: 1 | P9: 6 | Q9: 7.86187 | R9: 0 | S9: 0.048382 | T9: 0 | U9: 0 | V9: 0
B10: Cherry | C10: 220 | D10: 0 | E10: 0 | F10: 0 | G10: 0 | H10: 0 | I10: 35 | J10: 55 | K10: 0 | L10: 52 | M10: 50 | N10: 0 | O10: 0 | P10: 0 | Q10: 13 | R10: 2 | S10: 0 | T10: 0 | U10: 1 | V10: 0
B11: Cherry Lemonade | C11: 240 | D11: 0 | E11: 0 | F11: 0 | G11: 0 | H11: 0 | I11: 40 | J11: 61 | K11: 0 | L11: 57 | M11: 57 | N11: 0 | O11: 0 | P11: 0 | Q11: 10 | R11: 0 | S11: 0 | T11: 0 | U11: 18 | V11: 0
B12: Cherry Limeade | C12: 200 | D12: 0 | E12: 0 | F12: 0 | G12: 0 | H12: 0 | I12: 30 | J12: 52 | K12: 0 | L12: 50 | M12: 49 | N12: 0 | O12: 0 | P12: 0 | Q12: 9.30842 | R12: 0 | S12: 0.056831 | T12: 0 | U12: 15 | V12: 0
B13: Chocolate | C13: 320 | D13: 5 | E13: 0 | F13: 0 | G13: 0 | H13: 0 | I13: 60 | J13: 80 | K13: 0 | L13: 76 | M13: 76 | N13: 1 | O13: 0 | P13: 0 | Q13: 14 | R13: 2 | S13: 1 | T13: 6 | U13: 81 | V13: 2
B14: Chocolate Chocolate Chip | C14: 350 | D14: 25 | E14: 2.5 | F14: 1.5 | G14: 0 | H14: 0 | I14: 60 | J14: 84 | K14: 0 | L14: 79 | M14: 79 | N14: 1 | O14: 0 | P14: 0 | Q14: 16.9893 | R14: 2 | S14: 1.32532 | T14: 8 | U14: 115 | V14: 3
B15: Cotton Candy | C15: 270 | D15: 0 | E15: 0 | F15: 0 | G15: 0 | H15: 0 | I15: 30 | J15: 69 | K15: 0 | L15: 66 | M15: 26 | N15: 0 | O15: 0 | P15: 0 | Q15: 7 | R15: 0 | S15: 0 | T15: 0 | U15: 1 | V15: 0
B16: Dr Pepper | C16: 280 | D16: 0 | E16: 0 | F16: 0 | G16: 0 | H16: 0 | I16: 30 | J16: 74 | K16: 0 | L16: 73 | M16: 28 | N16: 0 | O16: 0 | P16: 0 | Q16: 6 | R16: 0 | S16: 0 | T16: 0 | U16: 1 | V16: 0
... B55: Zombie's Blood | C55: 190 | D55: 0 | E55: 0 | F55: 0 | G55: 0 | H55: 0 | I55: 35 | J55: 51 | K55: 0 | L55: 49 | M55: 49 | N55: 0 | O55: 0 | P55: 0 | Q55: 10 | R55: 0 | S55: 0 | T55: 0 | U55: 11 | V55: 0
A56: All-Natural Ice | B56: All Natural Banana | C56: 270 | D56: 0 | E56: 0 | F56: 0 | G56: 0 | H56: 0 | I56: 15 | J56: 54 | K56: 2 | L56: 52 | M56: 48 | N56: 1 | O56: 0 | P56: 0 | Q56: 22 | R56: 2 | S56: 0 | T56: 0 | U56: 199 | V56: 4
B57: All Natural Cranberry | C57: 220 | D57: 0 | E57: 0 | F57: 0 | G57: 0 | H57: 0 | I57: 10 | J57: 55 | K57: 0 | L57: 52 | M57: 51 | N57: 0 | O57: 0 | P57: 0 | Q57: 12 | R57: 0 | S57: 0 | T57: 0 | U57: 9 | V57: 0
B58: All Natural Cranberry Pineapple | C58: 210 | D58: 0 | E58: 0 | F58: 0 | G58: 0 | H58: 0 | I58: 10 | J58: 55 | K58: 0 | L58: 53 | M58: 51 | N58: 0 | O58: 0 | P58: 0 | Q58: 13 | R58: 2 | S58: 0 | T58: 0 | U58: 21 | V58: 0
B59: All Natural Cranberry Strawberry | C59: 270 | D59: 0 | E59: 0 | F59: 0 | G59: 0 | H59: 0 | I59: 10 | J59: 52 | K59: 2 | L59: 49 | M59: 48 | N59: 1 | O59: 0 | P59: 0 | Q59: 26 | R59: 2 | S59: 0 | T59: 0 | U59: 153 | V59: 4
B60: All Natural Orange | C60: 220 | D60: 0 | E60: 0 | F60: 0 | G60: 0 | H60: 0 | I60: 10 | J60: 55 | K60: 0 | L60: 53 | M60: 49 | N60: 0 | O60: 0 | P60: 0 | Q60: 18 | R60: 2 | S60: 0 | T60: 0 | U60: 91 | V60: 2
B61: All Natural Pineapple | C61: 240 | D61: 0 | E61: 0 | F61: 0 | G61: 0 | H61: 0 | I61: 15 | J61: 58 | K61: 0 | L61: 57 | M61: 51 | N61: 0 | O61: 0 | P61: 0 | Q61: 15 | R61: 2 | S61: 0 | T61: 0 | U61: 53 | V61: 2
B62: All Natural Strawberry | C62: 300 | D62: 0 | E62: 0 | F62: 0 | G62: 0 | H62: 0 | I62: 10 | J62: 47 | K62: 3 | L62: 43 | M62: 43 | N62: 1 | O62: 0 | P62: 0 | Q62: 35 | R62: 2 | S62: 0 | T62: 0 | U62: 272 | V62: 6
B63: All Natural Strawberry Banana | C63: 260 | D63: 0 | E63: 0 | F63: 0 | G63: 0 | H63: 0 | I63: 10 | J63: 48 | K63: 2 | L63: 46 | M63: 44 | N63: 1 | O63: 0 | P63: 0 | Q63: 25 | R63: 2 | S63: 0 | T63: 0 | U63: 183 | V63: 4
B64: All Natural Strawberry Pineapple | C64: 230 | D64: 0 | E64: 0 | F64: 0 | G64: 0 | H64: 0 | I64: 10 | J64: 44 | K64: 2 | L64: 42 | M64: 40 | N64: 1 | O64: 0 | P64: 0 | Q64: 25 | R64: 2 | S64: 0 | T64: 0 | U64: 169 | V64: 4
B65: All-Natural Orange-Pineapple | C65: 230 | D65: 0 | E65: 0 | F65: 0 | G65: 0 | H65: 0 | I65: 10 | J65: 56 | K65: 0 | L65: 55 | M65: 50 | N65: 0 | O65: 0 | P65: 0 | Q65: 17 | R65: 2 | S65: 0 | T65: 0 | U65: 76 | V65: 2
A66: Cream Ice | B66: Birthday Cake | C66: 330 | D66: 35 | E66: 4 | F66: 3.5 | G66: 0 | H66: 0 | I66: 170 | J66: 73 | K66: 0 | L66: 65 | M66: 56 | N66: 1 | O66: 0 | P66: 0 | Q66: 36 | R66: 2 | S66: 0 | T66: 0 | U66: 7 | V66: 0
B67: Banana Split Cream | C67: 330 | D67: 40 | E67: 4.5 | F67: 3.5 | G67: 0 | H67: 0 | I67: 45 | J67: 73 | K67: 0 | L67: 69 | M67: 30 | N67: 1 | O67: 0 | P67: 0 | Q67: 13.8581 | R67: 2 | S67: 0.537027 | T67: 2 | U67: 30 | V67: 1
B68: Black Cherry Cheesecake | C68: 320 | D68: 30 | E68: 3.5 | F68: 3 | G68: 0 | H68: 0 | I68: 70 | J68: 73 | K68: 0 | L68: 64 | M68: 27 | N68: 1 | O68: 0 | P68: 0 | Q68: 9 | R68: 0 | S68: 0 | T68: 0 | U68: 7 | V68: 0
B69: Brookie Dough | C69: 350 | D69: 50 | E69: 6 | F69: 4.5 | G69: 0 | H69: 5 | I69: 120 | J69: 74 | K69: 0 | L69: 65 | M69: 62 | N69: 1 | O69: 0 | P69: 0 | Q69: 16 | R69: 2 | S69: 0 | T69: 0 | U69: 55 | V69: 2
B70: Caramel (dulce) | C70: 360 | D70: 35 | E70: 3.5 | F70: 3 | G70: 0 | H70: 5 | I70: 150 | J70: 81 | K70: 0 | L70: 72 | M70: 57 | N70: 0 | O70: 0 | P70: 0 | Q70: 12 | R70: 0 | S70: 0 | T70: 0 | U70: 29 | V70: 0
B71: Cheesecake | C71: 310 | D71: 30 | E71: 3.5 | F71: 3 | G71: 0 | H71: 0 | I71: 70 | J71: 69 | K71: 0 | L71: 66 | M71: 28 | N71: 1 | O71: 0 | P71: 0 | Q71: 9 | R71: 0 | S71: 0 | T71: 0 | U71: 7 | V71: 0
B72: Chocolate Chip Cheesecake | C72: 340 | D72: 50 | E72: 6 | F72: 4.5 | G72: 0 | H72: 0 | I72: 70 | J72: 73 | K72: 0 | L72: 69 | M72: 32 | N72: 1 | O72: 0 | P72: 0 | Q72: 11.7166 | R72: 2 | S72: 0.823143 | T72: 4 | U72: 45 | V72: 1
B73: Chocolate Covered Banana | C73: 340 | D73: 50 | E73: 5 | F73: 4.5 | G73: 0 | H73: 0 | I73: 75 | J73: 75 | K73: 0 | L73: 70 | M73: 28 | N73: 1 | O73: 0 | P73: 0 | Q73: 22 | R73: 2 | S73: 0 | T73: 0 | U73: 37 | V73: 0
B74: Chocolate Covered Strawberry | C74: 350 | D74: 60 | E74: 6 | F74: 5 | G74: 0 | H74: 0 | I74: 80 | J74: 74 | K74: 0 | L74: 69 | M74: 64 | N74: 1 | O74: 0 | P74: 0 | Q74: 22.8042 | R74: 2 | S74: 0.96233 | T74: 6 | U74: 50 | V74: 1
B75: Coconut Cream | C75: 310 | D75: 35 | E75: 4 | F75: 3.5 | G75: 0 | H75: 0 | I75: 70 | J75: 68 | K75: 0 | L75: 63 | M75: 60 | N75: 0 | O75: 0 | P75: 0 | Q75: 10 | R75: 0 | S75: 0 | T75: 0 | U75: 10 | V75: 0
