Workbook

Sheet Template
A1: TREAT NAME
A2: TREAT SIZE
A3: Instructions to calculate
B4: Flavor | C4: Calories | D4: Calories from Fat | E4: Fat | F4: Saturated Fat | G4: Trans Fat | H4: Cholesterol | I4: Sodium | J4: Total Carbohydrates | K4: Dietary Fiber | L4: Total Sugar | M4: Added Sugar | N4: Protein | O4: Vitamin D | P4: Vitamin D (% DV) | Q4: Calcium | R4: Calcium (%DV) | S4: Iron | T4: Iron (%DV) | U4: Potassium | V4: Potassium (%DV)
A5: Italian | B5: Apple Berry Blue
B6: Banana
B7: Birch Beer
B8: Blood Orange
B9: Blue Raspberry
B10: Blueberry
B11: Cherry
B12: Cherry Lemonade
B13: Cherry Limeade
B14: Chocolate
B15: Chocolate Chocolate Chip
B16: Cotton Candy
B17: Dr Pepper
... B58: Wild Black Cherry
A59: All-Natural Ice | B59: All Natural Banana
B60: All Natural Coconut
B61: All Natural Cranberry
B62: All Natural Cranberry Pineapple
B63: All Natural Cranberry Strawberry
B64: All Natural Orange
B65: All-Natural Orange Pineapple
B66: All Natural Pineapple Coconut
B67: All Natural Pineapple
B68: All Natural Strawberry
B69: All Natural Strawberry Banana
B70: All Natural Strawberry Pineapple
A71: Cream Ice | B71: Banana Split Cream
B72: Birthday Cake
B73: Black Cherry Cheesecake
B74: Brookie Dough
B75: Caramel (dulce)
B76: Cheesecake
B77: Chocolate Chip Cheesecake
B78: Chocolate Covered Banana
B79: Chocolate Covered Strawberry
B80: Coconut Cream
B81: Cookies & Cream
B82: Cookie Dough
B83: Fudge Brownie
... B98: Watermelon Chip
A99: Sugar-Free Ice | B99: S/F Cherry
B100: S/F Dragon Fruit
B101: S/F Mango Peach
B102: S/F Pineapple
B103: S/F Root Beer
B104: S/F Tangerine
A105: Custard Flavor | B105: Chocolate
B106: Vanilla
B107: Banana
B108: Black Rasberry
B109: Butter Pecan
B110: Cake Batter
B111: Caramel Macchiato
B112: Cheesecake
B113: Coffee
B114: Cotton Candy
B115: Lemon
B116: Mint
B117: Orange Cream
... B123: Strawberry Banana
B125: Flavor | C125: Calories | D125: Calories from Fat | E125: Fat | F125: Saturated Fat | G125: Trans Fat | H125: Cholesterol | I125: Sodium | J125: Total Carbohydrates | K125: Dietary Fiber | L125: Total Sugar | M125: Added Sugar | N125: Protein | O125: Vitamin D | P125: Vitamin D (% DV) | Q125: Calcium | R125: Calcium (%DV) | S125: Iron | T125: Iron (%DV) | U125: Potassium | V125: Potassium (%DV)
A126: Topping | B126: Chocolate Chips
B127: Brownie Batter Bites
B128: Cookie Dough Bites
B129: Chopped Peanuts
B130: Fruity Pebbles
B131: Heath
B132: Hot Caramel
B133: Hot Fudge
B134: M&Ms Minis
B135: Mini Gummy Bears
B136: NERDS, Rainbow
B137: Nilla Wafers
B138: OREO
... B145: Wet Walnuts
A146: Stuffed Topping | B146: Hot Fudge
B147: Hot Caramel
B148: Strawberry Topping
B149: Reeses's Peanut Butter Sauce
B151: This nutrition information is based on standard recipes and product formulations; however; variations may occur due to differences in preparation, serving sizes, ingredients, or special orders. Current recommendations are to limit total saturated fat intake to 20 grams per day and to limit sodium intake to less than 2,400 mg per day for a 2,000 calorie-per-day diet. A 2,000 calorie daily diet is used for the basis of general nutrition advice; individual calorie needs however; may vary. ©2015 RITA’S FRANCHISE COMPANY. ALL RIGHTS RESERVED.
B153: Average Italian Ice Blendini
B154: Range Italian Ice Blendini
B155: Average All-Natural Ice Blendini
B156: Range All-Natural Ice Blendini
B157: Average Cream Ice Blendini
B158: Range Cream Ice Blendini
B159: Average Sugar-Free Ice Blendini
B160: Range Sugar-Free Ice Blendini

Sheet Kids (8.2 oz)
A1: ICE FLAVORS
A2: KIDS PORTION
B3: Flavor | C3: Calories | D3: Calories from Fat | E3: Fat | F3: Saturated Fat | G3: Trans Fat | H3: Cholesterol | I3: Sodium | J3: Total Carbohydrates | K3: Dietary Fiber | L3: Total Sugar | M3: Added Sugar | N3: Protein | O3: Vitamin D | P3: Vitamin D (% DV) | Q3: Calcium | R3: Calcium (%DV) | S3: Iron | T3: Iron (%DV) | U3: Potassium | V3: Potassium (%DV)
A4: Italian | B4: Apple Berry Blue | C4: 180 | D4: 0 | E4: 0 | F4: 0 | G4: 0 | H4: 0 | I4: 30 | J4: 46 | K4: 0 | L4: 44 | M4: 43 | N4: 0 | O4: 0 | P4: 0 | Q4: 8 | R4: 0 | S4: 0 | T4: 0 | U4: 16 | V4: 0
B5: Banana | C5: 220 | D5: 5 | E5: 0 | F5: 0 | G5: 0 | H5: 0 | I5: 25 | J5: 54 | K5: 0 | L5: 52 | M5: 50 | N5: 0 | O5: 0 | P5: 0 | Q5: 6 | R5: 0 | S5: 0 | T5: 0 | U5: 42 | V5: 0
B6: Birch Beer | C6: 150 | D6: 0 | E6: 0 | F6: 0 | G6: 0 | H6: 0 | I6: 20 | J6: 38 | K6: 0 | L6: 37 | M6: 37 | N6: 0 | O6: 0 | P6: 0 | Q6: 5.83057 | R6: 0 | S6: 0.006911 | T6: 0 | U6: 0 | V6: 0
B7: Blood Orange | C7: 180 | D7: 0 | E7: 0 | F7: 0 | G7: 0 | H7: 0 | I7: 25 | J7: 45 | K7: 0 | L7: 43 | M7: 43 | N7: 0 | O7: 0 | P7: 0 | Q7: 7 | R7: 0 | S7: 0 | T7: 0 | U7: 9 | V7: 0
B8: Blue Raspberry | C8: 200 | D8: 0 | E8: 0 | F8: 0 | G8: 0 | H8: 0 | I8: 30 | J8: 51 | K8: 0 | L8: 49 | M8: 49 | N8: 0 | O8: 0 | P8: 0 | Q8: 7 | R8: 0 | S8: 0 | T8: 0 | U8: 1 | V8: 0
B9: Blueberry | C9: 280 | D9: 0 | E9: 0 | F9: 0 | G9: 0 | H9: 0 | I9: 30 | J9: 72 | K9: 0 | L9: 70 | M9: 70 | N9: 0 | O9: 0 | P9: 0 | Q9: 7 | R9: 0 | S9: 0 | T9: 0 | U9: 1 | V9: 0
B10: Cherry | C10: 160 | D10: 0 | E10: 0 | F10: 0 | G10: 0 | H10: 0 | I10: 25 | J10: 41 | K10: 0 | L10: 38 | M10: 37 | N10: 0 | O10: 0 | P10: 0 | Q10: 10 | R10: 0 | S10: 0 | T10: 0 | U10: 1 | V10: 0
B11: Cherry Lemonade | C11: 170 | D11: 0 | E11: 0 | F11: 0 | G11: 0 | H11: 0 | I11: 30 | J11: 45 | K11: 0 | L11: 42 | M11: 42 | N11: 0 | O11: 0 | P11: 0 | Q11: 7 | R11: 0 | S11: 0 | T11: 0 | U11: 13 | V11: 0
B12: Cherry Limeade | C12: 150 | D12: 0 | E12: 0 | F12: 0 | G12: 0 | H12: 0 | I12: 25 | J12: 38 | K12: 0 | L12: 36 | M12: 36 | N12: 0 | O12: 0 | P12: 0 | Q12: 6.81509 | R12: 0 | S12: 0.041608 | T12: 0 | U12: 10 | V12: 0
B13: Chocolate | C13: 230 | D13: 5 | E13: 0 | F13: 0 | G13: 0 | H13: 0 | I13: 45 | J13: 59 | K13: 1 | L13: 56 | M13: 56 | N13: 1 | O13: 0 | P13: 0 | Q13: 10 | R13: 0 | S13: 0 | T13: 0 | U13: 59 | V13: 2
B14: Chocolate Chocolate Chip | C14: 250 | D14: 15 | E14: 2 | F14: 1 | G14: 0 | H14: 0 | I14: 40 | J14: 61 | K14: 0 | L14: 58 | M14: 58 | N14: 1 | O14: 0 | P14: 0 | Q14: 12.4386 | R14: 2 | S14: 0.970327 | T14: 6 | U14: 85 | V14: 2
B15: Cotton Candy | C15: 220 | D15: 0 | E15: 0 | F15: 0 | G15: 0 | H15: 0 | I15: 15 | J15: 54 | K15: 0 | L15: 54 | M15: 20 | N15: 0 | O15: 0 | P15: 0 | Q15: 7 | R15: 0 | S15: 0 | T15: 0 | U15: 0 | V15: 0
B16: Dr Pepper | C16: 200 | D16: 0 | E16: 0 | F16: 0 | G16: 0 | H16: 0 | I16: 20 | J16: 54 | K16: 0 | L16: 53 | M16: 20 | N16: 0 | O16: 0 | P16: 0 | Q16: 5 | R16: 0 | S16: 0 | T16: 0 | U16: 0 | V16: 0
... B58: Unicorn | C58: 190 | D58: 0 | E58: 0 | F58: 0 | G58: 0 | H58: 0 | I58: 85 | J58: 49 | K58: 0 | L58: 44 | M58: 44 | N58: 0 | O58: 0 | P58: 0 | Q58: 6 | R58: 0 | S58: 0 | T58: 0 | U58: 17 | V58: 0
A59: All-Natural Ice | B59: All Natural Banana | C59: 200 | D59: 0 | E59: 0 | F59: 0 | G59: 0 | H59: 0 | I59: 10 | J59: 40 | K59: 1 | L59: 38 | M59: 35 | N59: 0 | O59: 0 | P59: 0 | Q59: 16 | R59: 2 | S59: 0 | T59: 0 | U59: 145 | V59: 4
B60: All Natural Coconut | C60: 150 | D60: 10 | E60: 1 | F60: 1 | G60: 0 | H60: 0 | I60: 10 | J60: 36 | K60: 0 | L60: 35 | M60: 32 | N60: 0 | O60: 0 | P60: 0 | Q60: 8 | R60: 0 | S60: 1 | T60: 6 | U60: 7 | V60: 0
B61: All Natural Cranberry | C61: 160 | D61: 0 | E61: 0 | F61: 0 | G61: 0 | H61: 0 | I61: 10 | J61: 40 | K61: 0 | L61: 38 | M61: 38 | N61: 0 | O61: 0 | P61: 0 | Q61: 9 | R61: 0 | S61: 0 | T61: 0 | U61: 6 | V61: 0
B62: All Natural Cranberry Pineapple | C62: 150 | D62: 0 | E62: 0 | F62: 0 | G62: 0 | H62: 0 | I62: 10 | J62: 40 | K62: 0 | L62: 39 | M62: 37 | N62: 0 | O62: 0 | P62: 0 | Q62: 9 | R62: 0 | S62: 0 | T62: 0 | U62: 15 | V62: 0
B63: All Natural Cranberry Strawberry | C63: 200 | D63: 0 | E63: 0 | F63: 0 | G63: 0 | H63: 0 | I63: 10 | J63: 38 | K63: 1 | L63: 36 | M63: 35 | N63: 0 | O63: 0 | P63: 0 | Q63: 19 | R63: 2 | S63: 0 | T63: 0 | U63: 112 | V63: 2
B64: All Natural Orange | C64: 160 | D64: 0 | E64: 0 | F64: 0 | G64: 0 | H64: 0 | I64: 10 | J64: 40 | K64: 0 | L64: 39 | M64: 36 | N64: 0 | O64: 0 | P64: 0 | Q64: 13 | R64: 2 | S64: 0 | T64: 0 | U64: 67 | V64: 2
B65: All Natural Pineapple | C65: 170 | D65: 0 | E65: 0 | F65: 0 | G65: 0 | H65: 0 | I65: 10 | J65: 43 | K65: 0 | L65: 42 | M65: 37 | N65: 0 | O65: 0 | P65: 0 | Q65: 11 | R65: 0 | S65: 0 | T65: 0 | U65: 39 | V65: 0
B66: All Natural Pineapple Coconut | C66: 150 | D66: 5 | E66: 0.5 | F66: 0.5 | G66: 0 | H66: 0 | I66: 10 | J66: 37 | K66: 0 | L66: 36 | M66: 32 | N66: 0 | O66: 0 | P66: 0 | Q66: 8 | R66: 0 | S66: 1 | T66: 6 | U66: 12 | V66: 0
B67: All Natural Strawberry | C67: 220 | D67: 0 | E67: 0 | F67: 0 | G67: 0 | H67: 0 | I67: 10 | J67: 34 | K67: 2 | L67: 32 | M67: 31 | N67: 1 | O67: 0 | P67: 0 | Q67: 26 | R67: 2 | S67: 0 | T67: 0 | U67: 199 | V67: 4
B68: All Natural Strawberry Banana | C68: 190 | D68: 0 | E68: 0 | F68: 0 | G68: 0 | H68: 0 | I68: 10 | J68: 35 | K68: 1 | L68: 34 | M68: 32 | N68: 0 | O68: 0 | P68: 0 | Q68: 18 | R68: 2 | S68: 0 | T68: 0 | U68: 134 | V68: 2
B69: All Natural Strawberry Pineapple | C69: 170 | D69: 0 | E69: 0 | F69: 0 | G69: 0 | H69: 0 | I69: 10 | J69: 32 | K69: 1 | L69: 31 | M69: 29 | N69: 0 | O69: 0 | P69: 0 | Q69: 18 | R69: 2 | S69: 0 | T69: 0 | U69: 124 | V69: 2
B70: All-Natural Orange-Pineapple | C70: 170 | D70: 0 | E70: 0 | F70: 0 | G70: 0 | H70: 0 | I70: 10 | J70: 41 | K70: 0 | L70: 40 | M70: 36 | N70: 0 | O70: 0 | P70: 0 | Q70: 12 | R70: 0 | S70: 0 | T70: 0 | U70: 55 | V70: 2
A71: Cream Ice | B71: Birthday Cake | C71: 240 | D71: 25 | E71: 3 | F71: 2.5 | G71: 0 | H71: 0 | I71: 125 | J71: 53 | K71: 0 | L71: 48 | M71: 41 | N71: 0 | O71: 0 | P71: 0 | Q71: 26 | R71: 2 | S71: 0 | T71: 0 | U71: 5 | V71: 0
B72: Banana Split Cream | C72: 240 | D72: 30 | E72: 3.5 | F72: 2.5 | G72: 0 | H72: 0 | I72: 35 | J72: 54 | K72: 0 | L72: 50 | M72: 22 | N72: 0 | O72: 0 | P72: 0 | Q72: 10.1461 | R72: 2 | S72: 0.393181 | T72: 2 | U72: 20 | V72: 1
B73: Black Cherry Cheesecake | C73: 230 | D73: 25 | E73: 2.5 | F73: 2 | G73: 0 | H73: 0 | I73: 50 | J73: 52 | K73: 0 | L73: 49 | M73: 20 | N73: 0 | O73: 0 | P73: 0 | Q73: 11 | R73: 0 | S73: 0 | T73: 0 | U73: 5 | V73: 0
B74: Brookie Dough | C74: 260 | D74: 40 | E74: 4.5 | F74: 3 | G74: 0 | H74: 0 | I74: 90 | J74: 54 | K74: 0 | L74: 47 | M74: 45 | N74: 1 | O74: 0 | P74: 0 | Q74: 12 | R74: 0 | S74: 0 | T74: 0 | U74: 40 | V74: 0
B75: Caramel (dulce) | C75: 260 | D75: 25 | E75: 2.5 | F75: 2 | G75: 0 | H75: 0 | I75: 110 | J75: 59 | K75: 0 | L75: 53 | M75: 42 | N75: 0 | O75: 0 | P75: 0 | Q75: 8 | R75: 0 | S75: 0 | T75: 0 | U75: 21 | V75: 0
B76: Cheesecake | C76: 220 | D76: 25 | E76: 2.5 | F76: 2.5 | G76: 0 | H76: 0 | I76: 55 | J76: 51 | K76: 0 | L76: 48 | M76: 21 | N76: 0 | O76: 0 | P76: 0 | Q76: 6 | R76: 0 | S76: 0 | T76: 0 | U76: 5 | V76: 0
B77: Chocolate Chip Cheesecake | C77: 250 | D77: 40 | E77: 4 | F77: 3 | G77: 0 | H77: 0 | I77: 50 | J77: 53 | K77: 0 | L77: 50 | M77: 24 | N77: 1 | O77: 0 | P77: 0 | Q77: 8.57823 | R77: 0 | S77: 0.602658 | T77: 4 | U77: 35 | V77: 1
B78: Chocolate Covered Banana | C78: 250 | D78: 35 | E78: 4 | F78: 3 | G78: 0 | H78: 0 | I78: 55 | J78: 55 | K78: 0 | L78: 52 | M78: 21 | N78: 1 | O78: 0 | P78: 0 | Q78: 16 | R78: 2 | S78: 0 | T78: 0 | U78: 27 | V78: 0
B79: Chocolate Covered Strawberry | C79: 250 | D79: 40 | E79: 4.5 | F79: 3.5 | G79: 0 | H79: 0 | I79: 60 | J79: 54 | K79: 0 | L79: 50 | M79: 47 | N79: 1 | O79: 0 | P79: 0 | Q79: 16.6959 | R79: 2 | S79: 0.704563 | T79: 4 | U79: 35 | V79: 1
B80: Coconut Cream | C80: 220 | D80: 25 | E80: 3 | F80: 2.5 | G80: 0 | H80: 0 | I80: 50 | J80: 50 | K80: 0 | L80: 46 | M80: 44 | N80: 0 | O80: 0 | P80: 0 | Q80: 7 | R80: 0 | S80: 0 | T80: 0 | U80: 7 | V80: 0
B81: Cookie Dough | C81: 240 | D81: 35 | E81: 4 | F81: 2.5 | G81: 0 | H81: 0 | I81: 70 | J81: 52 | K81: 0 | L81: 47 | M81: 47 | N81: 1 | O81: 0 | P81: 0 | Q81: 7.72262 | R81: 0 | S81: 0.311234 | T81: 2 | U81: 35 | V81: 1
B82: Cookies & Cream | C82: 270 | D82: 25 | E82: 2.5 | F82: 2 | G82: 0 | H82: 0 | I82: 65 | J82: 62 | K82: 0 | L82: 58 | M82: 57 | N82: 0 | O82: 0 | P82: 0 | Q82: 6 | R82: 0 | S82: 0 | T82: 0 | U82: 14 | V82: 0
B83: Fudge Brownie | C83: 270 | D83: 35 | E83: 4 | F83: 3 | G83: 0 | H83: 0 | I83: 80 | J83: 58 | K83: 0 | L83: 52 | M83: 51 | N83: 1 | O83: 0 | P83: 0 | Q83: 12.3235 | R83: 2 | S83: 1.11219 | T83: 6 | U83: 180 | V83: 5
... B98: Watermelon Chip | C98: 260 | D98: 35 | E98: 4 | F98: 3 | G98: 0 | H98: 0 | I98: 50 | J98: 59 | K98: 0 | L98: 55 | M98: 54 | N98: 1 | O98: 0 | P98: 0 | Q98: 8.75179 | R98: 0 | S98: 0.662526 | T98: 4 | U98: 40 | V98: 1
A99: Sugar-Free Ice | B99: S/F Cherry | C99: 90 | D99: 0 | E99: 0 | F99: 0 | G99: 0 | H99: 0 | I99: 20 | J99: 32 | K99: 0 | L99: 0 | M99: 0 | N99: 0 | O99: 0 | P99: 0 | Q99: 9 | R99: 0 | S99: 0 | T99: 0 | U99: 13 | V99: 0
B100: S/F Dragon Fruit | C100: 120 | D100: 0 | E100: 0 | F100: 0 | G100: 0 | H100: 0 | I100: 20 | J100: 42 | K100: 0 | L100: 0 | M100: 0 | N100: 0 | O100: 0 | P100: 0 | Q100: 10 | R100: 0 | S100: 0 | T100: 0 | U100: 24 | V100: 0
B101: S/F Mango Peach | C101: 90 | D101: 0 | E101: 0 | F101: 0 | G101: 0 | H101: 0 | I101: 20 | J101: 30 | K101: 0 | L101: 0 | M101: 0 | N101: 0 | O101: 0 | P101: 0 | Q101: 9 | R101: 0 | S101: 0 | T101: 0 | U101: 16 | V101: 0
B102: S/F Pineapple | C102: 90 | D102: 0 | E102: 0 | F102: 0 | G102: 0 | H102: 0 | I102: 20 | J102: 29 | K102: 0 | L102: 0 | M102: 0 | N102: 0 | O102: 0 | P102: 0 | Q102: 6 | R102: 0 | S102: 0 | T102: 0 | U102: 17 | V102: 0
B103: S/F Root Beer | C103: 90 | D103: 0 | E103: 0 | F103: 0 | G103: 0 | H103: 0 | I103: 25 | J103: 32 | K103: 0 | L103: 0 | M103: 0 | N103: 0 | O103: 0 | P103: 0 | Q103: 6 | R103: 0 | S103: 0 | T103: 0 | U103: 14 | V103: 0
B104: S/F Tangerine | C104: 90 | D104: 0 | E104: 0 | F104: 0 | G104: 0 | H104: 0 | I104: 25 | J104: 32 | K104: 0 | L104: 0 | M104: 0 | N104: 0 | O104: 0 | P104: 0 | Q104: 6 | R104: 0 | S104: 0 | T104: 0 | U104: 18 | V104: 0
B106: This nutrition information is based on standard recipes and product formulations; however; variations may occur due to differences in preparation, serving sizes, ingredients, or special orders. Current recommendations are to limit total saturated fat intake to 20 grams per day and to limit sodium intake to less than 2,400 mg per day for a 2,000 calorie-per-day diet. A 2,000 calorie daily diet is used for the basis of general nutrition advice; individual calorie needs however; may vary. ©2015 RITA’S FRANCHISE COMPANY. ALL RIGHTS RESERVED.
B108: Average Italian Ice | C108: =AVERAGE(C4:C58) -> 193.81818 | D108: =AVERAGE(D4:D58) -> 2.5454545 | E108: =AVERAGE(E4:E58) -> 0.25454545 | F108: =AVERAGE(F4:F58) -> 0.054545455 | G108: =AVERAGE(G4:G58) -> 0 | H108: =AVERAGE(H4:H58) -> 0 | I108: =AVERAGE(I4:I58) -> 33.363636 | J108: =AVERAGE(J4:J58) -> 48.763636 | ... V108: =AVERAGE(V4:V58) -> 0.10909091
B109: Range Italian Ice | C109: =ROUND(MIN(C4:C58),0) & " - " & ROUND(MAX(C4:C58),0) -> 130 - 280 | D109: =ROUND(MIN(D4:D58),0) & " - " & ROUND(MAX(D4:D58),0) -> 0 - 60 | E109: =ROUND(MIN(E4:E58),0) & " - " & ROUND(MAX(E4:E58),0) -> 0 - 7 | F109: =ROUND(MIN(F4:F58),0) & " - " & ROUND(MAX(F4:F58),0) -> 0 - 1 | G109: =ROUND(MIN(G4:G58),0) & " - " & ROUND(MAX(G4:G58),0) -> 0 - 0 | H109: =ROUND(MIN(H4:H58),0) & " - " & ROUND(MAX(H4:H58),0) -> 0 - 0 | I109: =ROUND(MIN(I4:I58),0) & " - " & ROUND(MAX(I4:I58),0) -> 15 - 85 | J109: =ROUND(MIN(J4:J58),0) & " - " & ROUND(MAX(J4:J58),0) -> 33 - 72 | ... V109: =ROUND(MIN(V4:V58),0) & " - " & ROUND(MAX(V4:V58),0) -> 0 - 2
B110: Average All-Natural Ice | C110: =AVERAGE(C59:C70) -> 174.16667 | D110: =AVERAGE(D59:D70) -> 1.25 | E110: =AVERAGE(E59:E70) -> 0.125 | F110: =AVERAGE(F59:F70) -> 0.125 | G110: =AVERAGE(G59:G70) -> 0 | H110: =AVERAGE(H59:H70) -> 0 | I110: =AVERAGE(I59:I70) -> 10 | J110: =AVERAGE(J59:J70) -> 38 | ... V110: =AVERAGE(V59:V70) -> 1.5
B111: Range All-Natural Ice | C111: =ROUND( MIN(C59:C70),0) & " - " & ROUND(MAX(C59:C70),0) -> 150 - 220 | D111: =ROUND( MIN(D59:D70),0) & " - " & ROUND(MAX(D59:D70),0) -> 0 - 10 | E111: =ROUND( MIN(E59:E70),0) & " - " & ROUND(MAX(E59:E70),0) -> 0 - 1 | F111: =ROUND( MIN(F59:F70),0) & " - " & ROUND(MAX(F59:F70),0) -> 0 - 1 | G111: =ROUND( MIN(G59:G70),0) & " - " & ROUND(MAX(G59:G70),0) -> 0 - 0 | H111: =ROUND( MIN(H59:H70),0) & " - " & ROUND(MAX(H59:H70),0) -> 0 - 0 | I111: =ROUND( MIN(I59:I70),0) & " - " & ROUND(MAX(I59:I70),0) -> 10 - 10 | J111: =ROUND( MIN(J59:J70),0) & " - " & ROUND(MAX(J59:J70),0) -> 32 - 43 | ... V111: =ROUND( MIN(V59:V70),0) & " - " & ROUND(MAX(V59:V70),0) -> 0 - 4
B112: Average Cream Ice | C112: =AVERAGE(C71:C98) -> 233.92857 | D112: =AVERAGE(D71:D98) -> 27.857143 | E112: =AVERAGE(E71:E98) -> 3.0535714 | F112: =AVERAGE(F71:F98) -> 2.3392857 | G112: =AVERAGE(G71:G98) -> 0 | H112: =AVERAGE(H71:H98) -> 0 | I112: =AVERAGE(I71:I98) -> 64.642857 | J112: =AVERAGE(J71:J98) -> 52.285714 | ... V112: =AVERAGE(V71:V98) -> 0.60714286
B113: Range Cream Ice | C113: =ROUND( MIN(C71:C98),0) & " - " & ROUND(MAX(C71:C98),0) -> 190 - 290 | D113: =ROUND( MIN(D71:D98),0) & " - " & ROUND(MAX(D71:D98),0) -> 0 - 60 | E113: =ROUND( MIN(E71:E98),0) & " - " & ROUND(MAX(E71:E98),0) -> 0 - 7 | F113: =ROUND( MIN(F71:F98),0) & " - " & ROUND(MAX(F71:F98),0) -> 0 - 4 | G113: =ROUND( MIN(G71:G98),0) & " - " & ROUND(MAX(G71:G98),0) -> 0 - 0 | H113: =ROUND( MIN(H71:H98),0) & " - " & ROUND(MAX(H71:H98),0) -> 0 - 0 | I113: =ROUND( MIN(I71:I98),0) & " - " & ROUND(MAX(I71:I98),0) -> 30 - 125 | J113: =ROUND( MIN(J71:J98),0) & " - " & ROUND(MAX(J71:J98),0) -> 42 - 62 | ... V113: =ROUND( MIN(V71:V98),0) & " - " & ROUND(MAX(V71:V98),0) -> 0 - 5
B114: Average Sugar-Free Ice | C114: =AVERAGE(C99:C104) -> 95 | D114: =AVERAGE(D99:D104) -> 0 | E114: =AVERAGE(E99:E104) -> 0 | F114: =AVERAGE(F99:F104) -> 0 | G114: =AVERAGE(G99:G104) -> 0 | H114: =AVERAGE(H99:H104) -> 0 | I114: =AVERAGE(I99:I104) -> 21.666667 | J114: =AVERAGE(J99:J104) -> 32.833333 | ... V114: =AVERAGE(V99:V104) -> 0
B115: Range Sugar-Free Ice | C115: =ROUND( MIN(C99:C104),0) & " - " &ROUND( MAX(C99:C104),0) -> 90 - 120 | D115: =ROUND( MIN(D99:D104),0) & " - " &ROUND( MAX(D99:D104),0) -> 0 - 0 | E115: =ROUND( MIN(E99:E104),0) & " - " &ROUND( MAX(E99:E104),0) -> 0 - 0 | F115: =ROUND( MIN(F99:F104),0) & " - " &ROUND( MAX(F99:F104),0) -> 0 - 0 | G115: =ROUND( MIN(G99:G104),0) & " - " &ROUND( MAX(G99:G104),0) -> 0 - 0 | H115: =ROUND( MIN(H99:H104),0) & " - " &ROUND( MAX(H99:H104),0) -> 0 - 0 | I115: =ROUND( MIN(I99:I104),0) & " - " &ROUND( MAX(I99:I104),0) -> 20 - 25 | J115: =ROUND( MIN(J99:J104),0) & " - " &ROUND( MAX(J99:J104),0) -> 29 - 42 | ... V115: =ROUND( MIN(V99:V104),0) & " - " &ROUND( MAX(V99:V104),0) -> 0 - 0

Sheet Kids (7 oz)
A1: CUP - 7 oz
A3: Flavor | B3: Calories | C3: Calories from Fat | D3: Fat | E3: Saturated Fat | F3: Trans Fat | G3: Cholesterol | H3: Sodium | I3: Total Carbohydrates | J3: Dietary Fiber | K3: Total Sugar | L3: Added Sugar | M3: Protein | N3: Vitamin D | O3: Vitamin D (% DV) | P3: Calcium | Q3: Calcium (%DV) | R3: Iron | S3: Iron (%DV) | T3: Potassium | U3: Potassium (%DV)
A4: All Natural Cranberry Pineapple | B4: 130 | C4: 0 | D4: 0 | E4: 0 | F4: 0 | G4: 0 | H4: 10 | I4: 34 | J4: 0 | K4: 33 | L4: 32 | M4: 0 | N4: 0 | O4: 0 | P4: 8.04805 | Q4: 0 | R4: 0.146538 | S4: 0 | T4: 15 | U4: 0
A5: All Natural Cranberry Strawberry | B5: 170 | C5: 0 | D5: 0 | E5: 0 | F5: 0 | G5: 0 | H5: 5 | I5: 33 | J5: 0 | K5: 30 | L5: 30 | M5: 0 | N5: 0 | O5: 0 | P5: 16.0042 | Q5: 2 | R5: 0.150967 | S5: 0 | T5: 95 | U5: 3
A6: All Natural Orange-Pineapple | B6: 140 | C6: 0 | D6: 0 | E6: 0 | F6: 0 | G6: 0 | H6: 10 | I6: 35 | J6: 0 | K6: 34 | L6: 31 | M6: 0 | N6: 0 | O6: 0 | P6: 10.4482 | Q6: 2 | R6: 0.174413 | S6: 0 | T6: 45 | U6: 1
A7: All Natural Strawberry Pineapple | B7: 150 | C7: 0 | D7: 0 | E7: 0 | F7: 0 | G7: 0 | H7: 10 | I7: 28 | J7: 0 | K7: 26 | L7: 25 | M7: 0 | N7: 0 | O7: 0 | P7: 15.6204 | Q7: 2 | R7: 0.115109 | S7: 0 | T7: 105 | U7: 3
A8: All Natural Strawberry-Banana | B8: 160 | C8: 0 | D8: 0 | E8: 0 | F8: 0 | G8: 0 | H8: 10 | I8: 30 | J8: 0 | K8: 29 | L8: 27 | M8: 0 | N8: 0 | O8: 0 | P8: 15.5558 | Q8: 2 | R8: 0.128944 | S8: 0 | T8: 115 | U8: 3
A9: All-Natural Banana | B9: 170 | C9: 0 | D9: 0 | E9: 0 | F9: 0 | G9: 0 | H9: 10 | I9: 34 | J9: 0 | K9: 32 | L9: 30 | M9: 0 | N9: 0 | O9: 0 | P9: 13.98 | Q9: 2 | R9: 0.122437 | S9: 0 | T9: 125 | U9: 4
A10: All-Natural Coconut | B10: 130 | C10: 5 | D10: 1 | E10: 1 | F10: 0 | G10: 0 | H10: 10 | I10: 30 | J10: 0 | K10: 30 | L10: 27 | M10: 0 | N10: 0 | O10: 0 | P10: 7.09738 | Q10: 0 | R10: 0.529537 | S10: 2 | T10: 5 | U10: 0
A11: All-Natural Cranberry | B11: 130 | C11: 0 | D11: 0 | E11: 0 | F11: 0 | G11: 0 | H11: 10 | I11: 34 | J11: 0 | K11: 33 | L11: 32 | M11: 0 | N11: 0 | O11: 0 | P11: 7.54571 | Q11: 0 | R11: 0.116569 | S11: 0 | T11: 5 | U11: 0
A12: All-Natural Orange | B12: 140 | C12: 0 | D12: 0 | E12: 0 | F12: 0 | G12: 0 | H12: 10 | I12: 34 | J12: 0 | K12: 33 | L12: 31 | M12: 0 | N12: 0 | O12: 0 | P12: 11.0418 | Q12: 2 | R12: 0.114701 | S12: 0 | T12: 55 | U12: 2
A13: All Natural Pineapple Coconut | B13: 130 | C13: 5 | D13: 0.5 | E13: 0.5 | F13: 0 | G13: 0 | H13: 10 | I13: 32 | J13: 0 | K13: 31 | L13: 28 | M13: 0 | N13: 0 | O13: 0 | P13: 7.17886 | Q13: 0 | R13: 0.441326 | S13: 2 | T13: 10 | U13: 0
A14: All-Natural Pineapple | B14: 150 | C14: 0 | D14: 0 | E14: 0 | F14: 0 | G14: 0 | H14: 10 | I14: 36 | J14: 0 | K14: 36 | L14: 32 | M14: 0 | N14: 0 | O14: 0 | P14: 9.63241 | Q14: 0 | R14: 0.2526 | S14: 2 | T14: 35 | U14: 1
A15: All-Natural Strawberry | B15: 190 | C15: 0 | D15: 0 | E15: 0 | F15: 0 | G15: 0 | H15: 5 | I15: 29 | J15: 0 | K15: 27 | L15: 27 | M15: 1 | N15: 0 | O15: 0 | P15: 21.8354 | Q15: 2 | R15: 0.107218 | S15: 0 | T15: 170 | U15: 5
... A104: Unicorn | B104: 160 | C104: 0 | D104: 0 | E104: 0 | F104: 0 | G104: 0 | H104: 75 | I104: 42 | J104: 0 | K104: 38 | L104: 38 | M104: 0 | N104: 0 | O104: 0 | P104: 6 | Q104: 0 | R104: 0 | S104: 0 | T104: 15 | U104: 0
A107: Range | B107: =MIN(B4:B104) &" - "& MAX(B4:B104) -> 70 - 250 | C107: =MIN(C4:C104) &" - "& MAX(C4:C104) -> 0 - 50 | D107: =MIN(D4:D104) &" - "& MAX(D4:D104) -> 0 - 6 | E107: =MIN(E4:E104) &" - "& MAX(E4:E104) -> 0 - 3 | F107: =MIN(F4:F104) &" - "& MAX(F4:F104) -> 0 - 0 | G107: =MIN(G4:G104) &" - "& MAX(G4:G104) -> 0 - 0 | H107: =MIN(H4:H104) &" - "& MAX(H4:H104) -> 5 - 110 | I107: =MIN(I4:I104) &" - "& MAX(I4:I104) -> 25 - 61 | ... U107: =MIN(U4:U104) &" - "& MAX(U4:U104) -> 0 - 5
A108: Average | B108: =AVERAGE(B4:B104) -> 167.82178 | C108: =AVERAGE(C4:C104) -> 7.8217822 | D108: =AVERAGE(D4:D104) -> 0.85643564 | E108: =AVERAGE(E4:E104) -> 0.6039604 | F108: =AVERAGE(F4:F104) -> 0 | G108: =AVERAGE(G4:G104) -> 0 | H108: =AVERAGE(H4:H104) -> 32.920792 | I108: =AVERAGE(I4:I104) -> 40.485149 | ... U108: =AVERAGE(U4:U104) -> 0.55445545

Sheet Kids 
A1: Italian Ice
A2: Kids Portion (8.2 oz)
A3: Flavor Type | B3: Flavor | C3: Calories | D3: Calories | E3: Calories from Fat | F3: Calories from Fat | G3: Fat | H3: Fat | I3: Saturated Fat | J3: Saturated Fat | K3: Trans Fat | L3: Trans Fat | M3: Cholesterol | N3: Cholesterol | O3: Sodium | P3: Sodium | Q3: Total Carbohydrates | R3: Total Carbohydrates | S3: Dietary Fiber | T3: Dietary Fiber | U3: Total Sugar | V3: Total Sugar | W3: Added Sugar | X3: Added Sugar | Y3: Protein | Z3: Protein | AA3: Vitamin D | AB3: Vitamin D | AC3: Vitamin D (% DV) | AD3: Vitamin D (% DV) | AE3: Calcium | AF3: Calcium | AG3: Calcium (%DV) | AH3: Calcium (%DV) | AI3: Iron | AJ3: Iron | AK3: Iron (%DV) | AL3: Iron (%DV) | AM3: Potassium | AN3: Potassium | AO3: Potassium (%DV) | AP3: Potassium (%DV)
A4: Italian Ice | B4: Apple Berry Blue | C4: 180.573 | D4: =MROUND(C4,10) -> 180 | E4: 0 | F4: =IF(E4<5,0,(IF(E4>50,MROUND(E4,10),MROUND(E4,5)))) -> 0 | G4: 0 | H4: =IF(G4<0.5,0,MROUND(G4,5)) -> 0 | I4: 0 | J4: =IF(I4<0.5,0,MROUND(I4,5)) -> 0 | K4: 0 | L4: =IF(K4<0.5,0,MROUND(K4,5)) -> 0 | M4: 0 | N4: 0 | O4: 29.085 | P4: =MROUND(O4,5) -> 30 | Q4: 45.711 | R4: =(MROUND(Q4,1)) -> 46 | S4: 0.015 | T4: 0 | U4: 44.305 | V4: =(MROUND(U4,1)) -> 44 | W4: 42.853 | X4: =(MROUND(W4,1)) -> 43 | Y4: 0 | Z4: 0 | AA4: 0 | AB4: =MROUND(AA4,1) -> 0 | AC4: 0 | AD4: =IF(AC4<1,"*",IF(AC4>1,((MROUND(AC4,2))*0.01))) -> * | AE4: 5.934 | AF4: =MROUND(AE4,1) -> 6 | AG4: 0.456 | AH4: =IF(AG4<1,"*",IF(AG4>1,((MROUND(AG4,2))*0.01))) -> * | AI4: 0.025 | AJ4: =MROUND(AI4,1) -> 0 | AK4: 0.136 | AL4: =IF(AK4<1,"*",IF(AK4>1,((MROUND(AK4,2))*0.01))) -> * | AM4: 0.504 | AN4: =MROUND(AM4,1) -> 1 | AO4: 0.011 | AP4: =IF(AO4<1,"*",IF(AO4>1,((MROUND(AO4,2))*0.01))) -> *
A5: Italian Ice | B5: Banana | C5: 215.023 | D5: =MROUND(C5,10) -> 220 | E5: 0.521 | F5: =IF(E5<5,0,(IF(E5>50,MROUND(E5,10),MROUND(E5,5)))) -> 0 | G5: 0.058 | H5: =IF(G5<0.5,0,MROUND(G5,5)) -> 0 | I5: 0.048 | J5: =IF(I5<0.5,0,MROUND(I5,5)) -> 0 | K5: 0.002 | L5: =IF(K5<0.5,0,MROUND(K5,5)) -> 0 | M5: 0 | N5: 0 | O5: 24.719 | P5: =MROUND(O5,5) -> 25 | Q5: 54.417 | R5: =(MROUND(Q5,1)) -> 54 | S5: 0.234 | T5: 0 | U5: 51.967 | V5: =(MROUND(U5,1)) -> 52 | W5: 50.423 | X5: =(MROUND(W5,1)) -> 50 | Y5: 0.083 | Z5: 0 | AA5: 0 | AB5: =MROUND(AA5,1) -> 0 | AC5: 0 | AD5: =IF(AC5<1,"*",IF(AC5>1,((MROUND(AC5,2))*0.01))) -> * | AE5: 5.531 | AF5: =MROUND(AE5,1) -> 6 | AG5: 0.425 | AH5: =IF(AG5<1,"*",IF(AG5>1,((MROUND(AG5,2))*0.01))) -> * | AI5: 0.042 | AJ5: =MROUND(AI5,1) -> 0 | AK5: 0.233 | AL5: =IF(AK5<1,"*",IF(AK5>1,((MROUND(AK5,2))*0.01))) -> * | AM5: 42.168 | AN5: =MROUND(AM5,1) -> 42 | AO5: 0.897 | AP5: =IF(AO5<1,"*",IF(AO5>1,((MROUND(AO5,2))*0.01))) -> *
A6: Italian Ice | B6: Blue Raspberry | C6: 203.962 | D6: =MROUND(C6,10) -> 200 | E6: 0 | F6: =IF(E6<5,0,(IF(E6>50,MROUND(E6,10),MROUND(E6,5)))) -> 0 | G6: 0 | H6: =IF(G6<0.5,0,MROUND(G6,5)) -> 0 | I6: 0 | J6: =IF(I6<0.5,0,MROUND(I6,5)) -> 0 | K6: 0 | L6: =IF(K6<0.5,0,MROUND(K6,5)) -> 0 | M6: 0 | N6: 0 | O6: 28.13 | P6: =MROUND(O6,5) -> 30 | Q6: 51.729 | R6: =(MROUND(Q6,1)) -> 52 | S6: 0.021 | T6: 0 | U6: 50.413 | V6: =(MROUND(U6,1)) -> 50 | W6: 50.413 | X6: =(MROUND(W6,1)) -> 50 | Y6: 0 | Z6: 0 | AA6: 0 | AB6: =MROUND(AA6,1) -> 0 | AC6: 0 | AD6: =IF(AC6<1,"*",IF(AC6>1,((MROUND(AC6,2))*0.01))) -> * | AE6: 10.038 | AF6: =MROUND(AE6,1) -> 10 | AG6: 0.772 | AH6: =IF(AG6<1,"*",IF(AG6>1,((MROUND(AG6,2))*0.01))) -> * | AI6: 0.36 | AJ6: =MROUND(AI6,1) -> 0 | AK6: 2.001 | AL6: =IF(AK6<1,"*",IF(AK6>1,((MROUND(AK6,2))*0.01))) -> 0.02 | AM6: 47.768 | AN6: =MROUND(AM6,1) -> 48 | AO6: 1.016 | AP6: =IF(AO6<1,"*",IF(AO6>1,((MROUND(AO6,2))*0.01))) -> 0.02
A7: Italian Ice | B7: Blueberry | C7: 204.729 | D7: =MROUND(C7,10) -> 200 | E7: 0.2422 | F7: =IF(E7<5,0,(IF(E7>50,MROUND(E7,10),MROUND(E7,5)))) -> 0 | G7: 0 | H7: =IF(G7<0.5,0,MROUND(G7,5)) -> 0 | I7: 0.002 | J7: =IF(I7<0.5,0,MROUND(I7,5)) -> 0 | K7: 0 | L7: =IF(K7<0.5,0,MROUND(K7,5)) -> 0 | M7: 0 | N7: 0 | O7: 28.408 | P7: =MROUND(O7,5) -> 30 | Q7: 51.866 | R7: =(MROUND(Q7,1)) -> 52 | S7: 0.134 | T7: 0 | U7: 50.371 | V7: =(MROUND(U7,1)) -> 50 | W7: 50.016 | X7: =(MROUND(W7,1)) -> 50 | Y7: 0.018 | Z7: 0 | AA7: 0 | AB7: =MROUND(AA7,1) -> 0 | AC7: 0 | AD7: =IF(AC7<1,"*",IF(AC7>1,((MROUND(AC7,2))*0.01))) -> * | AE7: 26.392 | AF7: =MROUND(AE7,1) -> 26 | AG7: 2.03 | AH7: =IF(AG7<1,"*",IF(AG7>1,((MROUND(AG7,2))*0.01))) -> 0.02 | AI7: 0.197 | AJ7: =MROUND(AI7,1) -> 0 | AK7: 1.095 | AL7: =IF(AK7<1,"*",IF(AK7>1,((MROUND(AK7,2))*0.01))) -> 0.02 | AM7: 5.036 | AN7: =MROUND(AM7,1) -> 5 | AO7: 0.107 | AP7: =IF(AO7<1,"*",IF(AO7>1,((MROUND(AO7,2))*0.01))) -> *
A8: Italian Ice | B8: Blueberry Lemonade | C8: 146.504 | D8: =MROUND(C8,10) -> 150 | E8: 0.0491 | F8: =IF(E8<5,0,(IF(E8>50,MROUND(E8,10),MROUND(E8,5)))) -> 0 | G8: 0.037 | H8: =IF(G8<0.5,0,MROUND(G8,5)) -> 0 | I8: 0.001 | J8: =IF(I8<0.5,0,MROUND(I8,5)) -> 0 | K8: 0 | L8: =IF(K8<0.5,0,MROUND(K8,5)) -> 0 | M8: 0 | N8: 0 | O8: 25.664 | P8: =MROUND(O8,5) -> 25 | Q8: 38.037 | R8: =(MROUND(Q8,1)) -> 38 | S8: 0.188 | T8: 0 | U8: 35.118 | V8: =(MROUND(U8,1)) -> 35 | W8: 34.482 | X8: =(MROUND(W8,1)) -> 34 | Y8: 0.117 | Z8: 0 | AA8: 0 | AB8: =MROUND(AA8,1) -> 0 | AC8: 0 | AD8: =IF(AC8<1,"*",IF(AC8>1,((MROUND(AC8,2))*0.01))) -> * | AE8: 16.005 | AF8: =MROUND(AE8,1) -> 16 | AG8: 1.231 | AH8: =IF(AG8<1,"*",IF(AG8>1,((MROUND(AG8,2))*0.01))) -> 0.02 | AI8: 0.07 | AJ8: =MROUND(AI8,1) -> 0 | AK8: 0.39 | AL8: =IF(AK8<1,"*",IF(AK8>1,((MROUND(AK8,2))*0.01))) -> * | AM8: 14.334 | AN8: =MROUND(AM8,1) -> 14 | AO8: 0.305 | AP8: =IF(AO8<1,"*",IF(AO8>1,((MROUND(AO8,2))*0.01))) -> *
A9: Italian Ice | B9: Cantaloupe | C9: 174.194 | D9: =MROUND(C9,10) -> 170 | E9: 0.075 | F9: =IF(E9<5,0,(IF(E9>50,MROUND(E9,10),MROUND(E9,5)))) -> 0 | G9: 0.008 | H9: =IF(G9<0.5,0,MROUND(G9,5)) -> 0 | I9: 0.002 | J9: =IF(I9<0.5,0,MROUND(I9,5)) -> 0 | K9: 0 | L9: =IF(K9<0.5,0,MROUND(K9,5)) -> 0 | M9: 0 | N9: 0 | O9: 28.71 | P9: =MROUND(O9,5) -> 30 | Q9: 44.247 | R9: =(MROUND(Q9,1)) -> 44 | S9: 0.04 | T9: 0 | U9: 42.266 | V9: =(MROUND(U9,1)) -> 42 | W9: 41.92 | X9: =(MROUND(W9,1)) -> 42 | Y9: 0.042 | Z9: 0 | AA9: 0 | AB9: =MROUND(AA9,1) -> 0 | AC9: 0 | AD9: =IF(AC9<1,"*",IF(AC9>1,((MROUND(AC9,2))*0.01))) -> * | AE9: 6.591 | AF9: =MROUND(AE9,1) -> 7 | AG9: 0.507 | AH9: =IF(AG9<1,"*",IF(AG9>1,((MROUND(AG9,2))*0.01))) -> * | AI9: 0.043 | AJ9: =MROUND(AI9,1) -> 0 | AK9: 0.24 | AL9: =IF(AK9<1,"*",IF(AK9>1,((MROUND(AK9,2))*0.01))) -> * | AM9: 0.698 | AN9: =MROUND(AM9,1) -> 1 | AO9: 0.015 | AP9: =IF(AO9<1,"*",IF(AO9>1,((MROUND(AO9,2))*0.01))) -> *
A10: Italian Ice | B10: Carnival | C10: 186.99 | D10: =MROUND(C10,10) -> 190 | E10: 0 | F10: =IF(E10<5,0,(IF(E10>50,MROUND(E10,10),MROUND(E10,5)))) -> 0 | G10: 0 | H10: =IF(G10<0.5,0,MROUND(G10,5)) -> 0 | I10: 0 | J10: =IF(I10<0.5,0,MROUND(I10,5)) -> 0 | K10: 0 | L10: =IF(K10<0.5,0,MROUND(K10,5)) -> 0 | M10: 0 | N10: 0 | O10: 25.159 | P10: =MROUND(O10,5) -> 25 | Q10: 47.268 | R10: =(MROUND(Q10,1)) -> 47 | S10: 0 | T10: 0 | U10: 45.468 | V10: =(MROUND(U10,1)) -> 45 | W10: 45.787 | X10: =(MROUND(W10,1)) -> 46 | Y10: 0 | Z10: 0 | AA10: 0 | AB10: =MROUND(AA10,1) -> 0 | AC10: 0 | AD10: =IF(AC10<1,"*",IF(AC10>1,((MROUND(AC10,2))*0.01))) -> * | AE10: 6.821 | AF10: =MROUND(AE10,1) -> 7 | AG10: 0.525 | AH10: =IF(AG10<1,"*",IF(AG10>1,((MROUND(AG10,2))*0.01))) -> * | AI10: 0.051 | AJ10: =MROUND(AI10,1) -> 0 | AK10: 0.283 | AL10: =IF(AK10<1,"*",IF(AK10>1,((MROUND(AK10,2))*0.01))) -> * | AM10: 2.95 | AN10: =MROUND(AM10,1) -> 3 | AO10: 0.063 | AP10: =IF(AO10<1,"*",IF(AO10>1,((MROUND(AO10,2))*0.01))) -> *
A11: Italian Ice | B11: Cherry | C11: 157.576 | D11: =MROUND(C11,10) -> 160 | E11: 0 | F11: =IF(E11<5,0,(IF(E11>50,MROUND(E11,10),MROUND(E11,5)))) -> 0 | G11: 0.021 | H11: =IF(G11<0.5,0,MROUND(G11,5)) -> 0 | I11: 0 | J11: =IF(I11<0.5,0,MROUND(I11,5)) -> 0 | K11: 0 | L11: =IF(K11<0.5,0,MROUND(K11,5)) -> 0 | M11: 0 | N11: 0 | O11: 27.006 | P11: =MROUND(O11,5) -> 25 | Q11: 40.533 | R11: =(MROUND(Q11,1)) -> 41 | S11: 0.081 | T11: 0 | U11: 38.112 | V11: =(MROUND(U11,1)) -> 38 | W11: 36.842 | X11: =(MROUND(W11,1)) -> 37 | Y11: 0.021 | Z11: 0 | AA11: 0 | AB11: =MROUND(AA11,1) -> 0 | AC11: 0 | AD11: =IF(AC11<1,"*",IF(AC11>1,((MROUND(AC11,2))*0.01))) -> * | AE11: 8.445 | AF11: =MROUND(AE11,1) -> 8 | AG11: 0.65 | AH11: =IF(AG11<1,"*",IF(AG11>1,((MROUND(AG11,2))*0.01))) -> * | AI11: 0.034 | AJ11: =MROUND(AI11,1) -> 0 | AK11: 0.187 | AL11: =IF(AK11<1,"*",IF(AK11>1,((MROUND(AK11,2))*0.01))) -> * | AM11: 26.525 | AN11: =MROUND(AM11,1) -> 27 | AO11: 0.564 | AP11: =IF(AO11<1,"*",IF(AO11>1,((MROUND(AO11,2))*0.01))) -> *
A12: Italian Ice | B12: Cherry Lemonade | C12: 170.202 | D12: =MROUND(C12,10) -> 170 | E12: 0.242 | F12: =IF(E12<5,0,(IF(E12>50,MROUND(E12,10),MROUND(E12,5)))) -> 0 | G12: 0.027 | H12: =IF(G12<0.5,0,MROUND(G12,5)) -> 0 | I12: 0 | J12: =IF(I12<0.5,0,MROUND(I12,5)) -> 0 | K12: 0 | L12: =IF(K12<0.5,0,MROUND(K12,5)) -> 0 | M12: 0 | N12: 0 | O12: 22.956 | P12: =MROUND(O12,5) -> 25 | Q12: 44.176 | R12: =(MROUND(Q12,1)) -> 44 | S12: 0.042 | T12: 0 | U12: 41.103 | V12: =(MROUND(U12,1)) -> 41 | W12: 40.824 | X12: =(MROUND(W12,1)) -> 41 | Y12: 0.075 | Z12: 0 | AA12: 0 | AB12: =MROUND(AA12,1) -> 0 | AC12: 0.003 | AD12: =IF(AC12<1,"*",IF(AC12>1,((MROUND(AC12,2))*0.01))) -> * | AE12: 11.038 | AF12: =MROUND(AE12,1) -> 11 | AG12: 0.849 | AH12: =IF(AG12<1,"*",IF(AG12>1,((MROUND(AG12,2))*0.01))) -> * | AI12: 0.288 | AJ12: =MROUND(AI12,1) -> 0 | AK12: 1.601 | AL12: =IF(AK12<1,"*",IF(AK12>1,((MROUND(AK12,2))*0.01))) -> 0.02 | AM12: 59.519 | AN12: =MROUND(AM12,1) -> 60 | AO12: 1.266 | AP12: =IF(AO12<1,"*",IF(AO12>1,((MROUND(AO12,2))*0.01))) -> 0.02
A13: Italian Ice | B13: Cherry Limeade | C13: 191.065 | D13: =MROUND(C13,10) -> 190 | E13: 0.035 | F13: =IF(E13<5,0,(IF(E13>50,MROUND(E13,10),MROUND(E13,5)))) -> 0 | G13: 0.004 | H13: =IF(G13<0.5,0,MROUND(G13,5)) -> 0 | I13: 0 | J13: =IF(I13<0.5,0,MROUND(I13,5)) -> 0 | K13: 0 | L13: =IF(K13<0.5,0,MROUND(K13,5)) -> 0 | M13: 0 | N13: 0 | O13: 39.048 | P13: =MROUND(O13,5) -> 40 | Q13: 48.826 | R13: =(MROUND(Q13,1)) -> 49 | S13: 0.088 | T13: 0 | U13: 46.437 | V13: =(MROUND(U13,1)) -> 46 | W13: 46.403 | X13: =(MROUND(W13,1)) -> 46 | Y13: 0.023 | Z13: 0 | AA13: 0 | AB13: =MROUND(AA13,1) -> 0 | AC13: 0 | AD13: =IF(AC13<1,"*",IF(AC13>1,((MROUND(AC13,2))*0.01))) -> * | AE13: 6.061 | AF13: =MROUND(AE13,1) -> 6 | AG13: 0.466 | AH13: =IF(AG13<1,"*",IF(AG13>1,((MROUND(AG13,2))*0.01))) -> * | AI13: 0.024 | AJ13: =MROUND(AI13,1) -> 0 | AK13: 0.134 | AL13: =IF(AK13<1,"*",IF(AK13>1,((MROUND(AK13,2))*0.01))) -> * | AM13: 12.544 | AN13: =MROUND(AM13,1) -> 13 | AO13: 0.267 | AP13: =IF(AO13<1,"*",IF(AO13>1,((MROUND(AO13,2))*0.01))) -> *
A14: Italian Ice | B14: Chocolate | C14: 230.651 | D14: =MROUND(C14,10) -> 230 | E14: 2.525 | F14: =IF(E14<5,0,(IF(E14>50,MROUND(E14,10),MROUND(E14,5)))) -> 0 | G14: 0.281 | H14: =IF(G14<0.5,0,MROUND(G14,5)) -> 0 | I14: 0.166 | J14: =IF(I14<0.5,0,MROUND(I14,5)) -> 0 | K14: 0 | L14: =IF(K14<0.5,0,MROUND(K14,5)) -> 0 | M14: 0 | N14: 0 | O14: 43.544 | P14: =MROUND(O14,5) -> 45 | Q14: 58.8 | R14: =(MROUND(Q14,1)) -> 59 | S14: 0.821 | T14: less than 1 g | U14: 55.857 | V14: =(MROUND(U14,1)) -> 56 | W14: 55.627 | X14: =(MROUND(W14,1)) -> 56 | Y14: 0.831 | Z14: less than 1 g | AA14: 0.004 | AB14: =MROUND(AA14,1) -> 0 | AC14: 0 | AD14: =IF(AC14<1,"*",IF(AC14>1,((MROUND(AC14,2))*0.01))) -> * | AE14: 5.38 | AF14: =MROUND(AE14,1) -> 5 | AG14: 0.414 | AH14: =IF(AG14<1,"*",IF(AG14>1,((MROUND(AG14,2))*0.01))) -> * | AI14: 0.009 | AJ14: =MROUND(AI14,1) -> 0 | AK14: 0.05 | AL14: =IF(AK14<1,"*",IF(AK14>1,((MROUND(AK14,2))*0.01))) -> * | AM14: 0.758 | AN14: =MROUND(AM14,1) -> 1 | AO14: 0.016 | AP14: =IF(AO14<1,"*",IF(AO14>1,((MROUND(AO14,2))*0.01))) -> *
A15: Italian Ice | B15: Chocolate Chocolate Chip | C15: 261.341 | D15: =MROUND(C15,10) -> 260 | E15: 17.663 | F15: =IF(E15<5,0,(IF(E15>50,MROUND(E15,10),MROUND(E15,5)))) -> 20 | G15: 1.995 | H15: =MROUND(G15,0.5) -> 2 | I15: 1.188 | J15: =MROUND(I15,0.5) -> 1 | K15: 0 | L15: =IF(K15<0.5,0,MROUND(K15,5)) -> 0 | M15: 0 | N15: 0 | O15: 43.386 | P15: =MROUND(O15,5) -> 45 | Q15: 63.383 | R15: =(MROUND(Q15,1)) -> 63 | S15: 1.344 | T15: =(MROUND(S15,1)) -> 1 | U15: 59.582 | V15: =(MROUND(U15,1)) -> 60 | W15: 59.351 | X15: =(MROUND(W15,1)) -> 59 | Y15: 0.831 | Z15: less than 1 g | AA15: 0.004 | AB15: =MROUND(AA15,1) -> 0 | AC15: 0 | AD15: =IF(AC15<1,"*",IF(AC15>1,((MROUND(AC15,2))*0.01))) -> * | AE15: 0.001 | AF15: =MROUND(AE15,1) -> 0 | AG15: 1.088 | AH15: =IF(AG15<1,"*",IF(AG15>1,((MROUND(AG15,2))*0.01))) -> 0.02 | AI15: 0.071 | AJ15: =MROUND(AI15,1) -> 0 | AK15: 0.392 | AL15: =IF(AK15<1,"*",IF(AK15>1,((MROUND(AK15,2))*0.01))) -> * | AM15: 12.246 | AN15: =MROUND(AM15,1) -> 12 | AO15: 0.261 | AP15: =IF(AO15<1,"*",IF(AO15>1,((MROUND(AO15,2))*0.01))) -> *
A16: Italian Ice | B16: Clementine | C16: 160.945 | D16: =MROUND(C16,10) -> 160 | E16: 0.028 | F16: =IF(E16<5,0,(IF(E16>50,MROUND(E16,10),MROUND(E16,5)))) -> 0 | G16: 0.003 | H16: =IF(G16<0.5,0,MROUND(G16,5)) -> 0 | I16: 0 | J16: =IF(I16<0.5,0,MROUND(I16,5)) -> 0 | K16: 0 | L16: =IF(K16<0.5,0,MROUND(K16,5)) -> 0 | M16: 0 | N16: 0 | O16: 22.53 | P16: =MROUND(O16,5) -> 25 | Q16: 40.688 | R16: =(MROUND(Q16,1)) -> 41 | S16: 0.047 | T16: 0 | U16: 38.727 | V16: =(MROUND(U16,1)) -> 39 | W16: 38.63 | X16: =(MROUND(W16,1)) -> 39 | Y16: 0.014 | Z16: 0 | AA16: 0 | AB16: =MROUND(AA16,1) -> 0 | AC16: 0 | AD16: =IF(AC16<1,"*",IF(AC16>1,((MROUND(AC16,2))*0.01))) -> * | AE16: 9.555 | AF16: =MROUND(AE16,1) -> 10 | AG16: 0.735 | AH16: =IF(AG16<1,"*",IF(AG16>1,((MROUND(AG16,2))*0.01))) -> * | AI16: 0.021 | AJ16: =MROUND(AI16,1) -> 0 | AK16: 0.116 | AL16: =IF(AK16<1,"*",IF(AK16>1,((MROUND(AK16,2))*0.01))) -> * | AM16: 0.831 | AN16: =MROUND(AM16,1) -> 1 | AO16: 0.018 | AP16: =IF(AO16<1,"*",IF(AO16>1,((MROUND(AO16,2))*0.01))) -> *
A17: Italian Ice | B17: Cotton Candy | C17: 195.669 | D17: =MROUND(C17,10) -> 200 | E17: 0 | F17: =IF(E17<5,0,(IF(E17>50,MROUND(E17,10),MROUND(E17,5)))) -> 0 | G17: 0 | H17: =IF(G17<0.5,0,MROUND(G17,5)) -> 0 | I17: 0 | J17: =IF(I17<0.5,0,MROUND(I17,5)) -> 0 | K17: 0 | L17: =IF(K17<0.5,0,MROUND(K17,5)) -> 0 | M17: 0 | N17: 0 | O17: 21.194 | P17: =MROUND(O17,5) -> 20 | Q17: 49.445 | R17: =(MROUND(Q17,1)) -> 49 | S17: 0 | T17: 0 | U17: 47.898 | V17: =(MROUND(U17,1)) -> 48 | W17: 47.898 | X17: =(MROUND(W17,1)) -> 48 | Y17: 0 | Z17: 0 | AA17: 0 | AB17: =MROUND(AA17,1) -> 0 | AC17: 0 | AD17: =IF(AC17<1,"*",IF(AC17>1,((MROUND(AC17,2))*0.01))) -> * | AE17: 7.108 | AF17: =MROUND(AE17,1) -> 7 | AG17: 0.547 | AH17: =IF(AG17<1,"*",IF(AG17>1,((MROUND(AG17,2))*0.01))) -> * | AI17: 0.019 | AJ17: =MROUND(AI17,1) -> 0 | AK17: 0.108 | AL17: =IF(AK17<1,"*",IF(AK17>1,((MROUND(AK17,2))*0.01))) -> * | AM17: 19.346 | AN17: =MROUND(AM17,1) -> 19 | AO17: 0.412 | AP17: =IF(AO17<1,"*",IF(AO17>1,((MROUND(AO17,2))*0.01))) -> *
A18: Italian Ice | B18: Dr. Pepper | C18: 98.273 | D18: =MROUND(C18,10) -> 100 | E18: 0 | F18: =IF(E18<5,0,(IF(E18>50,MROUND(E18,10),MROUND(E18,5)))) -> 0 | G18: 0 | H18: =IF(G18<0.5,0,MROUND(G18,5)) -> 0 | I18: 0 | J18: =IF(I18<0.5,0,MROUND(I18,5)) -> 0 | K18: 0 | L18: =IF(K18<0.5,0,MROUND(K18,5)) -> 0 | M18: 0 | N18: 0 | O18: 25.874 | P18: =MROUND(O18,5) -> 25 | Q18: 25.644 | R18: =(MROUND(Q18,1)) -> 26 | S18: 0 | T18: 0 | U18: 24.844 | V18: =(MROUND(U18,1)) -> 25 | W18: 18.834 | X18: =(MROUND(W18,1)) -> 19 | Y18: 0 | Z18: 0 | AA18: 0 | AB18: =MROUND(AA18,1) -> 0 | AC18: 0 | AD18: =IF(AC18<1,"*",IF(AC18>1,((MROUND(AC18,2))*0.01))) -> * | AE18: 6.199 | AF18: =MROUND(AE18,1) -> 6 | AG18: 0.477 | AH18: =IF(AG18<1,"*",IF(AG18>1,((MROUND(AG18,2))*0.01))) -> * | AI18: 0.027 | AJ18: =MROUND(AI18,1) -> 0 | AK18: 0.148 | AL18: =IF(AK18<1,"*",IF(AK18>1,((MROUND(AK18,2))*0.01))) -> * | AM18: 2.603 | AN18: =MROUND(AM18,1) -> 3 | AO18: 0.055 | AP18: =IF(AO18<1,"*",IF(AO18>1,((MROUND(AO18,2))*0.01))) -> *
A19: Italian Ice | B19: Georgia Peach | C19: 182.393 | D19: =MROUND(C19,10) -> 180 | E19: 0 | F19: =IF(E19<5,0,(IF(E19>50,MROUND(E19,10),MROUND(E19,5)))) -> 0 | G19: 0 | H19: =IF(G19<0.5,0,MROUND(G19,5)) -> 0 | I19: 0 | J19: =IF(I19<0.5,0,MROUND(I19,5)) -> 0 | K19: 0 | L19: =IF(K19<0.5,0,MROUND(K19,5)) -> 0 | M19: 0 | N19: 0 | O19: 21.415 | P19: =MROUND(O19,5) -> 20 | Q19: 45.943 | R19: =(MROUND(Q19,1)) -> 46 | S19: 0.179 | T19: 0 | U19: 44.518 | V19: =(MROUND(U19,1)) -> 45 | W19: 43.518 | X19: =(MROUND(W19,1)) -> 44 | Y19: 0.111 | Z19: 0 | AA19: 0 | AB19: =MROUND(AA19,1) -> 0 | AC19: 0.018 | AD19: =IF(AC19<1,"*",IF(AC19>1,((MROUND(AC19,2))*0.01))) -> * | AE19: 10.285 | AF19: =MROUND(AE19,1) -> 10 | AG19: 0.791 | AH19: =IF(AG19<1,"*",IF(AG19>1,((MROUND(AG19,2))*0.01))) -> * | AI19: 0.436 | AJ19: =MROUND(AI19,1) -> 0 | AK19: 2.419 | AL19: =IF(AK19<1,"*",IF(AK19>1,((MROUND(AK19,2))*0.01))) -> 0.02 | AM19: 59.041 | AN19: =MROUND(AM19,1) -> 59 | AO19: 1.256 | AP19: =IF(AO19<1,"*",IF(AO19>1,((MROUND(AO19,2))*0.01))) -> 0.02
A20: Italian Ice | B20: Green Apple | C20: 191.652 | D20: =MROUND(C20,10) -> 190 | E20: 0 | F20: =IF(E20<5,0,(IF(E20>50,MROUND(E20,10),MROUND(E20,5)))) -> 0 | G20: 0 | H20: =IF(G20<0.5,0,MROUND(G20,5)) -> 0 | I20: 0 | J20: =IF(I20<0.5,0,MROUND(I20,5)) -> 0 | K20: 0 | L20: =IF(K20<0.5,0,MROUND(K20,5)) -> 0 | M20: 0 | N20: 0 | O20: 29.025 | P20: =MROUND(O20,5) -> 30 | Q20: 48.597 | R20: =(MROUND(Q20,1)) -> 49 | S20: 0.011 | T20: 0 | U20: 47.13 | V20: =(MROUND(U20,1)) -> 47 | W20: 44.369 | X20: =(MROUND(W20,1)) -> 44 | Y20: 0 | Z20: 0 | AA20: 0 | AB20: =MROUND(AA20,1) -> 0 | AC20: 0 | AD20: =IF(AC20<1,"*",IF(AC20>1,((MROUND(AC20,2))*0.01))) -> * | AE20: 16.307 | AF20: =MROUND(AE20,1) -> 16 | AG20: 1.254 | AH20: =IF(AG20<1,"*",IF(AG20>1,((MROUND(AG20,2))*0.01))) -> 0.02 | AI20: 0.597 | AJ20: =MROUND(AI20,1) -> 1 | AK20: 3.315 | AL20: =IF(AK20<1,"*",IF(AK20>1,((MROUND(AK20,2))*0.01))) -> 0.04 | AM20: 39.152 | AN20: =MROUND(AM20,1) -> 39 | AO20: 0.833 | AP20: =IF(AO20<1,"*",IF(AO20>1,((MROUND(AO20,2))*0.01))) -> *
A21: Italian Ice | B21: Gummy Bear | C21: 234.692 | D21: =MROUND(C21,10) -> 230 | E21: 0.473 | F21: =IF(E21<5,0,(IF(E21>50,MROUND(E21,10),MROUND(E21,5)))) -> 0 | G21: 0.053 | H21: =IF(G21<0.5,0,MROUND(G21,5)) -> 0 | I21: 0 | J21: =IF(I21<0.5,0,MROUND(I21,5)) -> 0 | K21: 0 | L21: =IF(K21<0.5,0,MROUND(K21,5)) -> 0 | M21: 0 | N21: 0 | O21: 23.95 | P21: =MROUND(O21,5) -> 25 | Q21: 58.627 | R21: =(MROUND(Q21,1)) -> 59 | S21: 0 | T21: 0 | U21: 53.985 | V21: =(MROUND(U21,1)) -> 54 | W21: 53.985 | X21: =(MROUND(W21,1)) -> 54 | Y21: 0.421 | Z21: 0 | AA21: 0 | AB21: =MROUND(AA21,1) -> 0 | AC21: 0.018 | AD21: =IF(AC21<1,"*",IF(AC21>1,((MROUND(AC21,2))*0.01))) -> * | AE21: 12.608 | AF21: =MROUND(AE21,1) -> 13 | AG21: 0.97 | AH21: =IF(AG21<1,"*",IF(AG21>1,((MROUND(AG21,2))*0.01))) -> * | AI21: 1 | AJ21: =MROUND(AI21,1) -> 1 | AK21: 5.554 | AL21: =IF(AK21<1,"*",IF(AK21>1,((MROUND(AK21,2))*0.01))) -> 0.06 | AM21: 88.02 | AN21: =MROUND(AM21,1) -> 88 | AO21: 1.873 | AP21: =IF(AO21<1,"*",IF(AO21>1,((MROUND(AO21,2))*0.01))) -> 0.02
A22: Italian Ice | B22: Island Fusion | C22: 209.362 | D22: =MROUND(C22,10) -> 210 | E22: 0.081 | F22: =IF(E22<5,0,(IF(E22>50,MROUND(E22,10),MROUND(E22,5)))) -> 0 | G22: 0.009 | H22: =IF(G22<0.5,0,MROUND(G22,5)) -> 0 | I22: 0.005 | J22: =IF(I22<0.5,0,MROUND(I22,5)) -> 0 | K22: 0.005 | L22: =IF(K22<0.5,0,MROUND(K22,5)) -> 0 | M22: 0 | N22: 0 | O22: 21.943 | P22: =MROUND(O22,5) -> 20 | Q22: 52.892 | R22: =(MROUND(Q22,1)) -> 53 | S22: 0.14 | T22: 0 | U22: 50.696 | V22: =(MROUND(U22,1)) -> 51 | W22: 49.768 | X22: =(MROUND(W22,1)) -> 50 | Y22: 0.122 | Z22: 0 | AA22: 0.549 | AB22: =MROUND(AA22,1) -> 1 | AC22: 0 | AD22: =IF(AC22<1,"*",IF(AC22>1,((MROUND(AC22,2))*0.01))) -> * | AE22: 10.029 | AF22: =MROUND(AE22,1) -> 10 | AG22: 0.771 | AH22: =IF(AG22<1,"*",IF(AG22>1,((MROUND(AG22,2))*0.01))) -> * | AI22: 0.476 | AJ22: =MROUND(AI22,1) -> 0 | AK22: 2.644 | AL22: =IF(AK22<1,"*",IF(AK22>1,((MROUND(AK22,2))*0.01))) -> 0.02 | AM22: 72.135 | AN22: =MROUND(AM22,1) -> 72 | AO22: 1.535 | AP22: =IF(AO22<1,"*",IF(AO22>1,((MROUND(AO22,2))*0.01))) -> 0.02
A23: Italian Ice | B23: Juicy Pear | C23: 179.08 | D23: =MROUND(C23,10) -> 180 | E23: 0 | F23: =IF(E23<5,0,(IF(E23>50,MROUND(E23,10),MROUND(E23,5)))) -> 0 | G23: 0 | H23: =IF(G23<0.5,0,MROUND(G23,5)) -> 0 | I23: 0 | J23: =IF(I23<0.5,0,MROUND(I23,5)) -> 0 | K23: 0 | L23: =IF(K23<0.5,0,MROUND(K23,5)) -> 0 | M23: 0 | N23: 0 | O23: 21.757 | P23: =MROUND(O23,5) -> 20 | Q23: 45.134 | R23: =(MROUND(Q23,1)) -> 45 | S23: 0 | T23: 0 | U23: 43.312 | V23: =(MROUND(U23,1)) -> 43 | W23: 43.142 | X23: =(MROUND(W23,1)) -> 43 | Y23: 0.004 | Z23: 0 | AA23: 0 | AB23: =MROUND(AA23,1) -> 0 | AC23: 0 | AD23: =IF(AC23<1,"*",IF(AC23>1,((MROUND(AC23,2))*0.01))) -> * | AE23: 12.394 | AF23: =MROUND(AE23,1) -> 12 | AG23: 0.953 | AH23: =IF(AG23<1,"*",IF(AG23>1,((MROUND(AG23,2))*0.01))) -> * | AI23: 0.802 | AJ23: =MROUND(AI23,1) -> 1 | AK23: 4.457 | AL23: =IF(AK23<1,"*",IF(AK23>1,((MROUND(AK23,2))*0.01))) -> 0.04 | AM23: 60.753 | AN23: =MROUND(AM23,1) -> 61 | AO23: 1.293 | AP23: =IF(AO23<1,"*",IF(AO23>1,((MROUND(AO23,2))*0.01))) -> 0.02
A24: Italian Ice | B24: Key Lime | C24: 175.54 | D24: =MROUND(C24,10) -> 180 | E24: 0 | F24: =IF(E24<5,0,(IF(E24>50,MROUND(E24,10),MROUND(E24,5)))) -> 0 | G24: 0.014 | H24: =IF(G24<0.5,0,MROUND(G24,5)) -> 0 | I24: 0 | J24: =IF(I24<0.5,0,MROUND(I24,5)) -> 0 | K24: 0 | L24: =IF(K24<0.5,0,MROUND(K24,5)) -> 0 | M24: 0 | N24: 0 | O24: 43.886 | P24: =MROUND(O24,5) -> 45 | Q24: 44.552 | R24: =(MROUND(Q24,1)) -> 45 | S24: 0.04 | T24: 0 | U24: 41.888 | V24: =(MROUND(U24,1)) -> 42 | W24: 41.769 | X24: =(MROUND(W24,1)) -> 42 | Y24: 0.047 | Z24: 0 | AA24: 0 | AB24: =MROUND(AA24,1) -> 0 | AC24: 0.018 | AD24: =IF(AC24<1,"*",IF(AC24>1,((MROUND(AC24,2))*0.01))) -> * | AE24: 15.567 | AF24: =MROUND(AE24,1) -> 16 | AG24: 1.197 | AH24: =IF(AG24<1,"*",IF(AG24>1,((MROUND(AG24,2))*0.01))) -> 0.02 | AI24: 0.707 | AJ24: =MROUND(AI24,1) -> 1 | AK24: 3.926 | AL24: =IF(AK24<1,"*",IF(AK24>1,((MROUND(AK24,2))*0.01))) -> 0.04 | AM24: 100.765 | AN24: =MROUND(AM24,1) -> 101 | AO24: 2.144 | AP24: =IF(AO24<1,"*",IF(AO24>1,((MROUND(AO24,2))*0.01))) -> 0.02
A25: Italian Ice | B25: KOOL-AID Sharkleberry Fin | C25: 196.45 | D25: =MROUND(C25,10) -> 200 | E25: 0 | F25: =IF(E25<5,0,(IF(E25>50,MROUND(E25,10),MROUND(E25,5)))) -> 0 | G25: 0 | H25: =IF(G25<0.5,0,MROUND(G25,5)) -> 0 | I25: 0 | J25: =IF(I25<0.5,0,MROUND(I25,5)) -> 0 | K25: 0 | L25: =IF(K25<0.5,0,MROUND(K25,5)) -> 0 | M25: 0 | N25: 0 | O25: 22.187 | P25: =MROUND(O25,5) -> 20 | Q25: 49.797 | R25: =(MROUND(Q25,1)) -> 50 | S25: 0 | T25: 0 | U25: 47.792 | V25: =(MROUND(U25,1)) -> 48 | W25: 47.792 | X25: =(MROUND(W25,1)) -> 48 | Y25: 0 | Z25: 0 | AA25: 0 | AB25: =MROUND(AA25,1) -> 0 | AC25: 0 | AD25: =IF(AC25<1,"*",IF(AC25>1,((MROUND(AC25,2))*0.01))) -> * | AE25: 6.159 | AF25: =MROUND(AE25,1) -> 6 | AG25: 0.474 | AH25: =IF(AG25<1,"*",IF(AG25>1,((MROUND(AG25,2))*0.01))) -> * | AI25: 0.016 | AJ25: =MROUND(AI25,1) -> 0 | AK25: 0.091 | AL25: =IF(AK25<1,"*",IF(AK25>1,((MROUND(AK25,2))*0.01))) -> * | AM25: 2.395 | AN25: =MROUND(AM25,1) -> 2 | AO25: 0.051 | AP25: =IF(AO25<1,"*",IF(AO25>1,((MROUND(AO25,2))*0.01))) -> *
A26: Italian Ice | B26: KOOL-AID Tropical Punch | C26: 184.61 | D26: =MROUND(C26,10) -> 180 | E26: 0 | F26: =IF(E26<5,0,(IF(E26>50,MROUND(E26,10),MROUND(E26,5)))) -> 0 | G26: 0 | H26: =IF(G26<0.5,0,MROUND(G26,5)) -> 0 | I26: 0 | J26: =IF(I26<0.5,0,MROUND(I26,5)) -> 0 | K26: 0 | L26: =IF(K26<0.5,0,MROUND(K26,5)) -> 0 | M26: 0 | N26: 0 | O26: 22.689 | P26: =MROUND(O26,5) -> 25 | Q26: 45.861 | R26: =(MROUND(Q26,1)) -> 46 | S26: 0 | T26: 0 | U26: 45.544 | V26: =(MROUND(U26,1)) -> 46 | W26: 45.544 | X26: =(MROUND(W26,1)) -> 46 | Y26: 0 | Z26: 0 | AA26: 0 | AB26: =MROUND(AA26,1) -> 0 | AC26: 0 | AD26: =IF(AC26<1,"*",IF(AC26>1,((MROUND(AC26,2))*0.01))) -> * | AE26: 7.296 | AF26: =MROUND(AE26,1) -> 7 | AG26: 0.561 | AH26: =IF(AG26<1,"*",IF(AG26>1,((MROUND(AG26,2))*0.01))) -> * | AI26: 0.102 | AJ26: =MROUND(AI26,1) -> 0 | AK26: 0.569 | AL26: =IF(AK26<1,"*",IF(AK26>1,((MROUND(AK26,2))*0.01))) -> * | AM26: 7.272 | AN26: =MROUND(AM26,1) -> 7 | AO26: 0.155 | AP26: =IF(AO26<1,"*",IF(AO26>1,((MROUND(AO26,2))*0.01))) -> *
A27: Italian Ice | B27: Lemon | C27: 151.65 | D27: =MROUND(C27,10) -> 150 | E27: 0.304 | F27: =IF(E27<5,0,(IF(E27>50,MROUND(E27,10),MROUND(E27,5)))) -> 0 | G27: 0.034 | H27: =IF(G27<0.5,0,MROUND(G27,5)) -> 0 | I27: 0.001 | J27: =IF(I27<0.5,0,MROUND(I27,5)) -> 0 | K27: 0 | L27: =IF(K27<0.5,0,MROUND(K27,5)) -> 0 | M27: 0 | N27: 0 | O27: 7.981 | P27: =MROUND(O27,5) -> 10 | Q27: 39.547 | R27: =(MROUND(Q27,1)) -> 40 | S27: 0.105 | T27: 0 | U27: 37.778 | V27: =(MROUND(U27,1)) -> 38 | W27: 37.439 | X27: =(MROUND(W27,1)) -> 37 | Y27: 0.089 | Z27: 0 | AA27: 0 | AB27: =MROUND(AA27,1) -> 0 | AC27: 0.005 | AD27: =IF(AC27<1,"*",IF(AC27>1,((MROUND(AC27,2))*0.01))) -> * | AE27: 8.097 | AF27: =MROUND(AE27,1) -> 8 | AG27: 0.623 | AH27: =IF(AG27<1,"*",IF(AG27>1,((MROUND(AG27,2))*0.01))) -> * | AI27: 0.306 | AJ27: =MROUND(AI27,1) -> 0 | AK27: 1.699 | AL27: =IF(AK27<1,"*",IF(AK27>1,((MROUND(AK27,2))*0.01))) -> 0.02 | AM27: 35.613 | AN27: =MROUND(AM27,1) -> 36 | AO27: 0.758 | AP27: =IF(AO27<1,"*",IF(AO27>1,((MROUND(AO27,2))*0.01))) -> *
... A38: Italian Ice | B38: Pineapple | C38: 178.139 | D38: =MROUND(C38,10) -> 180 | E38: 0 | F38: =IF(E38<5,0,(IF(E38>50,MROUND(E38,10),MROUND(E38,5)))) -> 0 | G38: 0 | H38: =IF(G38<0.5,0,MROUND(G38,5)) -> 0 | I38: 0 | J38: =IF(I38<0.5,0,MROUND(I38,5)) -> 0 | K38: 0 | L38: =IF(K38<0.5,0,MROUND(K38,5)) -> 0 | M38: 0 | N38: 0 | O38: 27.898 | P38: =MROUND(O38,5) -> 30 | Q38: 44.469 | R38: =(MROUND(Q38,1)) -> 44 | S38: 0.044 | T38: 0 | U38: 42.949 | V38: =(MROUND(U38,1)) -> 43 | W38: 42.21 | X38: =(MROUND(W38,1)) -> 42 | Y38: 0.031 | Z38: 0 | AA38: 0 | AB38: =MROUND(AA38,1) -> 0 | AC38: 0 | AD38: =IF(AC38<1,"*",IF(AC38>1,((MROUND(AC38,2))*0.01))) -> * | AE38: 5.641 | AF38: =MROUND(AE38,1) -> 6 | AG38: 0.434 | AH38: =IF(AG38<1,"*",IF(AG38>1,((MROUND(AG38,2))*0.01))) -> * | AI38: 0.017 | AJ38: =MROUND(AI38,1) -> 0 | AK38: 0.092 | AL38: =IF(AK38<1,"*",IF(AK38>1,((MROUND(AK38,2))*0.01))) -> * | AM38: 7.411 | AN38: =MROUND(AM38,1) -> 7 | AO38: 0.158 | AP38: =IF(AO38<1,"*",IF(AO38>1,((MROUND(AO38,2))*0.01))) -> *
A39: Italian Ice | B39: Raspberry | C39: 190.749 | D39: =MROUND(C39,10) -> 190 | E39: 0.019 | F39: =IF(E39<5,0,(IF(E39>50,MROUND(E39,10),MROUND(E39,5)))) -> 0 | G39: 0.002 | H39: =IF(G39<0.5,0,MROUND(G39,5)) -> 0 | I39: 0.002 | J39: =IF(I39<0.5,0,MROUND(I39,5)) -> 0 | K39: 0 | L39: =IF(K39<0.5,0,MROUND(K39,5)) -> 0 | M39: 0 | N39: 0 | O39: 28.131 | P39: =MROUND(O39,5) -> 30 | Q39: 48.43 | R39: =(MROUND(Q39,1)) -> 48 | S39: 0.668 | T39: less than 1 g | U39: 45.916 | V39: =(MROUND(U39,1)) -> 46 | W39: 45.461 | X39: =(MROUND(W39,1)) -> 45 | Y39: 0.233 | Z39: 0 | AA39: 0 | AB39: =MROUND(AA39,1) -> 0 | AC39: 0 | AD39: =IF(AC39<1,"*",IF(AC39>1,((MROUND(AC39,2))*0.01))) -> * | AE39: 5.203 | AF39: =MROUND(AE39,1) -> 5 | AG39: 0.4 | AH39: =IF(AG39<1,"*",IF(AG39>1,((MROUND(AG39,2))*0.01))) -> * | AI39: 0.011 | AJ39: =MROUND(AI39,1) -> 0 | AK39: 0.063 | AL39: =IF(AK39<1,"*",IF(AK39>1,((MROUND(AK39,2))*0.01))) -> * | AM39: 4.712 | AN39: =MROUND(AM39,1) -> 5 | AO39: 0.1 | AP39: =IF(AO39<1,"*",IF(AO39>1,((MROUND(AO39,2))*0.01))) -> *
A40: Italian Ice | B40: Raspberry Lemonade | C40: 131.361 | D40: =MROUND(C40,10) -> 130 | E40: 0.374 | F40: =IF(E40<5,0,(IF(E40>50,MROUND(E40,10),MROUND(E40,5)))) -> 0 | G40: 0.042 | H40: =IF(G40<0.5,0,MROUND(G40,5)) -> 0 | I40: 0.002 | J40: =IF(I40<0.5,0,MROUND(I40,5)) -> 0 | K40: 0 | L40: =IF(K40<0.5,0,MROUND(K40,5)) -> 0 | M40: 0 | N40: 0 | O40: 23.634 | P40: =MROUND(O40,5) -> 25 | Q40: 33.884 | R40: =(MROUND(Q40,1)) -> 34 | S40: 0.16 | T40: 0 | U40: 32.106 | V40: =(MROUND(U40,1)) -> 32 | W40: 31.684 | X40: =(MROUND(W40,1)) -> 32 | Y40: 0.099 | Z40: 0 | AA40: 0 | AB40: =MROUND(AA40,1) -> 0 | AC40: 0 | AD40: =IF(AC40<1,"*",IF(AC40>1,((MROUND(AC40,2))*0.01))) -> * | AE40: 5.252 | AF40: =MROUND(AE40,1) -> 5 | AG40: 0.404 | AH40: =IF(AG40<1,"*",IF(AG40>1,((MROUND(AG40,2))*0.01))) -> * | AI40: 0.01 | AJ40: =MROUND(AI40,1) -> 0 | AK40: 0.053 | AL40: =IF(AK40<1,"*",IF(AK40>1,((MROUND(AK40,2))*0.01))) -> * | AM40: 3.418 | AN40: =MROUND(AM40,1) -> 3 | AO40: 0.073 | AP40: =IF(AO40<1,"*",IF(AO40>1,((MROUND(AO40,2))*0.01))) -> *
A41: Italian Ice | B41: Rocket Pop | C41: 166.013 | D41: =MROUND(C41,10) -> 170 | E41: 0.099 | F41: =IF(E41<5,0,(IF(E41>50,MROUND(E41,10),MROUND(E41,5)))) -> 0 | G41: 0.011 | H41: =IF(G41<0.5,0,MROUND(G41,5)) -> 0 | I41: 0 | J41: =IF(I41<0.5,0,MROUND(I41,5)) -> 0 | K41: 0 | L41: =IF(K41<0.5,0,MROUND(K41,5)) -> 0 | M41: 0 | N41: 0 | O41: 26.027 | P41: =MROUND(O41,5) -> 25 | Q41: 42.4 | R41: =(MROUND(Q41,1)) -> 42 | S41: 0.021 | T41: 0 | U41: 40.699 | V41: =(MROUND(U41,1)) -> 41 | W41: 40.585 | X41: =(MROUND(W41,1)) -> 41 | Y41: 0.029 | Z41: 0 | AA41: 0 | AB41: =MROUND(AA41,1) -> 0 | AC41: 0 | AD41: =IF(AC41<1,"*",IF(AC41>1,((MROUND(AC41,2))*0.01))) -> * | AE41: 8.065 | AF41: =MROUND(AE41,1) -> 8 | AG41: 0.62 | AH41: =IF(AG41<1,"*",IF(AG41>1,((MROUND(AG41,2))*0.01))) -> * | AI41: 0.029 | AJ41: =MROUND(AI41,1) -> 0 | AK41: 0.159 | AL41: =IF(AK41<1,"*",IF(AK41>1,((MROUND(AK41,2))*0.01))) -> * | AM41: 22.791 | AN41: =MROUND(AM41,1) -> 23 | AO41: 0.485 | AP41: =IF(AO41<1,"*",IF(AO41>1,((MROUND(AO41,2))*0.01))) -> *
A42: Italian Ice | B42: Root Beer | C42: 185.018 | D42: =MROUND(C42,10) -> 190 | E42: 0 | F42: =IF(E42<5,0,(IF(E42>50,MROUND(E42,10),MROUND(E42,5)))) -> 0 | G42: 0 | H42: =IF(G42<0.5,0,MROUND(G42,5)) -> 0 | I42: 0 | J42: =IF(I42<0.5,0,MROUND(I42,5)) -> 0 | K42: 0 | L42: =IF(K42<0.5,0,MROUND(K42,5)) -> 0 | M42: 0 | N42: 0 | O42: 28.781 | P42: =MROUND(O42,5) -> 30 | Q42: 46.747 | R42: =(MROUND(Q42,1)) -> 47 | S42: 0.015 | T42: 0 | U42: 45.409 | V42: =(MROUND(U42,1)) -> 45 | W42: 45.409 | X42: =(MROUND(W42,1)) -> 45 | Y42: 0 | Z42: 0 | AA42: 0 | AB42: =MROUND(AA42,1) -> 0 | AC42: 0 | AD42: =IF(AC42<1,"*",IF(AC42>1,((MROUND(AC42,2))*0.01))) -> * | AE42: 6.611 | AF42: =MROUND(AE42,1) -> 7 | AG42: 0.509 | AH42: =IF(AG42<1,"*",IF(AG42>1,((MROUND(AG42,2))*0.01))) -> * | AI42: 0.062 | AJ42: =MROUND(AI42,1) -> 0 | AK42: 0.342 | AL42: =IF(AK42<1,"*",IF(AK42>1,((MROUND(AK42,2))*0.01))) -> * | AM42: 14.388 | AN42: =MROUND(AM42,1) -> 14 | AO42: 0.306 | AP42: =IF(AO42<1,"*",IF(AO42>1,((MROUND(AO42,2))*0.01))) -> *
A43: Italian Ice | B43: Skittles | C43: 157.53 | D43: =MROUND(C43,10) -> 160 | E43: 0 | F43: =IF(E43<5,0,(IF(E43>50,MROUND(E43,10),MROUND(E43,5)))) -> 0 | G43: 0 | H43: =IF(G43<0.5,0,MROUND(G43,5)) -> 0 | I43: 0 | J43: =IF(I43<0.5,0,MROUND(I43,5)) -> 0 | K43: 0 | L43: =IF(K43<0.5,0,MROUND(K43,5)) -> 0 | M43: 0 | N43: 0 | O43: 22.995 | P43: =MROUND(O43,5) -> 25 | Q43: 39.767 | R43: =(MROUND(Q43,1)) -> 40 | S43: 0 | T43: 0 | U43: 38.2 | V43: =(MROUND(U43,1)) -> 38 | W43: 38.2 | X43: =(MROUND(W43,1)) -> 38 | Y43: 0 | Z43: 0 | AA43: 0 | AB43: =MROUND(AA43,1) -> 0 | AC43: 0 | AD43: =IF(AC43<1,"*",IF(AC43>1,((MROUND(AC43,2))*0.01))) -> * | AE43: 5.901 | AF43: =MROUND(AE43,1) -> 6 | AG43: 0.454 | AH43: =IF(AG43<1,"*",IF(AG43>1,((MROUND(AG43,2))*0.01))) -> * | AI43: 0.037 | AJ43: =MROUND(AI43,1) -> 0 | AK43: 0.204 | AL43: =IF(AK43<1,"*",IF(AK43>1,((MROUND(AK43,2))*0.01))) -> * | AM43: 7.468 | AN43: =MROUND(AM43,1) -> 7 | AO43: 0.159 | AP43: =IF(AO43<1,"*",IF(AO43>1,((MROUND(AO43,2))*0.01))) -> *
A44: Italian Ice | B44: Sour Patch Kids Red | C44: 202.872 | D44: =MROUND(C44,10) -> 200 | E44: 0 | F44: =IF(E44<5,0,(IF(E44>50,MROUND(E44,10),MROUND(E44,5)))) -> 0 | G44: 0 | H44: =IF(G44<0.5,0,MROUND(G44,5)) -> 0 | I44: 0 | J44: =IF(I44<0.5,0,MROUND(I44,5)) -> 0 | K44: 0 | L44: =IF(K44<0.5,0,MROUND(K44,5)) -> 0 | M44: 0 | N44: 0 | O44: 29.024 | P44: =MROUND(O44,5) -> 30 | Q44: 51.268 | R44: =(MROUND(Q44,1)) -> 51 | S44: 0 | T44: 0 | U44: 48.258 | V44: =(MROUND(U44,1)) -> 48 | W44: 48.258 | X44: =(MROUND(W44,1)) -> 48 | Y44: 0 | Z44: 0 | AA44: 0 | AB44: =MROUND(AA44,1) -> 0 | AC44: 0 | AD44: =IF(AC44<1,"*",IF(AC44>1,((MROUND(AC44,2))*0.01))) -> * | AE44: 6.476 | AF44: =MROUND(AE44,1) -> 6 | AG44: 0.498 | AH44: =IF(AG44<1,"*",IF(AG44>1,((MROUND(AG44,2))*0.01))) -> * | AI44: 0.153 | AJ44: =MROUND(AI44,1) -> 0 | AK44: 0.85 | AL44: =IF(AK44<1,"*",IF(AK44>1,((MROUND(AK44,2))*0.01))) -> * | AM44: 11.778 | AN44: =MROUND(AM44,1) -> 12 | AO44: 0.251 | AP44: =IF(AO44<1,"*",IF(AO44>1,((MROUND(AO44,2))*0.01))) -> *
A45: Italian Ice | B45: Sour Patch Kids Watermelon | C45: 204.929 | D45: =MROUND(C45,10) -> 200 | E45: 0 | F45: =IF(E45<5,0,(IF(E45>50,MROUND(E45,10),MROUND(E45,5)))) -> 0 | G45: 0 | H45: =IF(G45<0.5,0,MROUND(G45,5)) -> 0 | I45: 0 | J45: =IF(I45<0.5,0,MROUND(I45,5)) -> 0 | K45: 0 | L45: =IF(K45<0.5,0,MROUND(K45,5)) -> 0 | M45: 0 | N45: 0 | O45: 22.632 | P45: =MROUND(O45,5) -> 25 | Q45: 51.175 | R45: =(MROUND(Q45,1)) -> 51 | S45: 0.038 | T45: 0 | U45: 48.248 | V45: =(MROUND(U45,1)) -> 48 | W45: 48.248 | X45: =(MROUND(W45,1)) -> 48 | Y45: 0.004 | Z45: 0 | AA45: 0 | AB45: =MROUND(AA45,1) -> 0 | AC45: 0 | AD45: =IF(AC45<1,"*",IF(AC45>1,((MROUND(AC45,2))*0.01))) -> * | AE45: 6.634 | AF45: =MROUND(AE45,1) -> 7 | AG45: 0.51 | AH45: =IF(AG45<1,"*",IF(AG45>1,((MROUND(AG45,2))*0.01))) -> * | AI45: 0.073 | AJ45: =MROUND(AI45,1) -> 0 | AK45: 0.408 | AL45: =IF(AK45<1,"*",IF(AK45>1,((MROUND(AK45,2))*0.01))) -> * | AM45: 11.586 | AN45: =MROUND(AM45,1) -> 12 | AO45: 0.247 | AP45: =IF(AO45<1,"*",IF(AO45>1,((MROUND(AO45,2))*0.01))) -> *
A46: Italian Ice | B46: Strawberry | C46: 205.525 | D46: =MROUND(C46,10) -> 210 | E46: 0.064 | F46: =IF(E46<5,0,(IF(E46>50,MROUND(E46,10),MROUND(E46,5)))) -> 0 | G46: 0.007 | H46: =IF(G46<0.5,0,MROUND(G46,5)) -> 0 | I46: 0.002 | J46: =IF(I46<0.5,0,MROUND(I46,5)) -> 0 | K46: 0 | L46: =IF(K46<0.5,0,MROUND(K46,5)) -> 0 | M46: 0 | N46: 0 | O46: 29.471 | P46: =MROUND(O46,5) -> 30 | Q46: 51.799 | R46: =(MROUND(Q46,1)) -> 52 | S46: 0.14 | T46: 0 | U46: 50.294 | V46: =(MROUND(U46,1)) -> 50 | W46: 49.607 | X46: =(MROUND(W46,1)) -> 50 | Y46: 0.127 | Z46: 0 | AA46: 0 | AB46: =MROUND(AA46,1) -> 0 | AC46: 0 | AD46: =IF(AC46<1,"*",IF(AC46>1,((MROUND(AC46,2))*0.01))) -> * | AE46: 6.442 | AF46: =MROUND(AE46,1) -> 6 | AG46: 0.496 | AH46: =IF(AG46<1,"*",IF(AG46>1,((MROUND(AG46,2))*0.01))) -> * | AI46: 0.048 | AJ46: =MROUND(AI46,1) -> 0 | AK46: 0.269 | AL46: =IF(AK46<1,"*",IF(AK46>1,((MROUND(AK46,2))*0.01))) -> * | AM46: 7.048 | AN46: =MROUND(AM46,1) -> 7 | AO46: 0.15 | AP46: =IF(AO46<1,"*",IF(AO46>1,((MROUND(AO46,2))*0.01))) -> *
A47: Italian Ice | B47: Strawberry Colada | C47: 204.082 | D47: =MROUND(C47,10) -> 200 | E47: 0.013 | F47: =IF(E47<5,0,(IF(E47>50,MROUND(E47,10),MROUND(E47,5)))) -> 0 | G47: 0.001 | H47: =IF(G47<0.5,0,MROUND(G47,5)) -> 0 | I47: 0 | J47: =IF(I47<0.5,0,MROUND(I47,5)) -> 0 | K47: 0 | L47: =IF(K47<0.5,0,MROUND(K47,5)) -> 0 | M47: 0 | N47: 0 | O47: 28.871 | P47: =MROUND(O47,5) -> 30 | Q47: 51.609 | R47: =(MROUND(Q47,1)) -> 52 | S47: 0.056 | T47: 0 | U47: 50.045 | V47: =(MROUND(U47,1)) -> 50 | W47: 49.765 | X47: =(MROUND(W47,1)) -> 50 | Y47: 0.062 | Z47: 0 | AA47: 0 | AB47: =MROUND(AA47,1) -> 0 | AC47: 0 | AD47: =IF(AC47<1,"*",IF(AC47>1,((MROUND(AC47,2))*0.01))) -> * | AE47: 7.396 | AF47: =MROUND(AE47,1) -> 7 | AG47: 0.569 | AH47: =IF(AG47<1,"*",IF(AG47>1,((MROUND(AG47,2))*0.01))) -> * | AI47: 0.052 | AJ47: =MROUND(AI47,1) -> 0 | AK47: 0.289 | AL47: =IF(AK47<1,"*",IF(AK47>1,((MROUND(AK47,2))*0.01))) -> * | AM47: 12.692 | AN47: =MROUND(AM47,1) -> 13 | AO47: 0.27 | AP47: =IF(AO47<1,"*",IF(AO47>1,((MROUND(AO47,2))*0.01))) -> *
A48: Italian Ice | B48: Strawberry Lemonade | C48: 174.917 | D48: =MROUND(C48,10) -> 170 | E48: 0.159 | F48: =IF(E48<5,0,(IF(E48>50,MROUND(E48,10),MROUND(E48,5)))) -> 0 | G48: 0.018 | H48: =IF(G48<0.5,0,MROUND(G48,5)) -> 0 | I48: 0 | J48: =IF(I48<0.5,0,MROUND(I48,5)) -> 0 | K48: 0 | L48: =IF(K48<0.5,0,MROUND(K48,5)) -> 0 | M48: 0 | N48: 0 | O48: 26.366 | P48: =MROUND(O48,5) -> 25 | Q48: 44.56 | R48: =(MROUND(Q48,1)) -> 45 | S48: 0.126 | T48: 0 | U48: 42.56 | V48: =(MROUND(U48,1)) -> 43 | W48: 42.041 | X48: =(MROUND(W48,1)) -> 42 | Y48: 0.109 | Z48: 0 | AA48: 0 | AB48: =MROUND(AA48,1) -> 0 | AC48: 0 | AD48: =IF(AC48<1,"*",IF(AC48>1,((MROUND(AC48,2))*0.01))) -> * | AE48: 11.962 | AF48: =MROUND(AE48,1) -> 12 | AG48: 0.92 | AH48: =IF(AG48<1,"*",IF(AG48>1,((MROUND(AG48,2))*0.01))) -> * | AI48: 0.521 | AJ48: =MROUND(AI48,1) -> 1 | AK48: 2.897 | AL48: =IF(AK48<1,"*",IF(AK48>1,((MROUND(AK48,2))*0.01))) -> 0.02 | AM48: 56.947 | AN48: =MROUND(AM48,1) -> 57 | AO48: 1.212 | AP48: =IF(AO48<1,"*",IF(AO48>1,((MROUND(AO48,2))*0.01))) -> 0.02
A49: Italian Ice | B49: Strawberry Margarita | C49: 201.03 | D49: =MROUND(C49,10) -> 200 | E49: 0.166 | F49: =IF(E49<5,0,(IF(E49>50,MROUND(E49,10),MROUND(E49,5)))) -> 0 | G49: 0.018 | H49: =IF(G49<0.5,0,MROUND(G49,5)) -> 0 | I49: 0.001 | J49: =IF(I49<0.5,0,MROUND(I49,5)) -> 0 | K49: 0 | L49: =IF(K49<0.5,0,MROUND(K49,5)) -> 0 | M49: 0 | N49: 0 | O49: 32.757 | P49: =MROUND(O49,5) -> 35 | Q49: 51.077 | R49: =(MROUND(Q49,1)) -> 51 | S49: 0.139 | T49: 0 | U49: 48.888 | V49: =(MROUND(U49,1)) -> 49 | W49: 48.374 | X49: =(MROUND(W49,1)) -> 48 | Y49: 0.114 | Z49: 0 | AA49: 0 | AB49: =MROUND(AA49,1) -> 0 | AC49: 0 | AD49: =IF(AC49<1,"*",IF(AC49>1,((MROUND(AC49,2))*0.01))) -> * | AE49: 7.924 | AF49: =MROUND(AE49,1) -> 8 | AG49: 0.61 | AH49: =IF(AG49<1,"*",IF(AG49>1,((MROUND(AG49,2))*0.01))) -> * | AI49: 0.582 | AJ49: =MROUND(AI49,1) -> 1 | AK49: 3.233 | AL49: =IF(AK49<1,"*",IF(AK49>1,((MROUND(AK49,2))*0.01))) -> 0.04 | AM49: 32.468 | AN49: =MROUND(AM49,1) -> 32 | AO49: 0.691 | AP49: =IF(AO49<1,"*",IF(AO49>1,((MROUND(AO49,2))*0.01))) -> *
A50: Italian Ice | B50: Strawberry- Watermelon | C50: 193.576 | D50: =MROUND(C50,10) -> 190 | E50: 0.075 | F50: =IF(E50<5,0,(IF(E50>50,MROUND(E50,10),MROUND(E50,5)))) -> 0 | G50: 0.008 | H50: =IF(G50<0.5,0,MROUND(G50,5)) -> 0 | I50: 0.01 | J50: =IF(I50<0.5,0,MROUND(I50,5)) -> 0 | K50: 0 | L50: =IF(K50<0.5,0,MROUND(K50,5)) -> 0 | M50: 0 | N50: 0 | O50: 29.519 | P50: =MROUND(O50,5) -> 30 | Q50: 48.886 | R50: =(MROUND(Q50,1)) -> 49 | S50: 0.056 | T50: 0 | U50: 47.3 | V50: =(MROUND(U50,1)) -> 47 | W50: 46.756 | X50: =(MROUND(W50,1)) -> 47 | Y50: 0.092 | Z50: 0 | AA50: 0 | AB50: =MROUND(AA50,1) -> 0 | AC50: 0 | AD50: =IF(AC50<1,"*",IF(AC50>1,((MROUND(AC50,2))*0.01))) -> * | AE50: 7.122 | AF50: =MROUND(AE50,1) -> 7 | AG50: 0.548 | AH50: =IF(AG50<1,"*",IF(AG50>1,((MROUND(AG50,2))*0.01))) -> * | AI50: 0.195 | AJ50: =MROUND(AI50,1) -> 0 | AK50: 7.084 | AL50: =IF(AK50<1,"*",IF(AK50>1,((MROUND(AK50,2))*0.01))) -> 0.08 | AM50: 10.272 | AN50: =MROUND(AM50,1) -> 10 | AO50: 0.219 | AP50: =IF(AO50<1,"*",IF(AO50>1,((MROUND(AO50,2))*0.01))) -> *
A51: Italian Ice | B51: Swedish Fish | C51: 222.4444 | D51: =MROUND(C51,10) -> 220 | E51: 0 | F51: =IF(E51<5,0,(IF(E51>50,MROUND(E51,10),MROUND(E51,5)))) -> 0 | G51: 0 | H51: =IF(G51<0.5,0,MROUND(G51,5)) -> 0 | I51: 0 | J51: =IF(I51<0.5,0,MROUND(I51,5)) -> 0 | K51: 0 | L51: =IF(K51<0.5,0,MROUND(K51,5)) -> 0 | M51: 0 | N51: 0 | O51: 49.998 | P51: =MROUND(O51,5) -> 50 | Q51: 56.652 | R51: =(MROUND(Q51,1)) -> 57 | S51: 0.018 | T51: 0 | U51: 55.125 | V51: =(MROUND(U51,1)) -> 55 | W51: 55.125 | X51: =(MROUND(W51,1)) -> 55 | Y51: 0.211 | Z51: 0 | AA51: 0 | AB51: =MROUND(AA51,1) -> 0 | AC51: 0 | AD51: =IF(AC51<1,"*",IF(AC51>1,((MROUND(AC51,2))*0.01))) -> * | AE51: 5.225 | AF51: =MROUND(AE51,1) -> 5 | AG51: 0.402 | AH51: =IF(AG51<1,"*",IF(AG51>1,((MROUND(AG51,2))*0.01))) -> * | AI51: 0.01 | AJ51: =MROUND(AI51,1) -> 0 | AK51: 0.054 | AL51: =IF(AK51<1,"*",IF(AK51>1,((MROUND(AK51,2))*0.01))) -> * | AM51: 0.41 | AN51: =MROUND(AM51,1) -> 0 | AO51: 0.009 | AP51: =IF(AO51<1,"*",IF(AO51>1,((MROUND(AO51,2))*0.01))) -> *
A52: Italian Ice | B52: Tropical Daiquiri | C52: 172.012 | D52: =MROUND(C52,10) -> 170 | E52: 10.471 | F52: =IF(E52<5,0,(IF(E52>50,MROUND(E52,10),MROUND(E52,5)))) -> 10 | G52: 1.163 | H52: =MROUND(G52,0.5) -> 1 | I52: 1.044 | J52: =MROUND(I52,0.5) -> 1 | K52: 0.001 | L52: =IF(K52<0.5,0,MROUND(K52,5)) -> 0 | M52: 0 | N52: 0 | O52: 27.939 | P52: =MROUND(O52,5) -> 30 | Q52: 40.512 | R52: =(MROUND(Q52,1)) -> 41 | S52: 0.264 | T52: 0 | U52: 38.984 | V52: =(MROUND(U52,1)) -> 39 | W52: 33.992 | X52: =(MROUND(W52,1)) -> 34 | Y52: 0.062 | Z52: 0 | AA52: 0 | AB52: =MROUND(AA52,1) -> 0 | AC52: 0 | AD52: =IF(AC52<1,"*",IF(AC52>1,((MROUND(AC52,2))*0.01))) -> * | AE52: 5.556 | AF52: =MROUND(AE52,1) -> 6 | AG52: 0.427 | AH52: =IF(AG52<1,"*",IF(AG52>1,((MROUND(AG52,2))*0.01))) -> * | AI52: 0.047 | AJ52: =MROUND(AI52,1) -> 0 | AK52: 0.263 | AL52: =IF(AK52<1,"*",IF(AK52>1,((MROUND(AK52,2))*0.01))) -> * | AM52: 5.082 | AN52: =MROUND(AM52,1) -> 5 | AO52: 0.108 | AP52: =IF(AO52<1,"*",IF(AO52>1,((MROUND(AO52,2))*0.01))) -> *
A53: Italian Ice | B53: Unicorn | C53: 187.129 | D53: =MROUND(C53,10) -> 190 | E53: 0 | F53: =IF(E53<5,0,(IF(E53>50,MROUND(E53,10),MROUND(E53,5)))) -> 0 | G53: 0 | H53: =IF(G53<0.5,0,MROUND(G53,5)) -> 0 | I53: 0 | J53: =IF(I53<0.5,0,MROUND(I53,5)) -> 0 | K53: 0 | L53: =IF(K53<0.5,0,MROUND(K53,5)) -> 0 | M53: 0 | N53: 0 | O53: 84.429 | P53: =MROUND(O53,5) -> 85 | Q53: 47.877 | R53: =(MROUND(Q53,1)) -> 48 | S53: 0.017 | T53: 0 | U53: 43.564 | V53: =(MROUND(U53,1)) -> 44 | W53: 43.564 | X53: =(MROUND(W53,1)) -> 44 | Y53: 0.003 | Z53: 0 | AA53: 0 | AB53: =MROUND(AA53,1) -> 0 | AC53: 0 | AD53: =IF(AC53<1,"*",IF(AC53>1,((MROUND(AC53,2))*0.01))) -> * | AE53: 5.143 | AF53: =MROUND(AE53,1) -> 5 | AG53: 0.396 | AH53: =IF(AG53<1,"*",IF(AG53>1,((MROUND(AG53,2))*0.01))) -> * | AI53: 0.012 | AJ53: =MROUND(AI53,1) -> 0 | AK53: 0.065 | AL53: =IF(AK53<1,"*",IF(AK53>1,((MROUND(AK53,2))*0.01))) -> * | AM53: 0.491 | AN53: =MROUND(AM53,1) -> 0 | AO53: 0.01 | AP53: =IF(AO53<1,"*",IF(AO53>1,((MROUND(AO53,2))*0.01))) -> *
A54: Italian Ice | B54: Vanilla | C54: 179.748 | D54: =MROUND(C54,10) -> 180 | E54: 0 | F54: =IF(E54<5,0,(IF(E54>50,MROUND(E54,10),MROUND(E54,5)))) -> 0 | G54: 0 | H54: =IF(G54<0.5,0,MROUND(G54,5)) -> 0 | I54: 0 | J54: =IF(I54<0.5,0,MROUND(I54,5)) -> 0 | K54: 0 | L54: =IF(K54<0.5,0,MROUND(K54,5)) -> 0 | M54: 0 | N54: 0 | O54: 29.837 | P54: =MROUND(O54,5) -> 30 | Q54: 45.3 | R54: =(MROUND(Q54,1)) -> 45 | S54: 0.029 | T54: 0 | U54: 43.911 | V54: =(MROUND(U54,1)) -> 44 | W54: 43.857 | X54: =(MROUND(W54,1)) -> 44 | Y54: 0 | Z54: 0 | AA54: 0 | AB54: =MROUND(AA54,1) -> 0 | AC54: 0 | AD54: =IF(AC54<1,"*",IF(AC54>1,((MROUND(AC54,2))*0.01))) -> * | AE54: 5.606 | AF54: =MROUND(AE54,1) -> 6 | AG54: 0.431 | AH54: =IF(AG54<1,"*",IF(AG54>1,((MROUND(AG54,2))*0.01))) -> * | AI54: 0.042 | AJ54: =MROUND(AI54,1) -> 0 | AK54: 0.235 | AL54: =IF(AK54<1,"*",IF(AK54>1,((MROUND(AK54,2))*0.01))) -> * | AM54: 0.705 | AN54: =MROUND(AM54,1) -> 1 | AO54: 0.015 | AP54: =IF(AO54<1,"*",IF(AO54>1,((MROUND(AO54,2))*0.01))) -> *
A55: Italian Ice | B55: Watermelon | C55: 193.576 | D55: =MROUND(C55,10) -> 190 | E55: 0.066 | F55: =IF(E55<5,0,(IF(E55>50,MROUND(E55,10),MROUND(E55,5)))) -> 0 | G55: 0.008 | H55: =IF(G55<0.5,0,MROUND(G55,5)) -> 0 | I55: 0.001 | J55: =IF(I55<0.5,0,MROUND(I55,5)) -> 0 | K55: 0 | L55: =IF(K55<0.5,0,MROUND(K55,5)) -> 0 | M55: 0 | N55: 0 | O55: 29.519 | P55: =MROUND(O55,5) -> 30 | Q55: 48.886 | R55: =(MROUND(Q55,1)) -> 49 | S55: 0.056 | T55: 0 | U55: 47.3 | V55: =(MROUND(U55,1)) -> 47 | W55: 0 | X55: 0 | Y55: 0.092 | Z55: 0 | AA55: 0 | AB55: =MROUND(AA55,1) -> 0 | AC55: 0 | AD55: =IF(AC55<1,"*",IF(AC55>1,((MROUND(AC55,2))*0.01))) -> * | AE55: 7.626 | AF55: =MROUND(AE55,1) -> 8 | AG55: 0.587 | AH55: =IF(AG55<1,"*",IF(AG55>1,((MROUND(AG55,2))*0.01))) -> * | AI55: 0.043 | AJ55: =MROUND(AI55,1) -> 0 | AK55: 0.237 | AL55: =IF(AK55<1,"*",IF(AK55>1,((MROUND(AK55,2))*0.01))) -> * | AM55: 0.802 | AN55: =MROUND(AM55,1) -> 1 | AO55: 0.017 | AP55: =IF(AO55<1,"*",IF(AO55>1,((MROUND(AO55,2))*0.01))) -> *
A56: Italian Ice | B56: Wild Black Cherry | C56: 186.574 | D56: =MROUND(C56,10) -> 190 | E56: 0.008 | F56: =IF(E56<5,0,(IF(E56>50,MROUND(E56,10),MROUND(E56,5)))) -> 0 | G56: 0.007 | H56: =IF(G56<0.5,0,MROUND(G56,5)) -> 0 | I56: 0 | J56: =IF(I56<0.5,0,MROUND(I56,5)) -> 0 | K56: 0 | L56: =IF(K56<0.5,0,MROUND(K56,5)) -> 0 | M56: 0 | N56: 0 | O56: 31.79 | P56: =MROUND(O56,5) -> 30 | Q56: 45.031 | R56: =(MROUND(Q56,1)) -> 45 | S56: 0.172 | T56: 0 | U56: 41.941 | V56: =(MROUND(U56,1)) -> 42 | W56: 40.73 | X56: =(MROUND(W56,1)) -> 41 | Y56: 0.32 | Z56: 0 | AA56: 0 | AB56: =MROUND(AA56,1) -> 0 | AC56: 0 | AD56: =IF(AC56<1,"*",IF(AC56>1,((MROUND(AC56,2))*0.01))) -> * | AE56: 6.488 | AF56: =MROUND(AE56,1) -> 6 | AG56: 0.499 | AH56: =IF(AG56<1,"*",IF(AG56>1,((MROUND(AG56,2))*0.01))) -> * | AI56: 0.222 | AJ56: =MROUND(AI56,1) -> 0 | AK56: 1.236 | AL56: =IF(AK56<1,"*",IF(AK56>1,((MROUND(AK56,2))*0.01))) -> 0.02 | AM56: 9.824 | AN56: =MROUND(AM56,1) -> 10 | AO56: 0.209 | AP56: =IF(AO56<1,"*",IF(AO56>1,((MROUND(AO56,2))*0.01))) -> *
A57: Italian Ice | B57: Zombie's Blood | C57: 158.951 | D57: =MROUND(C57,10) -> 160 | E57: 0.005 | F57: =IF(E57<5,0,(IF(E57>50,MROUND(E57,10),MROUND(E57,5)))) -> 0 | G57: 0 | H57: =IF(G57<0.5,0,MROUND(G57,5)) -> 0 | I57: 0 | J57: =IF(I57<0.5,0,MROUND(I57,5)) -> 0 | K57: 0 | L57: =IF(K57<0.5,0,MROUND(K57,5)) -> 0 | M57: 0 | N57: 0 | O57: 28.424 | P57: =MROUND(O57,5) -> 30 | Q57: 39.235 | R57: =(MROUND(Q57,1)) -> 39 | S57: 0.047 | T57: 0 | U57: 37.19 | V57: =(MROUND(U57,1)) -> 37 | W57: 37.139 | X57: =(MROUND(W57,1)) -> 37 | Y57: 0.187 | Z57: 0 | AA57: 0 | AB57: =MROUND(AA57,1) -> 0 | AC57: 0 | AD57: =IF(AC57<1,"*",IF(AC57>1,((MROUND(AC57,2))*0.01))) -> * | AE57: 12.671 | AF57: =MROUND(AE57,1) -> 13 | AG57: 0.975 | AH57: =IF(AG57<1,"*",IF(AG57>1,((MROUND(AG57,2))*0.01))) -> * | AI57: 0.161 | AJ57: =MROUND(AI57,1) -> 0 | AK57: 0.894 | AL57: =IF(AK57<1,"*",IF(AK57>1,((MROUND(AK57,2))*0.01))) -> * | AM57: 27.942 | AN57: =MROUND(AM57,1) -> 28 | AO57: 0.595 | AP57: =IF(AO57<1,"*",IF(AO57>1,((MROUND(AO57,2))*0.01))) -> *
A58: Cream Ice | B58: Banana Split Cream | C58: 225.414 | D58: =MROUND(C58,10) -> 230 | E58: 10.906 | F58: =IF(E58<5,0,(IF(E58>50,MROUND(E58,10),MROUND(E58,5)))) -> 10 | G58: 3.339 | H58: =MROUND(G58,0.5) -> 3.5 | I58: 2.588 | J58: =MROUND(I58,0.5) -> 2.5 | K58: 0.002 | L58: =IF(K58<0.5,0,MROUND(K58,5)) -> 0 | M58: 0 | N58: 0 | O58: 47.922 | P58: =MROUND(O58,5) -> 50 | Q58: 52.996 | R58: =(MROUND(Q58,1)) -> 53 | S58: 0.452 | T58: 0 | U58: 49.812 | V58: =(MROUND(U58,1)) -> 50 | W58: 45.187 | X58: =(MROUND(W58,1)) -> 45 | Y58: 0.414 | Z58: 0 | AA58: 0.321 | AB58: =MROUND(AA58,1) -> 0 | AC58: 0 | AD58: =IF(AC58<1,"*",IF(AC58>1,((MROUND(AC58,2))*0.01))) -> * | AE58: 11.14 | AF58: =MROUND(AE58,1) -> 11 | AG58: 0.857 | AH58: =IF(AG58<1,"*",IF(AG58>1,((MROUND(AG58,2))*0.01))) -> * | AI58: 0.253 | AJ58: =MROUND(AI58,1) -> 0 | AK58: 1.403 | AL58: =IF(AK58<1,"*",IF(AK58>1,((MROUND(AK58,2))*0.01))) -> 0.02 | AM58: 43.764 | AN58: =MROUND(AM58,1) -> 44 | AO58: 0.931 | AP58: =IF(AO58<1,"*",IF(AO58>1,((MROUND(AO58,2))*0.01))) -> *
A59: Cream Ice | B59: Birthday Cake | C59: 238.991 | D59: =MROUND(C59,10) -> 240 | E59: 7.184 | F59: =IF(E59<5,0,(IF(E59>50,MROUND(E59,10),MROUND(E59,5)))) -> 5 | G59: 2.948 | H59: =MROUND(G59,0.5) -> 3 | I59: 2.39 | J59: =MROUND(I59,0.5) -> 2.5 | K59: 0.07 | L59: =IF(K59<0.5,0,MROUND(K59,5)) -> 0 | M59: 0 | N59: 0 | O59: 123.957 | P59: =MROUND(O59,5) -> 125 | Q59: 53.143 | R59: =(MROUND(Q59,1)) -> 53 | S59: 0.085 | T59: 0 | U59: 47.626 | V59: =(MROUND(U59,1)) -> 48 | W59: 41.185 | X59: =(MROUND(W59,1)) -> 41 | Y59: 0.451 | Z59: 0 | AA59: 0 | AB59: =MROUND(AA59,1) -> 0 | AC59: 0 | AD59: =IF(AC59<1,"*",IF(AC59>1,((MROUND(AC59,2))*0.01))) -> * | AE59: 7.658 | AF59: =MROUND(AE59,1) -> 8 | AG59: 0.589 | AH59: =IF(AG59<1,"*",IF(AG59>1,((MROUND(AG59,2))*0.01))) -> * | AI59: 0.113 | AJ59: =MROUND(AI59,1) -> 0 | AK59: 0.629 | AL59: =IF(AK59<1,"*",IF(AK59>1,((MROUND(AK59,2))*0.01))) -> * | AM59: 22.024 | AN59: =MROUND(AM59,1) -> 22 | AO59: 0.469 | AP59: =IF(AO59<1,"*",IF(AO59>1,((MROUND(AO59,2))*0.01))) -> *
A60: Cream Ice | B60: Black Cherry Cheesecake | C60: 256.202 | D60: =MROUND(C60,10) -> 260 | E60: 14.888 | F60: =IF(E60<5,0,(IF(E60>50,MROUND(E60,10),MROUND(E60,5)))) -> 15 | G60: 3.778 | H60: =MROUND(G60,0.5) -> 4 | I60: 3.036 | J60: =MROUND(I60,0.5) -> 3 | K60: 0.035 | L60: =IF(K60<0.5,0,MROUND(K60,5)) -> 0 | M60: 4.109 | N60: less than 5mg | O60: 54.543 | P60: =MROUND(O60,5) -> 55 | Q60: 54.908 | R60: =(MROUND(Q60,1)) -> 55 | S60: 0.017 | T60: 0 | U60: 50.221 | V60: =(MROUND(U60,1)) -> 50 | W60: 49.914 | X60: =(MROUND(W60,1)) -> 50 | Y60: 0.472 | Z60: 0 | AA60: 0 | AB60: =MROUND(AA60,1) -> 0 | AC60: 0 | AD60: =IF(AC60<1,"*",IF(AC60>1,((MROUND(AC60,2))*0.01))) -> * | AE60: 7.898 | AF60: =MROUND(AE60,1) -> 8 | AG60: 0.608 | AH60: =IF(AG60<1,"*",IF(AG60>1,((MROUND(AG60,2))*0.01))) -> * | AI60: 0.084 | AJ60: =MROUND(AI60,1) -> 0 | AK60: 0.465 | AL60: =IF(AK60<1,"*",IF(AK60>1,((MROUND(AK60,2))*0.01))) -> * | AM60: 19.302 | AN60: =MROUND(AM60,1) -> 19 | AO60: 0.411 | AP60: =IF(AO60<1,"*",IF(AO60>1,((MROUND(AO60,2))*0.01))) -> *
A61: Cream Ice | B61: Brookie Dough | C61: 264.749 | D61: =MROUND(C61,10) -> 260 | E61: 17.868 | F61: =IF(E61<5,0,(IF(E61>50,MROUND(E61,10),MROUND(E61,5)))) -> 20 | G61: 4.126 | H61: =MROUND(G61,0.5) -> 4 | I61: 3.128 | J61: =MROUND(I61,0.5) -> 3 | K61: 0.029 | L61: =IF(K61<0.5,0,MROUND(K61,5)) -> 0 | M61: 1.689 | N61: 0 | O61: 79.577 | P61: =MROUND(O61,5) -> 80 | Q61: 56.677 | R61: =(MROUND(Q61,1)) -> 57 | S61: 0.361 | T61: 0 | U61: 50.159 | V61: =(MROUND(U61,1)) -> 50 | W61: 50.324 | X61: =(MROUND(W61,1)) -> 50 | Y61: 0.775 | Z61: less than 1 g | AA61: 0.001 | AB61: =MROUND(AA61,1) -> 0 | AC61: 0 | AD61: =IF(AC61<1,"*",IF(AC61>1,((MROUND(AC61,2))*0.01))) -> * | AE61: 7.715 | AF61: =MROUND(AE61,1) -> 8 | AG61: 0.593 | AH61: =IF(AG61<1,"*",IF(AG61>1,((MROUND(AG61,2))*0.01))) -> * | AI61: 0.038 | AJ61: =MROUND(AI61,1) -> 0 | AK61: 0.211 | AL61: =IF(AK61<1,"*",IF(AK61>1,((MROUND(AK61,2))*0.01))) -> * | AM61: 21.931 | AN61: =MROUND(AM61,1) -> 22 | AO61: 0.467 | AP61: =IF(AO61<1,"*",IF(AO61>1,((MROUND(AO61,2))*0.01))) -> *
A62: Cream Ice | B62: Cheesecake | C62: 246.857 | D62: =MROUND(C62,10) -> 250 | E62: 14.977 | F62: =IF(E62<5,0,(IF(E62>50,MROUND(E62,10),MROUND(E62,5)))) -> 15 | G62: 3.801 | H62: =MROUND(G62,0.5) -> 4 | I62: 3.054 | J62: =MROUND(I62,0.5) -> 3 | K62: 0.035 | L62: =IF(K62<0.5,0,MROUND(K62,5)) -> 0 | M62: 4.134 | N62: less than 5mg | O62: 55.16 | P62: =MROUND(O62,5) -> 55 | Q62: 53.061 | R62: =(MROUND(Q62,1)) -> 53 | S62: 0.018 | T62: 0 | U62: 48.346 | V62: =(MROUND(U62,1)) -> 48 | W62: 48.037 | X62: =(MROUND(W62,1)) -> 48 | Y62: 0.475 | Z62: 0 | AA62: 0 | AB62: =MROUND(AA62,1) -> 0 | AC62: 0 | AD62: =IF(AC62<1,"*",IF(AC62>1,((MROUND(AC62,2))*0.01))) -> * | AE62: 6.901 | AF62: =MROUND(AE62,1) -> 7 | AG62: 0.531 | AH62: =IF(AG62<1,"*",IF(AG62>1,((MROUND(AG62,2))*0.01))) -> * | AI62: 0.03 | AJ62: =MROUND(AI62,1) -> 0 | AK62: 0.168 | AL62: =IF(AK62<1,"*",IF(AK62>1,((MROUND(AK62,2))*0.01))) -> * | AM62: 8.209 | AN62: =MROUND(AM62,1) -> 8 | AO62: 0.175 | AP62: =IF(AO62<1,"*",IF(AO62>1,((MROUND(AO62,2))*0.01))) -> *
A63: Cream Ice | B63: Chocolate Chip Cheesecake | C63: 247.538 | D63: =MROUND(C63,10) -> 250 | E63: 30.375 | F63: =IF(E63<5,0,(IF(E63>50,MROUND(E63,10),MROUND(E63,5)))) -> 30 | G63: 5.518 | H63: =MROUND(G63,1) -> 6 | I63: 4.086 | J63: =MROUND(I63,0.5) -> 4 | K63: 0.35 | L63: =IF(K63<0.5,0,MROUND(K63,5)) -> 0 | M63: 4.145 | N63: less than 5mg | O63: 55.032 | P63: =MROUND(O63,5) -> 55 | Q63: 57.764 | R63: =(MROUND(Q63,1)) -> 58 | S63: 0.499 | T63: 0 | U63: 52.247 | V63: =(MROUND(U63,1)) -> 52 | W63: 48.17 | X63: =(MROUND(W63,1)) -> 48 | Y63: 0.784 | Z63: less than 1 g | AA63: 0.575 | AB63: =MROUND(AA63,1) -> 1 | AC63: 0 | AD63: =IF(AC63<1,"*",IF(AC63>1,((MROUND(AC63,2))*0.01))) -> * | AE63: 6.675 | AF63: =MROUND(AE63,1) -> 7 | AG63: 0.513 | AH63: =IF(AG63<1,"*",IF(AG63>1,((MROUND(AG63,2))*0.01))) -> * | AI63: 0.042 | AJ63: =MROUND(AI63,1) -> 0 | AK63: 0.235 | AL63: =IF(AK63<1,"*",IF(AK63>1,((MROUND(AK63,2))*0.01))) -> * | AM63: 14.5 | AN63: =MROUND(AM63,1) -> 15 | AO63: 0.309 | AP63: =IF(AO63<1,"*",IF(AO63>1,((MROUND(AO63,2))*0.01))) -> *
A64: Cream Ice | B64: Chocolate Covered Banana | C64: 233.946 | D64: =MROUND(C64,10) -> 230 | E64: 13.356 | F64: =IF(E64<5,0,(IF(E64>50,MROUND(E64,10),MROUND(E64,5)))) -> 15 | G64: 3.623 | H64: =MROUND(G64,0.5) -> 3.5 | I64: 3.102 | J64: =MROUND(I64,0.5) -> 3 | K64: 0.002 | L64: =IF(K64<0.5,0,MROUND(K64,5)) -> 0 | M64: 0.001 | N64: 0 | O64: 60.211 | P64: =MROUND(O64,5) -> 60 | Q64: 54.843 | R64: =(MROUND(Q64,1)) -> 55 | S64: 0.52 | T64: less than 1 g | U64: 50.599 | V64: =(MROUND(U64,1)) -> 51 | W64: 47.299 | X64: =(MROUND(W64,1)) -> 47 | Y64: 0.571 | Z64: less than 1 g | AA64: 0.289 | AB64: =MROUND(AA64,1) -> 0 | AC64: 0 | AD64: =IF(AC64<1,"*",IF(AC64>1,((MROUND(AC64,2))*0.01))) -> * | AE64: 6.458 | AF64: =MROUND(AE64,1) -> 6 | AG64: 0.497 | AH64: =IF(AG64<1,"*",IF(AG64>1,((MROUND(AG64,2))*0.01))) -> * | AI64: 0.061 | AJ64: =MROUND(AI64,1) -> 0 | AK64: 0.337 | AL64: =IF(AK64<1,"*",IF(AK64>1,((MROUND(AK64,2))*0.01))) -> * | AM64: 16.506 | AN64: =MROUND(AM64,1) -> 17 | AO64: 0.351 | AP64: =IF(AO64<1,"*",IF(AO64>1,((MROUND(AO64,2))*0.01))) -> *
A65: Cream Ice | B65: Chocolate Covered Strawberry | C65: 223.022 | D65: =MROUND(C65,10) -> 220 | E65: 20.98 | F65: =IF(E65<5,0,(IF(E65>50,MROUND(E65,10),MROUND(E65,5)))) -> 20 | G65: 4.509 | H65: =MROUND(G65,0.5) -> 4.5 | I65: 3.627 | J65: =MROUND(I65,0.5) -> 3.5 | K65: 0 | L65: =IF(K65<0.5,0,MROUND(K65,5)) -> 0 | M65: 0.001 | N65: 0 | O65: 65.763 | P65: =MROUND(O65,5) -> 65 | Q65: 54.073 | R65: =(MROUND(Q65,1)) -> 54 | S65: 0.736 | T65: less than 1 g | U65: 50.092 | V65: =(MROUND(U65,1)) -> 50 | W65: 45.427 | X65: =(MROUND(W65,1)) -> 45 | Y65: 0.806 | Z65: less than 1 g | AA65: 0.586 | AB65: =MROUND(AA65,1) -> 1 | AC65: 0 | AD65: =IF(AC65<1,"*",IF(AC65>1,((MROUND(AC65,2))*0.01))) -> * | AE65: 9.391 | AF65: =MROUND(AE65,1) -> 9 | AG65: 0.722 | AH65: =IF(AG65<1,"*",IF(AG65>1,((MROUND(AG65,2))*0.01))) -> * | AI65: 0.039 | AJ65: =MROUND(AI65,1) -> 0 | AK65: 0.219 | AL65: =IF(AK65<1,"*",IF(AK65>1,((MROUND(AK65,2))*0.01))) -> * | AM65: 12.697 | AN65: =MROUND(AM65,1) -> 13 | AO65: 0.27 | AP65: =IF(AO65<1,"*",IF(AO65>1,((MROUND(AO65,2))*0.01))) -> *
A66: Cream Ice | B66: Chocolate Peanut Butter | C66: 278.579 | D66: =MROUND(C66,10) -> 280 | E66: 44 | F66: =IF(E66<5,0,(IF(E66>50,MROUND(E66,10),MROUND(E66,5)))) -> 45 | G66: 4.908 | H66: =MROUND(G66,0.5) -> 5 | I66: 0.934 | J66: =MROUND(I66,0.5) -> 1 | K66: 0 | L66: =IF(K66<0.5,0,MROUND(K66,5)) -> 0 | M66: 0 | N66: 0 | O66: 63.815 | P66: =MROUND(O66,5) -> 65 | Q66: 59.59 | R66: =(MROUND(Q66,1)) -> 60 | S66: 1.324 | T66: =(MROUND(S66,1)) -> 1 | U66: 56.649 | V66: =(MROUND(U66,1)) -> 57 | W66: 56.183 | X66: =(MROUND(W66,1)) -> 56 | Y66: 2.025 | Z66: =(MROUND(Y66,1)) -> 2 | AA66: 0.004 | AB66: =MROUND(AA66,1) -> 0 | AC66: 0 | AD66: =IF(AC66<1,"*",IF(AC66>1,((MROUND(AC66,2))*0.01))) -> * | AE66: 8.138 | AF66: =MROUND(AE66,1) -> 8 | AG66: 0.187 | AH66: =IF(AG66<1,"*",IF(AG66>1,((MROUND(AG66,2))*0.01))) -> * | AI66: 0.021 | AJ66: =MROUND(AI66,1) -> 0 | AK66: 0.116 | AL66: =IF(AK66<1,"*",IF(AK66>1,((MROUND(AK66,2))*0.01))) -> * | AM66: 8.81 | AN66: =MROUND(AM66,1) -> 9 | AO66: 0.187 | AP66: =IF(AO66<1,"*",IF(AO66>1,((MROUND(AO66,2))*0.01))) -> *
A67: Cream Ice | B67: Coconut Cream | C67: 242.188 | D67: =MROUND(C67,10) -> 240 | E67: 13.16 | F67: =IF(E67<5,0,(IF(E67>50,MROUND(E67,10),MROUND(E67,5)))) -> 15 | G67: 3.625 | H67: =MROUND(G67,0.5) -> 3.5 | I67: 3.169 | J67: =MROUND(I67,0.5) -> 3 | K67: 0.042 | L67: =IF(K67<0.5,0,MROUND(K67,5)) -> 0 | M67: 0 | N67: 0 | O67: 53.502 | P67: =MROUND(O67,5) -> 55 | Q67: 52.614 | R67: =(MROUND(Q67,1)) -> 53 | S67: 0.353 | T67: 0 | U67: 49.236 | V67: =(MROUND(U67,1)) -> 49 | W67: 44.161 | X67: =(MROUND(W67,1)) -> 44 | Y67: 0.199 | Z67: 0 | AA67: 0 | AB67: =MROUND(AA67,1) -> 0 | AC67: 0 | AD67: =IF(AC67<1,"*",IF(AC67>1,((MROUND(AC67,2))*0.01))) -> * | AE67: 9.378 | AF67: =MROUND(AE67,1) -> 9 | AG67: 0.721 | AH67: =IF(AG67<1,"*",IF(AG67>1,((MROUND(AG67,2))*0.01))) -> * | AI67: 0.048 | AJ67: =MROUND(AI67,1) -> 0 | AK67: 0.266 | AL67: =IF(AK67<1,"*",IF(AK67>1,((MROUND(AK67,2))*0.01))) -> * | AM67: 16.716 | AN67: =MROUND(AM67,1) -> 17 | AO67: 0.356 | AP67: =IF(AO67<1,"*",IF(AO67>1,((MROUND(AO67,2))*0.01))) -> *
A68: Cream Ice | B68: Cookie Dough | C68: 260.611 | D68: =MROUND(C68,10) -> 260 | E68: 16.357 | F68: =IF(E68<5,0,(IF(E68>50,MROUND(E68,10),MROUND(E68,5)))) -> 15 | G68: 3.976 | H68: =MROUND(G68,0.5) -> 4 | I68: 2.827 | J68: =MROUND(I68,0.5) -> 3 | K68: 0.143 | L68: =IF(K68<0.5,0,MROUND(K68,5)) -> 0 | M68: 1.689 | N68: 0 | O68: 76.146 | P68: =MROUND(O68,5) -> 75 | Q68: 56.153 | R68: =(MROUND(Q68,1)) -> 56 | S68: 0.278 | T68: 0 | U68: 50.331 | V68: =(MROUND(U68,1)) -> 50 | W68: 49.199 | X68: =(MROUND(W68,1)) -> 49 | Y68: 0.587 | Z68: less than 1 g | AA68: 0.001 | AB68: =MROUND(AA68,1) -> 0 | AC68: 0 | AD68: =IF(AC68<1,"*",IF(AC68>1,((MROUND(AC68,2))*0.01))) -> * | AE68: 9.293 | AF68: =MROUND(AE68,1) -> 9 | AG68: 0.715 | AH68: =IF(AG68<1,"*",IF(AG68>1,((MROUND(AG68,2))*0.01))) -> * | AI68: 0.055 | AJ68: =MROUND(AI68,1) -> 0 | AK68: 0.303 | AL68: =IF(AK68<1,"*",IF(AK68>1,((MROUND(AK68,2))*0.01))) -> * | AM68: 15.367 | AN68: =MROUND(AM68,1) -> 15 | AO68: 0.327 | AP68: =IF(AO68<1,"*",IF(AO68>1,((MROUND(AO68,2))*0.01))) -> *
A69: Cream Ice | B69: Cookies & Cream | C69: 271.765 | D69: =MROUND(C69,10) -> 270 | E69: 5.714 | F69: =IF(E69<5,0,(IF(E69>50,MROUND(E69,10),MROUND(E69,5)))) -> 5 | G69: 2.744 | H69: =MROUND(G69,0.5) -> 2.5 | I69: 2.152 | J69: =MROUND(I69,0.5) -> 2 | K69: 0 | L69: =IF(K69<0.5,0,MROUND(K69,5)) -> 0 | M69: 0.022 | N69: 0 | O69: 52.189 | P69: =MROUND(O69,5) -> 50 | Q69: 62.193 | R69: =(MROUND(Q69,1)) -> 62 | S69: 0.074 | T69: 0 | U69: 58.665 | V69: =(MROUND(U69,1)) -> 59 | W69: 58.521 | X69: =(MROUND(W69,1)) -> 59 | Y69: 0.33 | Z69: 0 | AA69: 0 | AB69: =MROUND(AA69,1) -> 0 | AC69: 0 | AD69: =IF(AC69<1,"*",IF(AC69>1,((MROUND(AC69,2))*0.01))) -> * | AE69: 6.402 | AF69: =MROUND(AE69,1) -> 6 | AG69: 0.492 | AH69: =IF(AG69<1,"*",IF(AG69>1,((MROUND(AG69,2))*0.01))) -> * | AI69: 0.027 | AJ69: =MROUND(AI69,1) -> 0 | AK69: 0.148 | AL69: =IF(AK69<1,"*",IF(AK69>1,((MROUND(AK69,2))*0.01))) -> * | AM69: 3.864 | AN69: =MROUND(AM69,1) -> 4 | AO69: 0.082 | AP69: =IF(AO69<1,"*",IF(AO69>1,((MROUND(AO69,2))*0.01))) -> *
A70: Cream Ice | B70: Frozen Hot Cocoa | C70: 239.41 | D70: =MROUND(C70,10) -> 240 | E70: 1.916 | F70: =IF(E70<5,0,(IF(E70>50,MROUND(E70,10),MROUND(E70,5)))) -> 0 | G70: 2.246 | H70: =MROUND(G70,0.5) -> 2 | I70: 2.011 | J70: =MROUND(I70,0.5) -> 2 | K70: 0.07 | L70: =IF(K70<0.5,0,MROUND(K70,5)) -> 0 | M70: 0 | N70: 0 | O70: 58.41 | P70: =MROUND(O70,5) -> 60 | Q70: 56.068 | R70: =(MROUND(Q70,1)) -> 56 | S70: 0.623 | T70: less than 1 g | U70: 52.585 | V70: =(MROUND(U70,1)) -> 53 | W70: 52.303 | X70: =(MROUND(W70,1)) -> 52 | Y70: 0.564 | Z70: less than 1 g | AA70: 0.111 | AB70: =MROUND(AA70,1) -> 0 | AC70: 0 | AD70: =IF(AC70<1,"*",IF(AC70>1,((MROUND(AC70,2))*0.01))) -> * | AE70: 5.987 | AF70: =MROUND(AE70,1) -> 6 | AG70: 0.461 | AH70: =IF(AG70<1,"*",IF(AG70>1,((MROUND(AG70,2))*0.01))) -> * | AI70: 0.039 | AJ70: =MROUND(AI70,1) -> 0 | AK70: 0.219 | AL70: =IF(AK70<1,"*",IF(AK70>1,((MROUND(AK70,2))*0.01))) -> * | AM70: 17.189 | AN70: =MROUND(AM70,1) -> 17 | AO70: 0.366 | AP70: =IF(AO70<1,"*",IF(AO70>1,((MROUND(AO70,2))*0.01))) -> *
A71: Cream Ice | B71: Fudge Brownie | C71: 295.964 | D71: =MROUND(C71,10) -> 300 | E71: 0 | F71: =IF(E71<5,0,(IF(E71>50,MROUND(E71,10),MROUND(E71,5)))) -> 0 | G71: 4.122 | H71: =MROUND(G71,0.5) -> 4 | I71: 2.886 | J71: =MROUND(I71,0.5) -> 3 | K71: 0.021 | L71: =IF(K71<0.5,0,MROUND(K71,5)) -> 0 | M71: 1.625 | N71: 0 | O71: 79.866 | P71: =MROUND(O71,5) -> 80 | Q71: 66.394 | R71: =(MROUND(Q71,1)) -> 66 | S71: 1.169 | T71: =(MROUND(S71,1)) -> 1 | U71: 59.022 | V71: =(MROUND(U71,1)) -> 59 | W71: 58.672 | X71: =(MROUND(W71,1)) -> 59 | Y71: 1.201 | Z71: =(MROUND(Y71,1)) -> 1 | AA71: 0.108 | AB71: =MROUND(AA71,1) -> 0 | AC71: 0 | AD71: =IF(AC71<1,"*",IF(AC71>1,((MROUND(AC71,2))*0.01))) -> * | AE71: 5.404 | AF71: =MROUND(AE71,1) -> 5 | AG71: 0.416 | AH71: =IF(AG71<1,"*",IF(AG71>1,((MROUND(AG71,2))*0.01))) -> * | AI71: 0.051 | AJ71: =MROUND(AI71,1) -> 0 | AK71: 0.283 | AL71: =IF(AK71<1,"*",IF(AK71>1,((MROUND(AK71,2))*0.01))) -> * | AM71: 5.424 | AN71: =MROUND(AM71,1) -> 5 | AO71: 0.416 | AP71: =IF(AO71<1,"*",IF(AO71>1,((MROUND(AO71,2))*0.01))) -> *
A72: Cream Ice | B72: Marshmallow Peanut Butter | C72: 293.329 | D72: =MROUND(C72,10) -> 290 | E72: 41.554 | F72: =IF(E72<5,0,(IF(E72>50,MROUND(E72,10),MROUND(E72,5)))) -> 40 | G72: 6.72 | H72: =MROUND(G72,1) -> 7 | I72: 2.717 | J72: =MROUND(I72,0.5) -> 2.5 | K72: 0 | L72: =IF(K72<0.5,0,MROUND(K72,5)) -> 0 | M72: 0 | N72: 0 | O72: 83.561 | P72: =MROUND(O72,5) -> 85 | Q72: 57.852 | R72: =(MROUND(Q72,1)) -> 58 | S72: 0.537 | T72: less than 1 g | U72: 54.884 | V72: =(MROUND(U72,1)) -> 55 | W72: 54.535 | X72: =(MROUND(W72,1)) -> 55 | Y72: 1.712 | Z72: =(MROUND(Y72,1)) -> 2 | AA72: 0 | AB72: =MROUND(AA72,1) -> 0 | AC72: 0 | AD72: =IF(AC72<1,"*",IF(AC72>1,((MROUND(AC72,2))*0.01))) -> * | AE72: 5.428 | AF72: =MROUND(AE72,1) -> 5 | AG72: 0.418 | AH72: =IF(AG72<1,"*",IF(AG72>1,((MROUND(AG72,2))*0.01))) -> * | AI72: 0.007 | AJ72: =MROUND(AI72,1) -> 0 | AK72: 0.038 | AL72: =IF(AK72<1,"*",IF(AK72>1,((MROUND(AK72,2))*0.01))) -> * | AM72: 0.289 | AN72: =MROUND(AM72,1) -> 0 | AO72: 0.006 | AP72: =IF(AO72<1,"*",IF(AO72>1,((MROUND(AO72,2))*0.01))) -> *
A73: Cream Ice | B73: Mint Chocolate Chip | C73: 207.579 | D73: =MROUND(C73,10) -> 210 | E73: 15.406 | F73: =IF(E73<5,0,(IF(E73>50,MROUND(E73,10),MROUND(E73,5)))) -> 15 | G73: 3.861 | H73: =MROUND(G73,0.5) -> 4 | I73: 3.02 | J73: =MROUND(I73,0.5) -> 3 | K73: 0 | L73: =IF(K73<0.5,0,MROUND(K73,5)) -> 0 | M73: 0 | N73: 0 | O73: 42.372 | P73: =MROUND(O73,5) -> 40 | Q73: 52.336 | R73: =(MROUND(Q73,1)) -> 52 | S73: 0.483 | T73: 0 | U73: 49.332 | V73: =(MROUND(U73,1)) -> 49 | W73: 45.435 | X73: =(MROUND(W73,1)) -> 45 | Y73: 0.504 | Z73: less than 1 g | AA73: 0.577 | AB73: =MROUND(AA73,1) -> 1 | AC73: 0 | AD73: =IF(AC73<1,"*",IF(AC73>1,((MROUND(AC73,2))*0.01))) -> * | AE73: 8.169 | AF73: =MROUND(AE73,1) -> 8 | AG73: 0.628 | AH73: =IF(AG73<1,"*",IF(AG73>1,((MROUND(AG73,2))*0.01))) -> * | AI73: 0.605 | AJ73: =MROUND(AI73,1) -> 1 | AK73: 3.359 | AL73: =IF(AK73<1,"*",IF(AK73>1,((MROUND(AK73,2))*0.01))) -> 0.04 | AM73: 33.477 | AN73: =MROUND(AM73,1) -> 33 | AO73: 0.712 | AP73: =IF(AO73<1,"*",IF(AO73>1,((MROUND(AO73,2))*0.01))) -> *
A74: Cream Ice | B74: Mint Oreo | C74: 225.026 | D74: =MROUND(C74,10) -> 230 | E74: 5.861 | F74: =IF(E74<5,0,(IF(E74>50,MROUND(E74,10),MROUND(E74,5)))) -> 5 | G74: 2.815 | H74: =MROUND(G74,0.5) -> 3 | I74: 2.207 | J74: =MROUND(I74,0.5) -> 2 | K74: 0 | L74: =IF(K74<0.5,0,MROUND(K74,5)) -> 0 | M74: 0.022 | N74: 0 | O74: 54.243 | P74: =MROUND(O74,5) -> 55 | Q74: 50.522 | R74: =(MROUND(Q74,1)) -> 51 | S74: 0.067 | T74: 0 | U74: 47.191 | V74: =(MROUND(U74,1)) -> 47 | W74: 47.062 | X74: =(MROUND(W74,1)) -> 47 | Y74: 0.338 | Z74: 0 | AA74: 0.001 | AB74: =MROUND(AA74,1) -> 0 | AC74: 0 | AD74: =IF(AC74<1,"*",IF(AC74>1,((MROUND(AC74,2))*0.01))) -> * | AE74: 5.234 | AF74: =MROUND(AE74,1) -> 5 | AG74: 0.403 | AH74: =IF(AG74<1,"*",IF(AG74>1,((MROUND(AG74,2))*0.01))) -> * | AI74: 0.016 | AJ74: =MROUND(AI74,1) -> 0 | AK74: 0.089 | AL74: =IF(AK74<1,"*",IF(AK74>1,((MROUND(AK74,2))*0.01))) -> * | AM74: 0.661 | AN74: =MROUND(AM74,1) -> 1 | AO74: 0.014 | AP74: =IF(AO74<1,"*",IF(AO74>1,((MROUND(AO74,2))*0.01))) -> *
A75: Cream Ice | B75: Orange Dreamsicle | C75: 196.053 | D75: =MROUND(C75,10) -> 200 | E75: 0 | F75: =IF(E75<5,0,(IF(E75>50,MROUND(E75,10),MROUND(E75,5)))) -> 0 | G75: 2.116 | H75: =MROUND(G75,0.5) -> 2 | I75: 1.962 | J75: =MROUND(I75,0.5) -> 2 | K75: 0 | L75: =IF(K75<0.5,0,MROUND(K75,5)) -> 0 | M75: 0 | N75: 0 | O75: 42.492 | P75: =MROUND(O75,5) -> 40 | Q75: 44.472 | R75: =(MROUND(Q75,1)) -> 44 | S75: 0.004 | T75: 0 | U75: 41.72 | V75: =(MROUND(U75,1)) -> 42 | W75: 41.598 | X75: =(MROUND(W75,1)) -> 42 | Y75: 0.192 | Z75: 0 | AA75: 0 | AB75: =MROUND(AA75,1) -> 0 | AC75: 0 | AD75: =IF(AC75<1,"*",IF(AC75>1,((MROUND(AC75,2))*0.01))) -> * | AE75: 5.276 | AF75: =MROUND(AE75,1) -> 5 | AG75: 0.406 | AH75: =IF(AG75<1,"*",IF(AG75>1,((MROUND(AG75,2))*0.01))) -> * | AI75: 0.012 | AJ75: =MROUND(AI75,1) -> 0 | AK75: 0.066 | AL75: =IF(AK75<1,"*",IF(AK75>1,((MROUND(AK75,2))*0.01))) -> * | AM75: 0.818 | AN75: =MROUND(AM75,1) -> 1 | AO75: 0.017 | AP75: =IF(AO75<1,"*",IF(AO75>1,((MROUND(AO75,2))*0.01))) -> *
A76: Cream Ice | B76: Pumpkin Cheesecake | C76: 213.96 | D76: =MROUND(C76,10) -> 210 | E76: 7.545 | F76: =IF(E76<5,0,(IF(E76>50,MROUND(E76,10),MROUND(E76,5)))) -> 10 | G76: 2.986 | H76: =MROUND(G76,0.5) -> 3 | I76: 2.532 | J76: =MROUND(I76,0.5) -> 2.5 | K76: 0.018 | L76: =IF(K76<0.5,0,MROUND(K76,5)) -> 0 | M76: 2.077 | N76: less than 5mg | O76: 49.911 | P76: =MROUND(O76,5) -> 50 | Q76: 46.775 | R76: =(MROUND(Q76,1)) -> 47 | S76: 0.327 | T76: 0 | U76: 42.738 | V76: =(MROUND(U76,1)) -> 43 | W76: 42.245 | X76: =(MROUND(W76,1)) -> 42 | Y76: 0.434 | Z76: 0 | AA76: 0 | AB76: =MROUND(AA76,1) -> 0 | AC76: 0 | AD76: =IF(AC76<1,"*",IF(AC76>1,((MROUND(AC76,2))*0.01))) -> * | AE76: 5.986 | AF76: =MROUND(AE76,1) -> 6 | AG76: 0.46 | AH76: =IF(AG76<1,"*",IF(AG76>1,((MROUND(AG76,2))*0.01))) -> * | AI76: 0.08 | AJ76: =MROUND(AI76,1) -> 0 | AK76: 0.446 | AL76: =IF(AK76<1,"*",IF(AK76>1,((MROUND(AK76,2))*0.01))) -> * | AM76: 11.063 | AN76: =MROUND(AM76,1) -> 11 | AO76: 0.235 | AP76: =IF(AO76<1,"*",IF(AO76>1,((MROUND(AO76,2))*0.01))) -> *
A77: Cream Ice | B77: Pumpkin Pie | C77: 187.19 | D77: =MROUND(C77,10) -> 190 | E77: 0.038 | F77: =IF(E77<5,0,(IF(E77>50,MROUND(E77,10),MROUND(E77,5)))) -> 0 | G77: 2.159 | H77: =MROUND(G77,0.5) -> 2 | I77: 2.002 | J77: =MROUND(I77,0.5) -> 2 | K77: 0 | L77: =IF(K77<0.5,0,MROUND(K77,5)) -> 0 | M77: 0 | N77: 0 | O77: 44.504 | P77: =MROUND(O77,5) -> 45 | Q77: 42.104 | R77: =(MROUND(Q77,1)) -> 42 | S77: 0.638 | T77: less than 1 g | U77: 38.754 | V77: =(MROUND(U77,1)) -> 39 | W77: 38.075 | X77: =(MROUND(W77,1)) -> 38 | Y77: 0.392 | Z77: 0 | AA77: 0 | AB77: =MROUND(AA77,1) -> 0 | AC77: 0 | AD77: =IF(AC77<1,"*",IF(AC77>1,((MROUND(AC77,2))*0.01))) -> * | AE77: 6.648 | AF77: =MROUND(AE77,1) -> 7 | AG77: 0.511 | AH77: =IF(AG77<1,"*",IF(AG77>1,((MROUND(AG77,2))*0.01))) -> * | AI77: 0.087 | AJ77: =MROUND(AI77,1) -> 0 | AK77: 0.483 | AL77: =IF(AK77<1,"*",IF(AK77>1,((MROUND(AK77,2))*0.01))) -> * | AM77: 8.752 | AN77: =MROUND(AM77,1) -> 9 | AO77: 0.186 | AP77: =IF(AO77<1,"*",IF(AO77>1,((MROUND(AO77,2))*0.01))) -> *
A78: Cream Ice | B78: Raspberries n' Cream | C78: 189.528 | D78: =MROUND(C78,10) -> 190 | E78: 0.455 | F78: =IF(E78<5,0,(IF(E78>50,MROUND(E78,10),MROUND(E78,5)))) -> 0 | G78: 2.139 | H78: =MROUND(G78,0.5) -> 2 | I78: 1.941 | J78: =MROUND(I78,0.5) -> 2 | K78: 0 | L78: =IF(K78<0.5,0,MROUND(K78,5)) -> 0 | M78: 0 | N78: 0 | O78: 43.322 | P78: =MROUND(O78,5) -> 45 | Q78: 42.633 | R78: =(MROUND(Q78,1)) -> 43 | S78: 0.471 | T78: 0 | U78: 39.499 | V78: =(MROUND(U78,1)) -> 39 | W78: 38.834 | X78: =(MROUND(W78,1)) -> 39 | Y78: 0.33 | Z78: 0 | AA78: 0 | AB78: =MROUND(AA78,1) -> 0 | AC78: 0 | AD78: =IF(AC78<1,"*",IF(AC78>1,((MROUND(AC78,2))*0.01))) -> * | AE78: 10.961 | AF78: =MROUND(AE78,1) -> 11 | AG78: 0.844 | AH78: =IF(AG78<1,"*",IF(AG78>1,((MROUND(AG78,2))*0.01))) -> * | AI78: 0.388 | AJ78: =MROUND(AI78,1) -> 0 | AK78: 2.154 | AL78: =IF(AK78<1,"*",IF(AK78>1,((MROUND(AK78,2))*0.01))) -> 0.02 | AM78: 57.987 | AN78: =MROUND(AM78,1) -> 58 | AO78: 1.234 | AP78: =IF(AO78<1,"*",IF(AO78>1,((MROUND(AO78,2))*0.01))) -> 0.02
A79: Cream Ice | B79: Root Beer Float | C79: 197.109 | D79: =MROUND(C79,10) -> 200 | E79: 0 | F79: =IF(E79<5,0,(IF(E79>50,MROUND(E79,10),MROUND(E79,5)))) -> 0 | G79: 1.014 | H79: =MROUND(G79,0.5) -> 1 | I79: 0.94 | J79: =MROUND(I79,0.5) -> 1 | K79: 0 | L79: =IF(K79<0.5,0,MROUND(K79,5)) -> 0 | M79: 0 | N79: 0 | O79: 39.161 | P79: =MROUND(O79,5) -> 40 | Q79: 36.308 | R79: =(MROUND(Q79,1)) -> 36 | S79: 10.756 | T79: =(MROUND(S79,1)) -> 11 | U79: 34.666 | V79: =(MROUND(U79,1)) -> 35 | W79: 45.335 | X79: =(MROUND(W79,1)) -> 45 | Y79: 0.092 | Z79: 0 | AA79: 0 | AB79: =MROUND(AA79,1) -> 0 | AC79: 0 | AD79: =IF(AC79<1,"*",IF(AC79>1,((MROUND(AC79,2))*0.01))) -> * | AE79: 6.488 | AF79: =MROUND(AE79,1) -> 6 | AG79: 0.499 | AH79: =IF(AG79<1,"*",IF(AG79>1,((MROUND(AG79,2))*0.01))) -> * | AI79: 0.051 | AJ79: =MROUND(AI79,1) -> 0 | AK79: 0.283 | AL79: =IF(AK79<1,"*",IF(AK79>1,((MROUND(AK79,2))*0.01))) -> * | AM79: 1.905 | AN79: =MROUND(AM79,1) -> 2 | AO79: 0.041 | AP79: =IF(AO79<1,"*",IF(AO79>1,((MROUND(AO79,2))*0.01))) -> *
A80: Cream Ice | B80: Shamrock | C80: 231.206 | D80: =MROUND(C80,10) -> 230 | E80: 0 | F80: =IF(E80<5,0,(IF(E80>50,MROUND(E80,10),MROUND(E80,5)))) -> 0 | G80: 2.091 | H80: =MROUND(G80,0.5) -> 2 | I80: 1.939 | J80: =MROUND(I80,0.5) -> 2 | K80: 0 | L80: =IF(K80<0.5,0,MROUND(K80,5)) -> 0 | M80: 0 | N80: 0 | O80: 41.095 | P80: =MROUND(O80,5) -> 40 | Q80: 53.523 | R80: =(MROUND(Q80,1)) -> 54 | S80: 0.015 | T80: 0 | U80: 51.134 | V80: =(MROUND(U80,1)) -> 51 | W80: 51.006 | X80: =(MROUND(W80,1)) -> 51 | Y80: 0.19 | Z80: 0 | AA80: 0 | AB80: =MROUND(AA80,1) -> 0 | AC80: 0 | AD80: =IF(AC80<1,"*",IF(AC80>1,((MROUND(AC80,2))*0.01))) -> * | AE80: 7.266 | AF80: =MROUND(AE80,1) -> 7 | AG80: 0.559 | AH80: =IF(AG80<1,"*",IF(AG80>1,((MROUND(AG80,2))*0.01))) -> * | AI80: 0.059 | AJ80: =MROUND(AI80,1) -> 0 | AK80: 0.329 | AL80: =IF(AK80<1,"*",IF(AK80>1,((MROUND(AK80,2))*0.01))) -> * | AM80: 13.78 | AN80: =MROUND(AM80,1) -> 14 | AO80: 0.293 | AP80: =IF(AO80<1,"*",IF(AO80>1,((MROUND(AO80,2))*0.01))) -> *
A81: Cream Ice | B81: S'mores | C81: 262.707 | D81: =MROUND(C81,10) -> 260 | E81: 0 | F81: =IF(E81<5,0,(IF(E81>50,MROUND(E81,10),MROUND(E81,5)))) -> 0 | G81: 3.185 | H81: =MROUND(G81,0.5) -> 3 | I81: 2.598 | J81: =MROUND(I81,0.5) -> 2.5 | K81: 0 | L81: =IF(K81<0.5,0,MROUND(K81,5)) -> 0 | M81: 0 | N81: 0 | O81: 49.691 | P81: =MROUND(O81,5) -> 50 | Q81: 59.426 | R81: =(MROUND(Q81,1)) -> 59 | S81: 0.362 | T81: 0 | U81: 56.634 | V81: =(MROUND(U81,1)) -> 57 | W81: 56.518 | X81: =(MROUND(W81,1)) -> 57 | Y81: 0.398 | Z81: 0 | AA81: 0 | AB81: =MROUND(AA81,1) -> 0 | AC81: 0 | AD81: =IF(AC81<1,"*",IF(AC81>1,((MROUND(AC81,2))*0.01))) -> * | AE81: 7.396 | AF81: =MROUND(AE81,1) -> 7 | AG81: 0.569 | AH81: =IF(AG81<1,"*",IF(AG81>1,((MROUND(AG81,2))*0.01))) -> * | AI81: 0.052 | AJ81: =MROUND(AI81,1) -> 0 | AK81: 0.289 | AL81: =IF(AK81<1,"*",IF(AK81>1,((MROUND(AK81,2))*0.01))) -> * | AM81: 12.692 | AN81: =MROUND(AM81,1) -> 13 | AO81: 0.27 | AP81: =IF(AO81<1,"*",IF(AO81>1,((MROUND(AO81,2))*0.01))) -> *
A82: Cream Ice | B82: Strawberries n' Cream | C82: 225.222 | D82: =MROUND(C82,10) -> 230 | E82: 0.035 | F82: =IF(E82<5,0,(IF(E82>50,MROUND(E82,10),MROUND(E82,5)))) -> 0 | G82: 2.157 | H82: =MROUND(G82,0.5) -> 2 | I82: 1.997 | J82: =MROUND(I82,0.5) -> 2 | K82: 0 | L82: =IF(K82<0.5,0,MROUND(K82,5)) -> 0 | M82: 0 | N82: 0 | O82: 44.154 | P82: =MROUND(O82,5) -> 45 | Q82: 51.865 | R82: =(MROUND(Q82,1)) -> 52 | S82: 0.082 | T82: 0 | U82: 49.096 | V82: =(MROUND(U82,1)) -> 49 | W82: 48.232 | X82: =(MROUND(W82,1)) -> 48 | Y82: 0.229 | Z82: 0 | AA82: 0 | AB82: =MROUND(AA82,1) -> 0 | AC82: 0 | AD82: =IF(AC82<1,"*",IF(AC82>1,((MROUND(AC82,2))*0.01))) -> * | AE82: 6.277 | AF82: =MROUND(AE82,1) -> 6 | AG82: 0.483 | AH82: =IF(AG82<1,"*",IF(AG82>1,((MROUND(AG82,2))*0.01))) -> * | AI82: 0.06 | AJ82: =MROUND(AI82,1) -> 0 | AK82: 0.333 | AL82: =IF(AK82<1,"*",IF(AK82>1,((MROUND(AK82,2))*0.01))) -> * | AM82: 6.868 | AN82: =MROUND(AM82,1) -> 7 | AO82: 0.146 | AP82: =IF(AO82<1,"*",IF(AO82>1,((MROUND(AO82,2))*0.01))) -> *
A83: Cream Ice | B83: Strawberry Cheesecake | C83: 257.049 | D83: =MROUND(C83,10) -> 260 | E83: 14.909 | F83: =IF(E83<5,0,(IF(E83>50,MROUND(E83,10),MROUND(E83,5)))) -> 15 | G83: 3.777 | H83: =MROUND(G83,0.5) -> 4 | I83: 3.031 | J83: =MROUND(I83,0.5) -> 3 | K83: 0.001 | L83: =IF(K83<0.5,0,MROUND(K83,5)) -> 0 | M83: 4.102 | N83: less than 5mg | O83: 56.126 | P83: =MROUND(O83,5) -> 55 | Q83: 55.959 | R83: =(MROUND(Q83,1)) -> 56 | S83: 0.123 | T83: 0 | U83: 50.777 | V83: =(MROUND(U83,1)) -> 51 | W83: 49.431 | X83: =(MROUND(W83,1)) -> 49 | Y83: 0.743 | Z83: less than 1 g | AA83: 0 | AB83: =MROUND(AA83,1) -> 0 | AC83: 0 | AD83: =IF(AC83<1,"*",IF(AC83>1,((MROUND(AC83,2))*0.01))) -> * | AE83: 6.597 | AF83: =MROUND(AE83,1) -> 7 | AG83: 0.507 | AH83: =IF(AG83<1,"*",IF(AG83>1,((MROUND(AG83,2))*0.01))) -> * | AI83: 0.103 | AJ83: =MROUND(AI83,1) -> 0 | AK83: 0.572 | AL83: =IF(AK83<1,"*",IF(AK83>1,((MROUND(AK83,2))*0.01))) -> * | AM83: 33.159 | AN83: =MROUND(AM83,1) -> 33 | AO83: 0.706 | AP83: =IF(AO83<1,"*",IF(AO83>1,((MROUND(AO83,2))*0.01))) -> *
A84: Cream Ice | B84: Strawberry-Banana | C84: 169.432 | D84: =MROUND(C84,10) -> 170 | E84: 0.328 | F84: =IF(E84<5,0,(IF(E84>50,MROUND(E84,10),MROUND(E84,5)))) -> 0 | G84: 2.42 | H84: =MROUND(G84,0.5) -> 2.5 | I84: 2.238 | J84: =MROUND(I84,0.5) -> 2 | K84: 0.001 | L84: =IF(K84<0.5,0,MROUND(K84,5)) -> 0 | M84: 0 | N84: 0 | O84: 52.564 | P84: =MROUND(O84,5) -> 55 | Q84: 36.572 | R84: =(MROUND(Q84,1)) -> 37 | S84: 0.208 | T84: 0 | U84: 33.151 | V84: =(MROUND(U84,1)) -> 33 | W84: 31.784 | X84: =(MROUND(W84,1)) -> 32 | Y84: 0.331 | Z84: 0 | AA84: 0 | AB84: =MROUND(AA84,1) -> 0 | AC84: 0 | AD84: =IF(AC84<1,"*",IF(AC84>1,((MROUND(AC84,2))*0.01))) -> * | AE84: 5.992 | AF84: =MROUND(AE84,1) -> 6 | AG84: 0.461 | AH84: =IF(AG84<1,"*",IF(AG84>1,((MROUND(AG84,2))*0.01))) -> * | AI84: 0.055 | AJ84: =MROUND(AI84,1) -> 0 | AK84: 0.305 | AL84: =IF(AK84<1,"*",IF(AK84>1,((MROUND(AK84,2))*0.01))) -> * | AM84: 0.807 | AN84: =MROUND(AM84,1) -> 1 | AO84: 0.017 | AP84: =IF(AO84<1,"*",IF(AO84>1,((MROUND(AO84,2))*0.01))) -> *
A85: Cream Ice | B85: Watermelon Chip | C85: 232.955 | D85: =MROUND(C85,10) -> 230 | E85: 15.407 | F85: =IF(E85<5,0,(IF(E85>50,MROUND(E85,10),MROUND(E85,5)))) -> 15 | G85: 3.848 | H85: =MROUND(G85,0.5) -> 4 | I85: 3.001 | J85: =MROUND(I85,0.5) -> 3 | K85: 0 | L85: =IF(K85<0.5,0,MROUND(K85,5)) -> 0 | M85: 0 | N85: 0 | O85: 48.886 | P85: =MROUND(O85,5) -> 50 | Q85: 58.662 | R85: =(MROUND(Q85,1)) -> 59 | S85: 0.501 | T85: less than 1 g | U85: 54.747 | V85: =(MROUND(U85,1)) -> 55 | W85: 50.761 | X85: =(MROUND(W85,1)) -> 51 | Y85: 0.543 | Z85: less than 1 g | AA85: 0.574 | AB85: =MROUND(AA85,1) -> 1 | AC85: 0 | AD85: =IF(AC85<1,"*",IF(AC85>1,((MROUND(AC85,2))*0.01))) -> * | AE85: 5.933 | AF85: =MROUND(AE85,1) -> 6 | AG85: 0.456 | AH85: =IF(AG85<1,"*",IF(AG85>1,((MROUND(AG85,2))*0.01))) -> * | AI85: 0.031 | AJ85: =MROUND(AI85,1) -> 0 | AK85: 0.171 | AL85: =IF(AK85<1,"*",IF(AK85>1,((MROUND(AK85,2))*0.01))) -> * | AM85: 3.715 | AN85: =MROUND(AM85,1) -> 4 | AO85: 0.079 | AP85: =IF(AO85<1,"*",IF(AO85>1,((MROUND(AO85,2))*0.01))) -> *
A86: Cream Ice | B86: Witches Brew-Berry | C86: 198.23 | D86: =MROUND(C86,10) -> 200 | E86: 0 | F86: =IF(E86<5,0,(IF(E86>50,MROUND(E86,10),MROUND(E86,5)))) -> 0 | G86: 0 | H86: =IF(G86<0.5,0,MROUND(G86,5)) -> 0 | I86: 0 | J86: =IF(I86<0.5,0,MROUND(I86,5)) -> 0 | K86: 0 | L86: =IF(K86<0.5,0,MROUND(K86,5)) -> 0 | M86: 0 | N86: 0 | O86: 39.266 | P86: =MROUND(O86,5) -> 40 | Q86: 50.319 | R86: =(MROUND(Q86,1)) -> 50 | S86: 0.019 | T86: 0 | U86: 48.899 | V86: =(MROUND(U86,1)) -> 49 | W86: 48.899 | X86: =(MROUND(W86,1)) -> 49 | Y86: 0.106 | Z86: 0 | AA86: 0 | AB86: =MROUND(AA86,1) -> 0 | AC86: 0 | AD86: =IF(AC86<1,"*",IF(AC86>1,((MROUND(AC86,2))*0.01))) -> * | AE86: 6.495 | AF86: =MROUND(AE86,1) -> 6 | AG86: 0.5 | AH86: =IF(AG86<1,"*",IF(AG86>1,((MROUND(AG86,2))*0.01))) -> * | AI86: 0.439 | AJ86: =MROUND(AI86,1) -> 0 | AK86: 2.44 | AL86: =IF(AK86<1,"*",IF(AK86>1,((MROUND(AK86,2))*0.01))) -> 0.02 | AM86: 16.736 | AN86: =MROUND(AM86,1) -> 17 | AO86: 0.356 | AP86: =IF(AO86<1,"*",IF(AO86>1,((MROUND(AO86,2))*0.01))) -> *
A87: Sugar Free Ice | B87: S/F Cherry | C87: 88.42 | D87: =MROUND(C87,10) -> 90 | E87: 0.052 | F87: =IF(E87<5,0,(IF(E87>50,MROUND(E87,10),MROUND(E87,5)))) -> 0 | G87: 0.006 | H87: =IF(G87<0.5,0,MROUND(G87,5)) -> 0 | I87: 0.006 | J87: =IF(I87<0.5,0,MROUND(I87,5)) -> 0 | K87: 0 | L87: =IF(K87<0.5,0,MROUND(K87,5)) -> 0 | M87: 0 | N87: 0 | O87: 17.913 | P87: =MROUND(O87,5) -> 20 | Q87: 31.009 | R87: =(MROUND(Q87,1)) -> 31 | S87: 0.023 | T87: 0 | U87: 0.061 | V87: 0 | W87: 0 | X87: 0 | Y87: 0.25 | Z87: 0 | AA87: 0 | AB87: =MROUND(AA87,1) -> 0 | AC87: 0 | AD87: =IF(AC87<1,"*",IF(AC87>1,((MROUND(AC87,2))*0.01))) -> * | AE87: 6.052 | AF87: =MROUND(AE87,1) -> 6 | AG87: 0.466 | AH87: =IF(AG87<1,"*",IF(AG87>1,((MROUND(AG87,2))*0.01))) -> * | AI87: 0.041 | AJ87: =MROUND(AI87,1) -> 0 | AK87: 0.227 | AL87: =IF(AK87<1,"*",IF(AK87>1,((MROUND(AK87,2))*0.01))) -> * | AM87: 13.71 | AN87: =MROUND(AM87,1) -> 14 | AO87: 0.292 | AP87: =IF(AO87<1,"*",IF(AO87>1,((MROUND(AO87,2))*0.01))) -> *
A88: Sugar Free Ice | B88: S/F Dragon Fruit | C88: 88.307 | D88: =MROUND(C88,10) -> 90 | E88: 0 | F88: =IF(E88<5,0,(IF(E88>50,MROUND(E88,10),MROUND(E88,5)))) -> 0 | G88: 0.006 | H88: =IF(G88<0.5,0,MROUND(G88,5)) -> 0 | I88: 0.006 | J88: =IF(I88<0.5,0,MROUND(I88,5)) -> 0 | K88: 0 | L88: =IF(K88<0.5,0,MROUND(K88,5)) -> 0 | M88: 0 | N88: 0 | O88: 18.916 | P88: =MROUND(O88,5) -> 20 | Q88: 30.909 | R88: =(MROUND(Q88,1)) -> 31 | S88: 0.006 | T88: 0 | U88: 0.062 | V88: 0 | W88: 0 | X88: 0 | Y88: 0.018 | Z88: 0 | AA88: 0 | AB88: =MROUND(AA88,1) -> 0 | AC88: 0 | AD88: =IF(AC88<1,"*",IF(AC88>1,((MROUND(AC88,2))*0.01))) -> * | AE88: 0 | AF88: =MROUND(AE88,1) -> 0 | AG88: 0 | AH88: =IF(AG88<1,"*",IF(AG88>1,((MROUND(AG88,2))*0.01))) -> * | AI88: 0 | AJ88: =MROUND(AI88,1) -> 0 | AK88: 0 | AL88: =IF(AK88<1,"*",IF(AK88>1,((MROUND(AK88,2))*0.01))) -> * | AM88: 0 | AN88: =MROUND(AM88,1) -> 0 | AO88: 0 | AP88: =IF(AO88<1,"*",IF(AO88>1,((MROUND(AO88,2))*0.01))) -> *
A89: Sugar Free Ice | B89: S/F Mango Dragonfruit | C89: 87.744 | D89: =MROUND(C89,10) -> 90 | E89: 0.063 | F89: =IF(E89<5,0,(IF(E89>50,MROUND(E89,10),MROUND(E89,5)))) -> 0 | G89: 0.007 | H89: =IF(G89<0.5,0,MROUND(G89,5)) -> 0 | I89: 0.006 | J89: =IF(I89<0.5,0,MROUND(I89,5)) -> 0 | K89: 0 | L89: =IF(K89<0.5,0,MROUND(K89,5)) -> 0 | M89: 0 | N89: 0 | O89: 18.342 | P89: =MROUND(O89,5) -> 20 | Q89: 30.592 | R89: =(MROUND(Q89,1)) -> 31 | S89: 0.012 | T89: 0 | U89: 0.109 | V89: 0 | W89: 0 | X89: 0 | Y89: 0.009 | Z89: 0 | AA89: 0 | AB89: =MROUND(AA89,1) -> 0 | AC89: 0 | AD89: =IF(AC89<1,"*",IF(AC89>1,((MROUND(AC89,2))*0.01))) -> * | AE89: 8.545 | AF89: =MROUND(AE89,1) -> 9 | AG89: 0.687 | AH89: =IF(AG89<1,"*",IF(AG89>1,((MROUND(AG89,2))*0.01))) -> * | AI89: 0.606 | AJ89: =MROUND(AI89,1) -> 1 | AK89: 3.369 | AL89: =IF(AK89<1,"*",IF(AK89>1,((MROUND(AK89,2))*0.01))) -> 0.04 | AM89: 39.716 | AN89: =MROUND(AM89,1) -> 40 | AO89: 0.845 | AP89: =IF(AO89<1,"*",IF(AO89>1,((MROUND(AO89,2))*0.01))) -> *
A90: Sugar Free Ice | B90: S/F Mango Peach | C90: 84.572 | D90: =MROUND(C90,10) -> 80 | E90: 0.072 | F90: =IF(E90<5,0,(IF(E90>50,MROUND(E90,10),MROUND(E90,5)))) -> 0 | G90: 0.008 | H90: =IF(G90<0.5,0,MROUND(G90,5)) -> 0 | I90: 0.006 | J90: =IF(I90<0.5,0,MROUND(I90,5)) -> 0 | K90: 0 | L90: =IF(K90<0.5,0,MROUND(K90,5)) -> 0 | M90: 0 | N90: 0 | O90: 17.513 | P90: =MROUND(O90,5) -> 20 | Q90: 29.638 | R90: =(MROUND(Q90,1)) -> 30 | S90: 0.017 | T90: 0 | U90: 0.151 | V90: 0 | W90: 0 | X90: 0 | Y90: 0 | Z90: 0 | AA90: 0 | AB90: =MROUND(AA90,1) -> 0 | AC90: 0 | AD90: =IF(AC90<1,"*",IF(AC90>1,((MROUND(AC90,2))*0.01))) -> * | AE90: 10.152 | AF90: =MROUND(AE90,1) -> 10 | AG90: 0.781 | AH90: =IF(AG90<1,"*",IF(AG90>1,((MROUND(AG90,2))*0.01))) -> * | AI90: 0.136 | AJ90: =MROUND(AI90,1) -> 0 | AK90: 0.753 | AL90: =IF(AK90<1,"*",IF(AK90>1,((MROUND(AK90,2))*0.01))) -> * | AM90: 14.915 | AN90: =MROUND(AM90,1) -> 15 | AO90: 0.317 | AP90: =IF(AO90<1,"*",IF(AO90>1,((MROUND(AO90,2))*0.01))) -> *
A91: Sugar Free Ice | B91: S/F Pink Lemonade | C91: 116.237 | D91: =MROUND(C91,10) -> 120 | E91: 0 | F91: =IF(E91<5,0,(IF(E91>50,MROUND(E91,10),MROUND(E91,5)))) -> 0 | G91: 0 | H91: =IF(G91<0.5,0,MROUND(G91,5)) -> 0 | I91: 0 | J91: =IF(I91<0.5,0,MROUND(I91,5)) -> 0 | K91: 0 | L91: =IF(K91<0.5,0,MROUND(K91,5)) -> 0 | M91: 0 | N91: 0 | O91: 18.058 | P91: =MROUND(O91,5) -> 20 | Q91: 30.41 | R91: =(MROUND(Q91,1)) -> 30 | S91: 0.206 | T91: 0 | U91: 0 | V91: 0 | W91: 0 | X91: 0 | Y91: 0.02 | Z91: 0 | AA91: 0 | AB91: =MROUND(AA91,1) -> 0 | AC91: 0 | AD91: =IF(AC91<1,"*",IF(AC91>1,((MROUND(AC91,2))*0.01))) -> * | AE91: 6.372 | AF91: =MROUND(AE91,1) -> 6 | AG91: 0.49 | AH91: =IF(AG91<1,"*",IF(AG91>1,((MROUND(AG91,2))*0.01))) -> * | AI91: 0.047 | AJ91: =MROUND(AI91,1) -> 0 | AK91: 0.262 | AL91: =IF(AK91<1,"*",IF(AK91>1,((MROUND(AK91,2))*0.01))) -> * | AM91: 0.674 | AN91: =MROUND(AM91,1) -> 1 | AO91: 0.014 | AP91: =IF(AO91<1,"*",IF(AO91>1,((MROUND(AO91,2))*0.01))) -> *
A92: Sugar Free Ice | B92: S/F Tangerine | C92: 89.339 | D92: =MROUND(C92,10) -> 90 | E92: 0.052 | F92: =IF(E92<5,0,(IF(E92>50,MROUND(E92,10),MROUND(E92,5)))) -> 0 | G92: 0.006 | H92: =IF(G92<0.5,0,MROUND(G92,5)) -> 0 | I92: 0 | J92: =IF(I92<0.5,0,MROUND(I92,5)) -> 0 | K92: 0 | L92: =IF(K92<0.5,0,MROUND(K92,5)) -> 0 | M92: 0 | N92: 0 | O92: 26.792 | P92: =MROUND(O92,5) -> 25 | Q92: 30.854 | R92: =(MROUND(Q92,1)) -> 31 | S92: 0 | T92: 0 | U92: 0.061 | V92: 0 | W92: 0 | X92: 0 | Y92: 0.01 | Z92: 0 | AA92: 0 | AB92: =MROUND(AA92,1) -> 0 | AC92: 0 | AD92: =IF(AC92<1,"*",IF(AC92>1,((MROUND(AC92,2))*0.01))) -> * | AE92: 7.235 | AF92: =MROUND(AE92,1) -> 7 | AG92: 0.557 | AH92: =IF(AG92<1,"*",IF(AG92>1,((MROUND(AG92,2))*0.01))) -> * | AI92: 0.03 | AJ92: =MROUND(AI92,1) -> 0 | AK92: 0.167 | AL92: =IF(AK92<1,"*",IF(AK92>1,((MROUND(AK92,2))*0.01))) -> * | AM92: 9.022 | AN92: =MROUND(AM92,1) -> 9 | AO92: 0.192 | AP92: =IF(AO92<1,"*",IF(AO92>1,((MROUND(AO92,2))*0.01))) -> *
A94: * Contains less than 2% of the Daily Value of this (these) nutrient(s)
A96: This nutrition information is based on standard recipes and product formulations; however; variations may occur due to differences in preparation, serving sizes, ingredients, or special orders. Current recommendations are to limit total saturated fat intake to 20 grams per day and to limit sodium intake to less than 2,400 mg per day for a 2,000 calorie-per-day diet. A 2,000 calorie daily diet is used for the basis of general nutrition advice; individual calorie needs however; may vary. ©2015 RITA’S FRANCHISE COMPANY. ALL RIGHTS RESERVED.

Sheet Small
A1: ICE FLAVORS
A2: SMALL PORTION
B3: Flavor | C3: Calories | D3: Calories from Fat | E3: Fat | F3: Saturated Fat | G3: Trans Fat | H3: Cholesterol | I3: Sodium | J3: Total Carbohydrates | K3: Dietary Fiber | L3: Total Sugar | M3: Added Sugar | N3: Protein | O3: Vitamin D | P3: Vitamin D (% DV) | Q3: Calcium | R3: Calcium (%DV) | S3: Iron | T3: Iron (%DV) | U3: Potassium | V3: Potassium (%DV)
A4: Italian | B4: Apple Berry Blue | C4: 250 | D4: 0 | E4: 0 | F4: 0 | G4: 0 | H4: 0 | I4: 45 | J4: 63 | K4: 0 | L4: 60 | M4: 58 | N4: 0 | O4: 1 | P4: 6 | Q4: 9 | R4: 0 | S4: 0 | T4: 0 | U4: 22 | V4: 0
B5: Banana | C5: 290 | D5: 5 | E5: 0.5 | F5: 0.5 | G5: 0 | H5: 0 | I5: 35 | J5: 74 | K5: 0 | L5: 71 | M5: 69 | N5: 0 | O5: 0 | P5: 0 | Q5: 8 | R5: 0 | S5: 0 | T5: 0 | U5: 58 | V5: 2
B6: Birch Beer | C6: 210 | D6: 0 | E6: 0 | F6: 0 | G6: 0 | H6: 0 | I6: 30 | J6: 53 | K6: 0 | L6: 50 | M6: 50 | N6: 0 | O6: 0 | P6: 0 | Q6: 7.96371 | R6: 0 | S6: 0.00944 | T6: 0 | U6: 0 | V6: 0
B7: Blood Orange | C7: 240 | D7: 0 | E7: 0 | F7: 0 | G7: 0 | H7: 0 | I7: 30 | J7: 61 | K7: 0 | L7: 59 | M7: 59 | N7: 0 | O7: 0 | P7: 0 | Q7: 10 | R7: 0 | S7: 0 | T7: 0 | U7: 13 | V7: 0
B8: Blue Raspberry | C8: 320 | D8: 0 | E8: 0 | F8: 0 | G8: 0 | H8: 0 | I8: 35 | J8: 82 | K8: 0 | L8: 79 | M8: 36 | N8: 0 | O8: 1 | P8: 6 | Q8: 6.90753 | R8: 0 | S8: 0.018274 | T8: 0 | U8: 0 | V8: 0
B9: Blueberry | C9: 210 | D9: 0 | E9: 0 | F9: 0 | G9: 0 | H9: 0 | I9: 40 | J9: 75 | K9: 0 | L9: 72 | M9: 34 | N9: 0 | O9: 1 | P9: 6 | Q9: 7.86187 | R9: 0 | S9: 0.048382 | T9: 0 | U9: 0 | V9: 0
B10: Cherry | C10: 220 | D10: 0 | E10: 0 | F10: 0 | G10: 0 | H10: 0 | I10: 35 | J10: 55 | K10: 0 | L10: 52 | M10: 50 | N10: 0 | O10: 0 | P10: 0 | Q10: 13 | R10: 2 | S10: 0 | T10: 0 | U10: 1 | V10: 0
B11: Cherry Lemonade | C11: 240 | D11: 0 | E11: 0 | F11: 0 | G11: 0 | H11: 0 | I11: 40 | J11: 61 | K11: 0 | L11: 57 | M11: 57 | N11: 0 | O11: 0 | P11: 0 | Q11: 10 | R11: 0 | S11: 0 | T11: 0 | U11: 18 | V11: 0
B12: Cherry Limeade | C12: 200 | D12: 0 | E12: 0 | F12: 0 | G12: 0 | H12: 0 | I12: 30 | J12: 52 | K12: 0 | L12: 50 | M12: 49 | N12: 0 | O12: 0 | P12: 0 | Q12: 9.30842 | R12: 0 | S12: 0.056831 | T12: 0 | U12: 15 | V12: 0
B13: Chocolate | C13: 320 | D13: 5 | E13: 0 | F13: 0 | G13: 0 | H13: 0 | I13: 60 | J13: 80 | K13: 0 | L13: 76 | M13: 76 | N13: 1 | O13: 0 | P13: 0 | Q13: 14 | R13: 2 | S13: 1 | T13: 6 | U13: 81 | V13: 2
B14: Chocolate Chocolate Chip | C14: 350 | D14: 25 | E14: 2.5 | F14: 1.5 | G14: 0 | H14: 0 | I14: 60 | J14: 84 | K14: 0 | L14: 79 | M14: 79 | N14: 1 | O14: 0 | P14: 0 | Q14: 16.9893 | R14: 2 | S14: 1.32532 | T14: 8 | U14: 115 | V14: 3
B15: Cotton Candy | C15: 270 | D15: 0 | E15: 0 | F15: 0 | G15: 0 | H15: 0 | I15: 30 | J15: 69 | K15: 0 | L15: 66 | M15: 26 | N15: 0 | O15: 0 | P15: 0 | Q15: 7 | R15: 0 | S15: 0 | T15: 0 | U15: 1 | V15: 0
B16: Dr Pepper | C16: 280 | D16: 0 | E16: 0 | F16: 0 | G16: 0 | H16: 0 | I16: 30 | J16: 74 | K16: 0 | L16: 73 | M16: 28 | N16: 0 | O16: 0 | P16: 0 | Q16: 6 | R16: 0 | S16: 0 | T16: 0 | U16: 1 | V16: 0
... B55: Zombie's Blood | C55: 190 | D55: 0 | E55: 0 | F55: 0 | G55: 0 | H55: 0 | I55: 35 | J55: 51 | K55: 0 | L55: 49 | M55: 49 | N55: 0 | O55: 0 | P55: 0 | Q55: 10 | R55: 0 | S55: 0 | T55: 0 | U55: 11 | V55: 0
A56: All-Natural Ice | B56: All Natural Banana | C56: 270 | D56: 0 | E56: 0 | F56: 0 | G56: 0 | H56: 0 | I56: 15 | J56: 54 | K56: 2 | L56: 52 | M56: 48 | N56: 1 | O56: 0 | P56: 0 | Q56: 22 | R56: 2 | S56: 0 | T56: 0 | U56: 199 | V56: 4
B57: All Natural Cranberry | C57: 220 | D57: 0 | E57: 0 | F57: 0 | G57: 0 | H57: 0 | I57: 10 | J57: 55 | K57: 0 | L57: 52 | M57: 51 | N57: 0 | O57: 0 | P57: 0 | Q57: 12 | R57: 0 | S57: 0 | T57: 0 | U57: 9 | V57: 0
B58: All Natural Cranberry Pineapple | C58: 210 | D58: 0 | E58: 0 | F58: 0 | G58: 0 | H58: 0 | I58: 10 | J58: 55 | K58: 0 | L58: 53 | M58: 51 | N58: 0 | O58: 0 | P58: 0 | Q58: 13 | R58: 2 | S58: 0 | T58: 0 | U58: 21 | V58: 0
B59: All Natural Cranberry Strawberry | C59: 270 | D59: 0 | E59: 0 | F59: 0 | G59: 0 | H59: 0 | I59: 10 | J59: 52 | K59: 2 | L59: 49 | M59: 48 | N59: 1 | O59: 0 | P59: 0 | Q59: 26 | R59: 2 | S59: 0 | T59: 0 | U59: 153 | V59: 4
B60: All Natural Orange | C60: 220 | D60: 0 | E60: 0 | F60: 0 | G60: 0 | H60: 0 | I60: 10 | J60: 55 | K60: 0 | L60: 53 | M60: 49 | N60: 0 | O60: 0 | P60: 0 | Q60: 18 | R60: 2 | S60: 0 | T60: 0 | U60: 91 | V60: 2
B61: All Natural Pineapple | C61: 240 | D61: 0 | E61: 0 | F61: 0 | G61: 0 | H61: 0 | I61: 15 | J61: 58 | K61: 0 | L61: 57 | M61: 51 | N61: 0 | O61: 0 | P61: 0 | Q61: 15 | R61: 2 | S61: 0 | T61: 0 | U61: 53 | V61: 2
B62: All Natural Strawberry | C62: 300 | D62: 0 | E62: 0 | F62: 0 | G62: 0 | H62: 0 | I62: 10 | J62: 47 | K62: 3 | L62: 43 | M62: 43 | N62: 1 | O62: 0 | P62: 0 | Q62: 35 | R62: 2 | S62: 0 | T62: 0 | U62: 272 | V62: 6
B63: All Natural Strawberry Banana | C63: 260 | D63: 0 | E63: 0 | F63: 0 | G63: 0 | H63: 0 | I63: 10 | J63: 48 | K63: 2 | L63: 46 | M63: 44 | N63: 1 | O63: 0 | P63: 0 | Q63: 25 | R63: 2 | S63: 0 | T63: 0 | U63: 183 | V63: 4
B64: All Natural Strawberry Pineapple | C64: 230 | D64: 0 | E64: 0 | F64: 0 | G64: 0 | H64: 0 | I64: 10 | J64: 44 | K64: 2 | L64: 42 | M64: 40 | N64: 1 | O64: 0 | P64: 0 | Q64: 25 | R64: 2 | S64: 0 | T64: 0 | U64: 169 | V64: 4
B65: All-Natural Orange-Pineapple | C65: 230 | D65: 0 | E65: 0 | F65: 0 | G65: 0 | H65: 0 | I65: 10 | J65: 56 | K65: 0 | L65: 55 | M65: 50 | N65: 0 | O65: 0 | P65: 0 | Q65: 17 | R65: 2 | S65: 0 | T65: 0 | U65: 76 | V65: 2
A66: Cream Ice | B66: Birthday Cake | C66: 330 | D66: 35 | E66: 4 | F66: 3.5 | G66: 0 | H66: 0 | I66: 170 | J66: 73 | K66: 0 | L66: 65 | M66: 56 | N66: 1 | O66: 0 | P66: 0 | Q66: 36 | R66: 2 | S66: 0 | T66: 0 | U66: 7 | V66: 0
B67: Banana Split Cream | C67: 330 | D67: 40 | E67: 4.5 | F67: 3.5 | G67: 0 | H67: 0 | I67: 45 | J67: 73 | K67: 0 | L67: 69 | M67: 30 | N67: 1 | O67: 0 | P67: 0 | Q67: 13.8581 | R67: 2 | S67: 0.537027 | T67: 2 | U67: 30 | V67: 1
B68: Black Cherry Cheesecake | C68: 320 | D68: 30 | E68: 3.5 | F68: 3 | G68: 0 | H68: 0 | I68: 70 | J68: 73 | K68: 0 | L68: 64 | M68: 27 | N68: 1 | O68: 0 | P68: 0 | Q68: 9 | R68: 0 | S68: 0 | T68: 0 | U68: 7 | V68: 0
B69: Brookie Dough | C69: 350 | D69: 50 | E69: 6 | F69: 4.5 | G69: 0 | H69: 5 | I69: 120 | J69: 74 | K69: 0 | L69: 65 | M69: 62 | N69: 1 | O69: 0 | P69: 0 | Q69: 16 | R69: 2 | S69: 0 | T69: 0 | U69: 55 | V69: 2
B70: Caramel (dulce) | C70: 360 | D70: 35 | E70: 3.5 | F70: 3 | G70: 0 | H70: 5 | I70: 150 | J70: 81 | K70: 0 | L70: 72 | M70: 57 | N70: 0 | O70: 0 | P70: 0 | Q70: 12 | R70: 0 | S70: 0 | T70: 0 | U70: 29 | V70: 0
B71: Cheesecake | C71: 310 | D71: 30 | E71: 3.5 | F71: 3 | G71: 0 | H71: 0 | I71: 70 | J71: 69 | K71: 0 | L71: 66 | M71: 28 | N71: 1 | O71: 0 | P71: 0 | Q71: 9 | R71: 0 | S71: 0 | T71: 0 | U71: 7 | V71: 0
B72: Chocolate Chip Cheesecake | C72: 340 | D72: 50 | E72: 6 | F72: 4.5 | G72: 0 | H72: 0 | I72: 70 | J72: 73 | K72: 0 | L72: 69 | M72: 32 | N72: 1 | O72: 0 | P72: 0 | Q72: 11.7166 | R72: 2 | S72: 0.823143 | T72: 4 | U72: 45 | V72: 1
B73: Chocolate Covered Banana | C73: 340 | D73: 50 | E73: 5 | F73: 4.5 | G73: 0 | H73: 0 | I73: 75 | J73: 75 | K73: 0 | L73: 70 | M73: 28 | N73: 1 | O73: 0 | P73: 0 | Q73: 22 | R73: 2 | S73: 0 | T73: 0 | U73: 37 | V73: 0
B74: Chocolate Covered Strawberry | C74: 350 | D74: 60 | E74: 6 | F74: 5 | G74: 0 | H74: 0 | I74: 80 | J74: 74 | K74: 0 | L74: 69 | M74: 64 | N74: 1 | O74: 0 | P74: 0 | Q74: 22.8042 | R74: 2 | S74: 0.96233 | T74: 6 | U74: 50 | V74: 1
B75: Coconut Cream | C75: 310 | D75: 35 | E75: 4 | F75: 3.5 | G75: 0 | H75: 0 | I75: 70 | J75: 68 | K75: 0 | L75: 63 | M75: 60 | N75: 0 | O75: 0 | P75: 0 | Q75: 10 | R75: 0 | S75: 0 | T75: 0 | U75: 10 | V75: 0
B76: Cookie Dough | C76: 330 | D76: 45 | E76: 5 | F76: 3.5 | G76: 0 | H76: 0 | I76: 100 | J76: 71 | K76: 0 | L76: 64 | M76: 64 | N76: 1 | O76: 0 | P76: 0 | Q76: 10.548 | R76: 2 | S76: 0.4251 | T76: 2 | U76: 45 | V76: 1
B77: Cookies & Cream | C77: 370 | D77: 35 | E77: 3.5 | F77: 3 | G77: 0 | H77: 0 | I77: 90 | J77: 85 | L77: 80 | M77: 78 | N77: 0 | Q77: 7.91615 | R77: 0 | S77: 0.596859 | T77: 4 | U77: 20 | V77: 1
B78: Fudge Brownie | C78: 420 | D78: 60 | E78: 7 | F78: 5 | G78: 0 | H78: 0 | I78: 180 | J78: 90 | L78: 78 | M78: 35 | N78: 2 | Q78: 18.6146 | R78: 2 | S78: 3.32939 | T78: 20 | U78: 55 | V78: 2
B79: Horchata | C79: 270 | D79: 25 | E79: 3 | F79: 2.5 | G79: 0 | H79: 0 | I79: 70 | J79: 62 | K79: 0 | L79: 58 | M79: 58 | N79: 1 | O79: 0 | P79: 0 | Q79: 9 | R79: 0 | S79: 0 | T79: 0 | U79: 14 | V79: 0
B80: Iced Coffee | C80: 280 | D80: 25 | E80: 3 | F80: 2.5 | G80: 0 | H80: 0 | I80: 170 | J80: 67 | K80: 0 | L80: 63 | M80: 62 | N80: 1 | O80: 0 | P80: 0 | Q80: 12 | R80: 0 | S80: 0 | T80: 0 | U80: 118 | V80: 2
B81: Mint Chocolate Chip | C81: 320 | D81: 50 | E81: 5 | F81: 4 | G81: 0 | H81: 0 | I81: 65 | J81: 71 | K81: 0 | L81: 67 | M81: 67 | N81: 1 | O81: 0 | P81: 0 | Q81: 11.6565 | R81: 2 | S81: 0.881113 | T81: 4 | U81: 55 | V81: 2
B82: Mint Oreo | C82: 310 | D82: 35 | E82: 4 | F82: 3 | G82: 0 | H82: 0 | I82: 90 | J82: 71 | K82: 0 | L82: 66 | M82: 44 | N82: 0 | O82: 0 | P82: 0 | Q82: 8 | R82: 0 | S82: 0 | T82: 0 | U82: 7 | V82: 0
B83: Mocha | C83: 300 | D83: 30 | E83: 3 | F83: 3 | G83: 0 | H83: 0 | I83: 130 | J83: 68 | K83: 1 | L83: 63 | M83: 62 | N83: 1 | O83: 0 | P83: 0 | Q83: 13 | R83: 2 | S83: 0 | T83: 0 | U83: 103 | V83: 2
B84: Peppermint Chip | C84: 320 | D84: 45 | E84: 5 | F84: 4 | G84: 0 | H84: 0 | I84: 70 | J84: 73 | K84: 0 | L84: 69 | M84: 64 | N84: 1 | O84: 0 | P84: 0 | Q84: 13 | R84: 2 | S84: 1 | T84: 6 | U84: 22 | V84: 0
B85: Pumpkin Cheesecake | C85: 270 | D85: 25 | E85: 3 | F85: 3 | G85: 0 | H85: 0 | I85: 40 | J85: 62 | K85: 0 | L85: 58 | M85: 26 | N85: 1 | O85: 0 | P85: 0 | Q85: 12 | R85: 0 | S85: 0 | T85: 0 | U85: 11 | V85: 0
B86: Pumpkin Pie | C86: 250 | D86: 25 | E86: 3 | F86: 2.5 | G86: 0 | H86: 0 | I86: 65 | J86: 57 | K86: 1 | L86: 52 | M86: 51 | N86: 1 | O86: 0 | P86: 0 | Q86: 15 | R86: 2 | S86: 0 | T86: 0 | U86: 29 | V86: 0
B87: Pumpkin Spice Latte | C87: 260 | D87: 30 | E87: 3.5 | F87: 3 | G87: 0 | H87: 0 | I87: 115 | J87: 58 | K87: 0 | L87: 54 | M87: 54 | N87: 1 | O87: 0 | P87: 0 | Q87: 14 | R87: 2 | S87: 0 | T87: 0 | U87: 84 | V87: 2
B88: Reese's Marshmallow Peanut Butter | C88: 400 | D88: 80 | E88: 9 | F88: 3.5 | G88: 0 | H88: 0 | I88: 115 | J88: 79 | K88: 0 | L88: 75 | M88: 74 | N88: 2 | O88: 0 | P88: 0 | Q88: 16 | R88: 2 | S88: 1 | T88: 6 | U88: 21 | V88: 0
B89: Root Beer Float | C89: 270 | D89: 10 | E89: 1.5 | F89: 1.5 | G89: 0 | H89: 0 | I89: 55 | J89: 66 | K89: 0 | L89: 63 | M89: 47 | N89: 0 | O89: 0 | P89: 0 | Q89: 8 | R89: 0 | S89: 0 | T89: 0 | U89: 15 | V89: 0
B90: S'mores | C90: 360 | D90: 40 | E90: 4.5 | F90: 3.5 | G90: 0 | H90: 0 | I90: 70 | J90: 81 | K90: 0 | L90: 77 | M90: 74 | N90: 1 | O90: 0 | P90: 0 | Q90: 11 | R90: 0 | S90: 1 | T90: 6 | U90: 21 | V90: 0
... B94: Watermelon Chip | C94: 340 | D94: 60 | E94: 6 | F94: 5 | G94: 0 | H94: 0 | I94: 95 | J94: 72 | K94: 0 | L94: 67 | M94: 53 | N94: 1 | O94: 0 | P94: 0 | Q94: 12.0284 | R94: 2 | S94: 0.849479 | T94: 4 | U94: 45 | V94: 1
A95: Sugar-Free Ice | B95: S/F Cherry | C95: 120 | D95: 0 | E95: 0 | F95: 0 | G95: 0 | H95: 0 | I95: 25 | J95: 43 | K95: 0 | L95: 0 | M95: 0 | N95: 0 | O95: 0 | P95: 0 | Q95: 13 | R95: 2 | S95: 0 | T95: 0 | U95: 18 | V95: 0
B96: S/F Dragon Fruit | C96: 160 | D96: 0 | E96: 0 | F96: 0 | G96: 0 | H96: 0 | I96: 30 | J96: 57 | K96: 0 | L96: 0 | M96: 0 | N96: 0 | O96: 0 | P96: 0 | Q96: 14 | R96: 2 | S96: 0 | T96: 0 | U96: 33 | V96: 0
B97: S/F Mango Peach | C97: 170 | D97: 0 | E97: 0 | F97: 0 | G97: 0 | H97: 0 | I97: 25 | J97: 43 | K97: 0 | L97: 1 | M97: 0 | N97: 0 | O97: 0 | P97: 0 | Q97: 9 | R97: 0 | S97: 0 | T97: 0 | U97: 0 | V97: 0
B98: S/F Pineapple | C98: 120 | D98: 0 | E98: 0 | F98: 0 | G98: 0 | H98: 0 | I98: 30 | J98: 40 | K98: 0 | L98: 0 | M98: 0 | N98: 0 | O98: 0 | P98: 0 | Q98: 8 | R98: 0 | S98: 0 | T98: 0 | U98: 23 | V98: 0
B99: S/F Root Beer | C99: 120 | D99: 0 | E99: 0 | F99: 0 | G99: 0 | H99: 0 | I99: 35 | J99: 43 | K99: 0 | L99: 0 | M99: 0 | N99: 0 | O99: 0 | P99: 0 | Q99: 8 | R99: 0 | S99: 0 | T99: 0 | U99: 19 | V99: 0
B100: S/F Tangerine | C100: 130 | D100: 0 | E100: 0 | F100: 0 | G100: 0 | H100: 0 | I100: 35 | J100: 43 | K100: 0 | L100: 0 | M100: 0 | N100: 0 | O100: 0 | P100: 0 | Q100: 8 | R100: 0 | S100: 0 | T100: 0 | U100: 24 | V100: 0
B102: This nutrition information is based on standard recipes and product formulations; however; variations may occur due to differences in preparation, serving sizes, ingredients, or special orders. Current recommendations are to limit total saturated fat intake to 20 grams per day and to limit sodium intake to less than 2,400 mg per day for a 2,000 calorie-per-day diet. A 2,000 calorie daily diet is used for the basis of general nutrition advice; individual calorie needs however; may vary. ©2015 RITA’S FRANCHISE COMPANY. ALL RIGHTS RESERVED.
B104: Average Italian Ice | C104: =AVERAGE(C4:C55) -> 262.30769 | D104: =AVERAGE(D4:D55) -> 3.5576923 | E104: =AVERAGE(E4:E55) -> 0.38461538 | F104: =AVERAGE(F4:F55) -> 0.10576923 | G104: =AVERAGE(G4:G55) -> 0 | H104: =AVERAGE(H4:H55) -> 0 | I104: =AVERAGE(I4:I55) -> 45.192308 | J104: =AVERAGE(J4:J55) -> 66.423077 | ... V104: =AVERAGE(V4:V55) -> 0.26923077
B105: Range Italian Ice | C105: =ROUND(MIN(C4:C55),0) & " - " & ROUND(MAX(C4:C55),0) -> 180 - 380 | D105: =ROUND(MIN(D4:D55),0) & " - " & ROUND(MAX(D4:D55),0) -> 0 - 80 | E105: =ROUND(MIN(E4:E55),0) & " - " & ROUND(MAX(E4:E55),0) -> 0 - 9 | F105: =ROUND(MIN(F4:F55),0) & " - " & ROUND(MAX(F4:F55),0) -> 0 - 2 | G105: =ROUND(MIN(G4:G55),0) & " - " & ROUND(MAX(G4:G55),0) -> 0 - 0 | H105: =ROUND(MIN(H4:H55),0) & " - " & ROUND(MAX(H4:H55),0) -> 0 - 0 | I105: =ROUND(MIN(I4:I55),0) & " - " & ROUND(MAX(I4:I55),0) -> 15 - 150 | J105: =ROUND(MIN(J4:J55),0) & " - " & ROUND(MAX(J4:J55),0) -> 45 - 91 | ... V105: =ROUND(MIN(V4:V55),0) & " - " & ROUND(MAX(V4:V55),0) -> 0 - 3
B106: Average All-Natural Ice | C106: =AVERAGE(C56:C65) -> 245 | D106: =AVERAGE(D56:D65) -> 0 | E106: =AVERAGE(E56:E65) -> 0 | F106: =AVERAGE(F56:F65) -> 0 | G106: =AVERAGE(G56:G65) -> 0 | H106: =AVERAGE(H56:H65) -> 0 | I106: =AVERAGE(I56:I65) -> 11 | J106: =AVERAGE(J56:J65) -> 52.4 | ... V106: =AVERAGE(V56:V65) -> 2.8
B107: Range All-Natural Ice | C107: =ROUND( MIN(C56:C65),0) & " - " & ROUND(MAX(C56:C65),0) -> 210 - 300 | D107: =ROUND( MIN(D56:D65),0) & " - " & ROUND(MAX(D56:D65),0) -> 0 - 0 | E107: =ROUND( MIN(E56:E65),0) & " - " & ROUND(MAX(E56:E65),0) -> 0 - 0 | F107: =ROUND( MIN(F56:F65),0) & " - " & ROUND(MAX(F56:F65),0) -> 0 - 0 | G107: =ROUND( MIN(G56:G65),0) & " - " & ROUND(MAX(G56:G65),0) -> 0 - 0 | H107: =ROUND( MIN(H56:H65),0) & " - " & ROUND(MAX(H56:H65),0) -> 0 - 0 | I107: =ROUND( MIN(I56:I65),0) & " - " & ROUND(MAX(I56:I65),0) -> 10 - 15 | J107: =ROUND( MIN(J56:J65),0) & " - " & ROUND(MAX(J56:J65),0) -> 44 - 58 | ... V107: =ROUND( MIN(V56:V65),0) & " - " & ROUND(MAX(V56:V65),0) -> 0 - 6
B108: Average Cream Ice | C108: =AVERAGE(C66:C94) -> 321.72414 | D108: =AVERAGE(D66:D94) -> 38.62069 | E108: =AVERAGE(E66:E94) -> 4.3103448 | F108: =AVERAGE(F66:F94) -> 3.4137931 | G108: =AVERAGE(G66:G94) -> 0 | H108: =AVERAGE(H66:H94) -> 0.34482759 | I108: =AVERAGE(I66:I94) -> 91.37931 | J108: =AVERAGE(J66:J94) -> 71.655172 | ... V108: =AVERAGE(V66:V94) -> 0.62068966
B109: Range Cream Ice | C109: =ROUND( MIN(C66:C94),0) & " - " & ROUND(MAX(C66:C94),0) -> 250 - 420 | D109: =ROUND( MIN(D66:D94),0) & " - " & ROUND(MAX(D66:D94),0) -> 10 - 80 | E109: =ROUND( MIN(E66:E94),0) & " - " & ROUND(MAX(E66:E94),0) -> 2 - 9 | F109: =ROUND( MIN(F66:F94),0) & " - " & ROUND(MAX(F66:F94),0) -> 2 - 5 | G109: =ROUND( MIN(G66:G94),0) & " - " & ROUND(MAX(G66:G94),0) -> 0 - 0 | H109: =ROUND( MIN(H66:H94),0) & " - " & ROUND(MAX(H66:H94),0) -> 0 - 5 | I109: =ROUND( MIN(I66:I94),0) & " - " & ROUND(MAX(I66:I94),0) -> 40 - 180 | J109: =ROUND( MIN(J66:J94),0) & " - " & ROUND(MAX(J66:J94),0) -> 57 - 90 | ... V109: =ROUND( MIN(V66:V94),0) & " - " & ROUND(MAX(V66:V94),0) -> 0 - 2
B110: Average Sugar-Free Ice | C110: =AVERAGE(C95:C100) -> 136.66667 | D110: =AVERAGE(D95:D100) -> 0 | E110: =AVERAGE(E95:E100) -> 0 | F110: =AVERAGE(F95:F100) -> 0 | G110: =AVERAGE(G95:G100) -> 0 | H110: =AVERAGE(H95:H100) -> 0 | I110: =AVERAGE(I95:I100) -> 30 | J110: =AVERAGE(J95:J100) -> 44.833333 | ... V110: =AVERAGE(V95:V100) -> 0
B111: Range Sugar-Free Ice | C111: =ROUND( MIN(C95:C100),0) & " - " &ROUND( MAX(C95:C100),0) -> 120 - 170 | D111: =ROUND( MIN(D95:D100),0) & " - " &ROUND( MAX(D95:D100),0) -> 0 - 0 | E111: =ROUND( MIN(E95:E100),0) & " - " &ROUND( MAX(E95:E100),0) -> 0 - 0 | F111: =ROUND( MIN(F95:F100),0) & " - " &ROUND( MAX(F95:F100),0) -> 0 - 0 | G111: =ROUND( MIN(G95:G100),0) & " - " &ROUND( MAX(G95:G100),0) -> 0 - 0 | H111: =ROUND( MIN(H95:H100),0) & " - " &ROUND( MAX(H95:H100),0) -> 0 - 0 | I111: =ROUND( MIN(I95:I100),0) & " - " &ROUND( MAX(I95:I100),0) -> 25 - 35 | J111: =ROUND( MIN(J95:J100),0) & " - " &ROUND( MAX(J95:J100),0) -> 40 - 57 | ... V111: =ROUND( MIN(V95:V100),0) & " - " &ROUND( MAX(V95:V100),0) -> 0 - 0

Sheet Large
B3: Flavor | C3: Calories | D3: Calories | E3: Calories from Fat | F3: Calories from Fat | G3: Fat | H3: Fat | I3: Saturated Fat | J3: Saturated Fat | K3: Trans Fat | L3: Trans Fat | M3: Cholesterol | N3: Cholesterol | O3: Sodium | P3: Sodium | Q3: Total Carbohydrates | R3: Total Carbohydrates | S3: Dietary Fiber | T3: Dietary Fiber | U3: Total Sugar | V3: Total Sugar | W3: Added Sugar | X3: Added Sugar | Y3: Protein | Z3: Protein | AA3: Vitamin D | AB3: Vitamin D (% DV) | AC3: Calcium | AD3: Calcium (%DV) | AE3: Iron | AF3: Iron (%DV) | AG3: Potassium | AH3: Potassium (%DV)
A4: Italian Ice | B4: Passionfruit Paloma | C4: 453.556 | D4: =MROUND(C4,10) -> 450 | E4: 0 | F4: 0 | G4: 0 | H4: 0 | I4: 0 | J4: 0 | K4: 0 | L4: 0 | M4: 0 | N4: =MROUND(M4,5) -> 0 | O4: 50.573 | P4: =MROUND(O4,5) -> 50 | Q4: 114.974 | R4: =MROUND(Q4,1) -> 115 | S4: 0 | T4: 0 | U4: 110.347 | V4: =MROUND(U4,1) -> 110 | W4: 110.347 | X4: =MROUND(W4,1) -> 110 | Y4: 0 | Z4: 0 | AA4: 0 | AB4: 0 | AC4: 11.479 | AD4: 0.883 | AE4: 0.026 | AF4: 0.145 | AG4: 1.096 | AH4: 0.023
A5: Italian Ice | B5: Dr Pepper | C5: 219.317 | D5: =MROUND(C5,10) -> 220 | E5: 0 | F5: 0 | G5: 0 | H5: 0 | I5: 0 | J5: 0 | K5: 0 | L5: 0 | M5: 0 | N5: 0 | O5: 57.744 | P5: =MROUND(O5,5) -> 60 | Q5: 57.23 | R5: =MROUND(Q5,1) -> 57 | S5: 0 | T5: 0 | U5: 55.533 | V5: =MROUND(U5,1) -> 56 | W5: 42.033 | X5: =MROUND(W5,1) -> 42 | Y5: 0 | Z5: 0 | AA5: 0 | AB5: 0 | AC5: 10.979 | AD5: 0.845 | AE5: 0.02 | AF5: 0.111 | AG5: 0.842 | AH5: 0.018
A6: Italian Ice | B6: Skittles | C6: 351.568 | D6: =MROUND(C6,10) -> 350 | E6: 0 | F6: 0 | G6: 0 | H6: 0 | I6: 0 | J6: 0 | K6: 0 | L6: 0 | M6: 0 | N6: 0 | O6: 51.318 | P6: =MROUND(O6,5) -> 50 | Q6: 88.748 | R6: =MROUND(Q6,1) -> 89 | S6: 0 | T6: 0 | U6: 85.252 | V6: =MROUND(U6,1) -> 85 | W6: 85.252 | X6: =MROUND(W6,1) -> 85 | Y6: 0 | Z6: 0 | AA6: 0 | AB6: 0 | AC6: 12.115 | AD6: 0.932 | AE6: 0.015 | AF6: 0.085 | AG6: 0.645 | AH6: 0.014
A7: Italian Ice | B7: Apple Berry Blue | C7: 402.985 | D7: =MROUND(C7,10) -> 400 | E7: 0 | F7: 0 | G7: 0 | H7: 0 | I7: 0 | J7: 0 | K7: 0 | L7: 0 | M7: 0 | N7: 0 | O7: 64.91 | P7: =MROUND(O7,5) -> 65 | Q7: 102.013 | R7: =MROUND(Q7,1) -> 102 | S7: 0.034 | T7: 0 | U7: 98.875 | V7: =MROUND(U7,1) -> 99 | W7: 95.635 | X7: =MROUND(W7,1) -> 96 | Y7: 0 | Z7: 0 | AA7: 0 | AB7: 0 | AC7: 13.243 | AD7: 1.019 | AE7: 0.055 | AF7: 0.304 | AG7: 1.125 | AH7: 0.024
A8: Italian Ice | B8: Vanilla | C8: 401.145 | D8: =MROUND(C8,10) -> 400 | E8: 0 | F8: 0 | G8: 0 | H8: 0 | I8: 0 | J8: 0 | K8: 0 | L8: 0 | M8: 0 | N8: 0 | O8: 66.588 | P8: =MROUND(O8,5) -> 65 | Q8: 101.097 | R8: =MROUND(Q8,1) -> 101 | S8: 0.064 | T8: 0 | U8: 97.996 | V8: =MROUND(U8,1) -> 98 | W8: 97.876 | X8: =MROUND(W8,1) -> 98 | Y8: 0 | Z8: 0 | AA8: 0 | AB8: 0 | AC8: 13.507 | AD8: 1.039 | AE8: 0.91 | AF8: 0.508 | AG8: 30.597 | AH8: 0.651
A9: Italian Ice | B9: Green Apple | C9: 427.711 | D9: =MROUND(C9,10) -> 430 | E9: 0 | F9: 0 | G9: 0 | H9: 0 | I9: 0 | J9: 0 | K9: 0 | L9: 0 | M9: 0 | N9: 0 | O9: 64.775 | P9: =MROUND(O9,5) -> 65 | Q9: 108.453 | R9: =MROUND(Q9,1) -> 108 | S9: 0.024 | T9: 0 | U9: 105.18 | V9: =MROUND(U9,1) -> 105 | W9: 99.019 | X9: =MROUND(W9,1) -> 99 | Y9: 0 | Z9: 0 | AA9: 0 | AB9: 0 | AC9: 11.557 | AD9: 0.889 | AE9: 0.026 | AF9: 0.146 | AG9: 1.103 | AH9: 0.023
A10: Italian Ice | B10: NERDS Grape | C10: 418.378 | D10: =MROUND(C10,10) -> 420 | E10: 0 | F10: 0 | G10: 0 | H10: 0 | I10: 0 | J10: 0 | K10: 0 | L10: 0 | M10: 0 | N10: 0 | O10: 51.1 | P10: =MROUND(O10,5) -> 50 | Q10: 103.934 | R10: =MROUND(Q10,1) -> 104 | S10: 0 | T10: 0 | U10: 101.263 | V10: =MROUND(U10,1) -> 101 | W10: 101.263 | X10: =MROUND(W10,1) -> 101 | Y10: 0 | Z10: 0 | AA10: 0 | AB10: 0 | AC10: 11.662 | AD10: 0.897 | AE10: 0.022 | AF10: 0.121 | AG10: 0.914 | AH10: 0.019
A11: Cream Ice | B11: Root Beer Float | C11: 412.907 | D11: =MROUND(C11,10) -> 410 | E11: 0 | F11: 0 | G11: 2.262 | H11: =MROUND(G11,0.5) -> 2.5 | I11: 0 | J11: 0 | K11: 0 | L11: 0 | M11: 0 | N11: 0 | O11: 64.23 | P11: =MROUND(O11,5) -> 65 | Q11: 104.326 | R11: =MROUND(Q11,1) -> 104 | S11: 0.033 | T11: 0 | U11: 101.34 | V11: =MROUND(U11,1) -> 101 | W11: 101.34 | X11: =MROUND(W11,1) -> 101 | Y11: 0 | Z11: 0 | AA11: 0 | AB11: 0 | AC11: 14.896 | AD11: 1.146 | AE11: 0.094 | AF11: 0.524 | AG11: 32.359 | AH11: 0.688
A12: Italian Ice | B12: Root Beer | C12: 412.907 | D12: =MROUND(C12,10) -> 410 | E12: 0 | F12: 0 | G12: 0 | H12: 0 | I12: 0 | J12: 0 | K12: 0 | L12: 0 | M12: 0 | N12: 0 | O12: 64.23 | P12: =MROUND(O12,5) -> 65 | Q12: 104.326 | R12: =MROUND(Q12,1) -> 104 | S12: 0.033 | T12: 0 | U12: 101.34 | V12: =MROUND(U12,1) -> 101 | W12: 101.34 | X12: =MROUND(W12,1) -> 101 | Y12: 0 | Z12: 0 | AA12: 0 | AB12: 0 | AC12: 14.896 | AD12: 1.146 | AE12: 0.094 | AF12: 0.524 | AG12: 32.359 | AH12: 0.688
A13: Italian Ice | B13: KOOL-AID Tropical Punch | C13: 411.996 | D13: =MROUND(C13,10) -> 410 | E13: 0 | F13: 0 | G13: 0 | H13: 0 | I13: 0 | J13: 0 | K13: 0 | L13: 0 | M13: 0 | N13: 0 | O13: 50.634 | P13: =MROUND(O13,5) -> 50 | Q13: 102.348 | R13: =MROUND(Q13,1) -> 102 | S13: 0 | T13: 0 | U13: 101.64 | V13: =MROUND(U13,1) -> 102 | W13: 101.64 | X13: =MROUND(W13,1) -> 102 | Y13: 0 | Z13: 0 | AA13: 0 | AB13: 0 | AC13: 11.721 | AD13: 0.902 | AE13: 0.021 | AF13: 0.119 | AG13: 7.628 | AH13: 0.162
A14: Italian Ice | B14: Carnival | C14: 417.58 | D14: =MROUND(C14,10) -> 420 | E14: 0 | F14: 0 | G14: 0 | H14: 0 | I14: 0 | J14: 0 | K14: 0 | L14: 0 | M14: 0 | N14: 0 | O14: 47.39 | P14: =MROUND(O14,5) -> 45 | Q14: 105.559 | R14: =MROUND(Q14,1) -> 106 | S14: 0 | T14: 0 | U14: 102.183 | V14: =MROUND(U14,1) -> 102 | W14: 102.183 | X14: =MROUND(W14,1) -> 102 | Y14: 0 | Z14: 0 | AA14: 0 | AB14: 0 | AC14: 12.006 | AD14: 0.924 | AE14: 0.02 | AF14: 0.111 | AG14: 1.692 | AH14: 0.036
A15: Italian Ice | B15: KOOL-AID Sharkleberry Fin | C15: 518.787 | D15: =MROUND(C15,10) -> 520 | E15: 0 | F15: 0 | G15: 0 | H15: 0 | I15: 0 | J15: 0 | K15: 0 | L15: 0 | M15: 0 | N15: 0 | O15: 49.516 | P15: =MROUND(O15,5) -> 50 | Q15: 111.133 | R15: =MROUND(Q15,1) -> 111 | S15: 0 | T15: 0 | U15: 106.659 | V15: =MROUND(U15,1) -> 107 | W15: 106.659 | X15: =MROUND(W15,1) -> 107 | Y15: 0 | Z15: 0 | AA15: 0 | AB15: 0 | AC15: 11.612 | AD15: 0.893 | AE15: 0.025 | AF15: 0.14 | AG15: 10.517 | AH15: 0.224
A16: Italian Ice | B16: Cotton Candy | C16: 436.677 | D16: =MROUND(C16,10) -> 440 | E16: 0 | F16: 0 | G16: 0 | H16: 0 | I16: 0 | J16: 0 | K16: 0 | L16: 0 | M16: 0 | N16: 0 | O16: 47.299 | P16: =MROUND(O16,5) -> 45 | Q16: 110.348 | R16: =MROUND(Q16,1) -> 110 | S16: 0 | T16: 0 | U16: 106.893 | V16: =MROUND(U16,1) -> 107 | W16: 106.893 | X16: =MROUND(W16,1) -> 107 | Y16: 0 | Z16: 0 | AA16: 0 | AB16: 0 | AC16: 12.088 | AD16: 0.93 | AE16: 0.02 | AF16: 0.112 | AG16: 2.342 | AH16: 0.05
A17: Italian Ice | B17: Sour Patch Kids Red | C17: 452.75 | D17: =MROUND(C17,10) -> 450 | E17: 0 | F17: 0 | G17: 0 | H17: 0 | I17: 0 | J17: 0 | K17: 0 | L17: 0 | M17: 0 | N17: 0 | O17: 64.773 | P17: =MROUND(O17,5) -> 65 | Q17: 114.415 | R17: =MROUND(Q17,1) -> 114 | S17: 0 | T17: 0 | U17: 107.699 | V17: =MROUND(U17,1) -> 108 | W17: 107.669 | X17: =MROUND(W17,1) -> 108 | Y17: 0 | Z17: 0 | AA17: 0 | AB17: 0 | AC17: 11.681 | AD17: 0.899 | AE17: 0.036 | AF17: 0.199 | AG17: 1.475 | AH17: 0.031
A18: Italian Ice | B18: Banana | C18: 479.868 | D18: 480 | E18: 0 | F18: 0 | G18: 0 | H18: 0 | I18: 0 | J18: 0 | K18: 0 | L18: 0 | M18: 0 | N18: 0 | O18: 55 | P18: =MROUND(O18,5) -> 55 | Q18: 120 | R18: =MROUND(Q18,1) -> 120 | S18: 0 | T18: 0 | U18: 120 | V18: =MROUND(U18,1) -> 120 | W18: 110 | X18: =MROUND(W18,1) -> 110 | Y18: 0 | Z18: 0 | AA18: 0 | AB18: 0 | AC18: 10 | AD18: 0 | AE18: 0 | AF18: 0 | AG18: 90 | AH18: 0
A19: Italian Ice | B19: Blue Raspberry | C19: 455.184 | D19: =MROUND(C19,10) -> 460 | E19: 0 | F19: 0 | G19: 0 | H19: 0 | I19: 0 | J19: 0 | K19: 0 | L19: 0 | M19: 0 | N19: 0 | O19: 62.779 | P19: =MROUND(O19,5) -> 65 | Q19: 115.444 | R19: =MROUND(Q19,1) -> 115 | S19: 0.046 | T19: 0 | U19: 112.506 | V19: =MROUND(U19,1) -> 113 | W19: 112.506 | X19: =MROUND(W19,1) -> 113 | Y19: 0 | Z19: 0 | AA19: 0 | AB19: 0 | AC19: 14.71 | AD19: 1.132 | AE19: 0.096 | AF19: 0.535 | AG19: 1.559 | AH19: 0.033
A20: Italian Ice | B20: Unicorn | C20: 417.616 | D20: =MROUND(C20,10) -> 420 | E20: 0 | F20: 0 | G20: 0 | H20: 0 | I20: 0 | J20: 0 | K20: 0 | L20: 0 | M20: 0 | N20: 0 | O20: 188.421 | P20: =MROUND(O20,10) -> 190 | Q20: 106.847 | R20: =MROUND(Q20,1) -> 107 | S20: 0.038 | T20: 0 | U20: 97.223 | V20: =MROUND(U20,1) -> 97 | W20: 97.223 | X20: =MROUND(W20,1) -> 97 | Y20: 0.006 | Z20: 0 | AA20: 0 | AB20: 0 | AC20: 14.495 | AD20: 1.115 | AE20: 0.98 | AF20: 5.446 | AG20: 37.349 | AH20: 0.795
A21: Italian Ice | B21: Sour Patch Kids Watermelon | C21: 444.346 | D21: =MROUND(C21,10) -> 440 | E21: 0 | F21: 0 | G21: 0 | H21: 0 | I21: 0 | J21: 0 | K21: 0 | L21: 0 | M21: 0 | N21: 0 | O21: 49.647 | P21: =MROUND(O21,5) -> 50 | Q21: 110.901 | R21: =MROUND(Q21,1) -> 111 | S21: 0.073 | T21: 0 | U21: 104.559 | V21: =MROUND(U21,1) -> 105 | W21: 107.676 | X21: =MROUND(W21,1) -> 108 | Y21: 0.009 | Z21: 0 | AA21: 0 | AB21: 0 | AC21: 11.774 | AD21: 0.906 | AE21: 0.026 | AF21: 0.146 | AG21: 1.826 | AH21: 0.039
A22: Italian Ice | B22: Juicy Pear | C22: 399.654 | D22: =MROUND(C22,10) -> 400 | E22: 0 | F22: 0 | G22: 0 | H22: 0 | I22: 0 | J22: 0 | K22: 0 | L22: 0 | M22: 0 | N22: 0 | O22: 48.556 | P22: =MROUND(O22,5) -> 50 | Q22: 100.726 | R22: =MROUND(Q22,1) -> 101 | S22: 0 | T22: 0 | U22: 96.66 | V22: =MROUND(U22,1) -> 97 | W22: 96.28 | X22: =MROUND(W22,1) -> 96 | Y22: 0.01 | Z22: 0 | AA22: 0 | AB22: 0 | AC22: 12.364 | AD22: 0.951 | AE22: 0.04 | AF22: 0.22 | AG22: 14.323 | AH22: 0.305
A23: Sugar Free Ice | B23: S/F Tangerine | C23: 199.378 | D23: =MROUND(C23,10) -> 200 | E23: 0.117 | F23: 0 | G23: 0.013 | H23: 0 | I23: 0 | J23: 0 | K23: 0 | L23: 0 | M23: 0 | N23: 0 | O23: 59.792 | P23: =MROUND(O23,5) -> 60 | Q23: 68.858 | R23: =MROUND(Q23,1) -> 69 | S23: 0 | T23: 0 | U23: 0.137 | V23: 0 | W23: 0 | X23: 0 | Y23: 0.022 | Z23: 0 | AA23: 0 | AB23: 0 | AC23: 13.361 | AD23: 1.028 | AE23: 0.088 | AF23: 0.488 | AG23: 38.362 | AH23: 0.816
A24: Sugar Free Ice | B24: S/F Mango Peach | C24: 191.016 | D24: =MROUND(C24,10) -> 190 | E24: 0 | F24: 0 | G24: 0.018 | H24: 0 | I24: 0.013 | J24: 0 | K24: 0 | L24: 0 | M24: 0 | N24: 0 | O24: 47.528 | P24: =MROUND(O24,5) -> 50 | Q24: 66.519 | R24: =MROUND(Q24,1) -> 67 | S24: 0.013 | T24: 0 | U24: 0.198 | V24: 0 | W24: 0 | X24: 0 | Y24: 0.024 | Z24: 0 | AA24: 0 | AB24: 0 | AC24: 12.939 | AD24: 0.995 | AE24: 0.116 | AF24: 0.643 | AG24: 31.042 | AH24: 0.66
A25: Italian Ice | B25: Clementine | C25: 359.182 | D25: =MROUND(C25,10) -> 360 | E25: 0.063 | F25: 0 | G25: 0.007 | H25: 0 | I25: 0.001 | J25: 0 | K25: 0 | L25: 0 | M25: 0 | N25: 0 | O25: 50.28 | P25: =MROUND(O25,5) -> 50 | Q25: 90.803 | R25: =MROUND(Q25,1) -> 91 | S25: 0.106 | T25: 0 | U25: 86.428 | V25: =MROUND(U25,1) -> 86 | W25: 86.211 | X25: =MROUND(W25,1) -> 86 | Y25: 0.031 | Z25: 0 | AA25: 0 | AB25: 0 | AC25: 13.744 | AD25: 1.057 | AE25: 0.036 | AF25: 0.202 | AG25: 5.344 | AH25: 0.114
A26: Italian Ice | B26: Mango- Orange | C26: 439.275 | D26: =MROUND(C26,10) -> 440 | E26: 0.137 | F26: 0 | G26: 0.015 | H26: 0 | I26: 0.004 | J26: 0 | K26: 0.015 | L26: 0 | M26: 0 | N26: 0 | O26: 66.277 | P26: =MROUND(O26,5) -> 65 | Q26: 11.57 | R26: =MROUND(Q26,1) -> 12 | S26: 0.103 | T26: 0 | U26: 104.332 | V26: =MROUND(U26,1) -> 104 | W26: 101.898 | X26: =MROUND(W26,1) -> 102 | Y26: 0.034 | Z26: 0 | AA26: 0 | AB26: 0 | AC26: 13.169 | AD26: 1.013 | AE26: 0.082 | AF26: 0.456 | AG26: 16.665 | AH26: 0.355
A27: Italian Ice | B27: Blueberry | C27: 456.895 | D27: =MROUND(C27,10) -> 460 | E27: 0.539 | F27: 0 | G27: 0.06 | H27: 0 | I27: 0.005 | J27: 0 | K27: 0 | L27: 0 | M27: 0 | N27: 0 | O27: 63.398 | P27: =MROUND(O27,5) -> 65 | Q27: 115.75 | R27: =MROUND(Q27,1) -> 116 | S27: 0.3 | T27: 0 | U27: 112.413 | V27: =MROUND(U27,1) -> 112 | W27: 11.622 | X27: =MROUND(W27,1) -> 12 | Y27: 0.039 | Z27: 0 | AA27: 0 | AB27: 0 | AC27: 15.223 | AD27: 1.171 | AE27: 0.114 | AF27: 0.631 | AG27: 6.584 | AH27: 0.14
A28: Sugar Free Ice | B28: S/F Dragon Fruit | C28: 197.075 | D28: =MROUND(C28,10) -> 200 | E28: 0 | F28: 0 | G28: 0.013 | H28: 0 | I28: 0.013 | J28: 0 | K28: 0 | L28: 0 | M28: 0 | N28: 0 | O28: 42.215 | P28: =MROUND(O28,5) -> 40 | Q28: 68.979 | R28: =MROUND(Q28,1) -> 69 | S28: 0.013 | T28: 0 | U28: 0.139 | V28: 0 | W28: 0 | X28: 0 | Y28: 0.041 | Z28: 0 | AA28: 0 | AB28: 0 | AC28: 20.957 | AD28: 1.612 | AE28: 0.088 | AF28: 0.489 | AG28: 39.251 | AH28: 0.835
A29: Sugar Free Ice | B29: S/F Pink Lemonade | C29: 259.407 | D29: =MROUND(C29,10) -> 260 | E29: 0 | F29: 0 | G29: 0 | H29: 0 | I29: 0 | J29: 0 | K29: 0 | L29: 0 | M29: 0 | N29: 0 | O29: 40.301 | P29: =MROUND(O29,5) -> 40 | Q29: 67.865 | R29: =MROUND(Q29,1) -> 68 | S29: 0.46 | T29: 0 | U29: 0 | V29: 0 | W29: 0 | X29: 0 | Y29: 0.045 | Z29: 0 | AA29: 0 | AB29: 0 | AC29: 14.288 | AD29: 1.099 | AE29: 0.059 | AF29: 0.33 | AG29: 8.624 | AH29: 0.183
A30: Italian Ice | B30: Cherry | C30: 351.663 | D30: =MROUND(C30,10) -> 350 | E30: 0 | F30: 0 | G30: 0.031 | H30: 0 | I30: 0 | J30: 0 | K30: 0 | L30: 0 | M30: 0 | N30: 0 | O30: 60.269 | P30: =MROUND(O30,5) -> 60 | Q30: 90.457 | R30: =MROUND(Q30,1) -> 90 | S30: 0.18 | T30: 0 | U30: 85.055 | V30: =MROUND(U30,1) -> 85 | W30: 82.22 | X30: =MROUND(W30,1) -> 82 | Y30: 0.046 | Z30: 0 | AA30: 0 | AB30: 0 | AC30: 21.323 | AD30: 1.64 | AE30: 0.047 | AF30: 0.259 | AG30: 1.854 | AH30: 0.039
A31: Italian Ice | B31: Cherry Limeade | C31: 426.401 | D31: =MROUND(C31,10) -> 430 | E31: 0.079 | F31: 0 | G31: 0.009 | H31: 0 | I31: 0.001 | J31: 0 | K31: 0 | L31: 0 | M31: 0 | N31: 0 | O31: 87.143 | P31: =MROUND(O31,5) -> 85 | Q31: 108.965 | R31: =MROUND(Q31,1) -> 109 | S31: 0.196 | T31: 0 | U31: 103.633 | V31: =MROUND(U31,1) -> 104 | W31: 103.559 | X31: =MROUND(W31,1) -> 104 | Y31: 0.052 | Z31: 0 | AA31: 0 | AB31: 0 | AC31: 13.835 | AD31: 1.064 | AE31: 0.059 | AF31: 0.33 | AG31: 5.809 | AH31: 0.124
A32: Sugar Free Ice | B32: S/F Mango Dragonfruit | C32: 136.288 | D32: =MROUND(C32,10) -> 140 | E32: 0 | F32: 0 | G32: 0.009 | H32: 0 | I32: 0.006 | J32: 0 | K32: 0 | L32: 0 | M32: 0 | N32: 0 | O32: 34.712 | P32: =MROUND(O32,5) -> 35 | Q32: 44.017 | R32: =MROUND(Q32,1) -> 44 | S32: 0.105 | T32: 0 | U32: 0.231 | V32: 0 | W32: 0 | X32: 0 | Y32: 0.06 | Z32: 0 | AA32: 0 | AB32: 0 | AC32: 18.161 | AD32: 1.397 | AE32: 0.047 | AF32: 0.259 | AG32: 19.661 | AH32: 0.418
A33: Italian Ice | B33: Mango | C33: 440.561 | D33: =MROUND(C33,10) -> 440 | E33: 0.273 | F33: 0 | G33: 0.03 | H33: 0 | I33: 0.008 | J33: 0 | K33: 0.03 | L33: 0 | M33: 0 | N33: 0 | O33: 66.329 | P33: =MROUND(O33,5) -> 65 | Q33: 112.033 | R33: =MROUND(Q33,1) -> 112 | S33: 0.204 | T33: 0 | U33: 106.909 | V33: =MROUND(U33,1) -> 107 | W33: 105.268 | X33: =MROUND(W33,1) -> 105 | Y33: 0.062 | Z33: 0 | AA33: 0 | AB33: 0 | AC33: 14.755 | AD33: 1.135 | AE33: 0.137 | AF33: 0.763 | AG33: 32.109 | AH33: 0.683
A34: Italian Ice | B34: Rocket Pop | C34: 370.492 | D34: =MROUND(C34,10) -> 370 | E34: 0.221 | F34: 0 | G34: 0.025 | H34: 0 | I34: 0 | J34: 0 | K34: 0 | L34: 0 | M34: 0 | N34: 0 | O34: 58.084 | P34: =MROUND(O34,5) -> 60 | Q34: 94.624 | R34: =MROUND(Q34,1) -> 95 | S34: 0.048 | T34: 0 | U34: 90.829 | V34: =MROUND(U34,1) -> 91 | W34: 90.575 | X34: =MROUND(W34,1) -> 91 | Y34: 0.064 | Z34: 0 | AA34: 0 | AB34: 0 | AC34: 15.4 | AD34: 1.185 | AE34: 0.068 | AF34: 0.376 | AG34: 18.319 | AH34: 0.39
A35: Italian Ice | B35: Mango- Pineapple | C35: 442.802 | D35: =MROUND(C35,10) -> 440 | E35: 0.013 | F35: 0 | G35: 0.013 | H35: 0 | I35: 0.003 | J35: 0 | K35: 0.013 | L35: 0 | M35: 0 | N35: 0 | O35: 63.435 | P35: =MROUND(O35,5) -> 65 | Q35: 111.683 | R35: =MROUND(Q35,1) -> 112 | S35: 0.143 | T35: 0 | U35: 107.561 | V35: =MROUND(U35,1) -> 108 | W35: 105.929 | X35: =MROUND(W35,1) -> 106 | Y35: 0.065 | Z35: 0 | AA35: 0 | AB35: 0 | AC35: 14.451 | AD35: 1.112 | AE35: 0.341 | AF35: 1.896 | AG35: 26.285 | AH35: 0.559
A36: Italian Ice | B36: Pina Colada | C36: 432.653 | D36: =MROUND(C36,10) -> 430 | E36: 9.611 | F36: =MROUND(E36,5) -> 10 | G36: 1.068 | H36: =MROUND(G36,0.5) -> 1 | I36: 0 | J36: 0 | K36: 0 | L36: 0 | M36: 0 | N36: 0 | O36: 63.774 | P36: =MROUND(O36,5) -> 65 | Q36: 109.686 | R36: =MROUND(Q36,1) -> 110 | S36: 0.205 | T36: 0 | U36: 105.224 | V36: =MROUND(U36,1) -> 105 | W36: 104.335 | X36: =MROUND(W36,1) -> 104 | Y36: 0.068 | Z36: 0 | AA36: 0 | AB36: 0 | AC36: 17.019 | AD36: 1.309 | AE36: 0.095 | AF36: 0.529 | AG36: 1.79 | AH36: 0.038
A37: Italian Ice | B37: Pineapple | C37: 397.553 | D37: =MROUND(C37,10) -> 400 | E37: 0 | F37: 0 | G37: 0 | H37: 0 | I37: 0 | J37: 0 | K37: 0 | L37: 0 | M37: 0 | N37: 0 | O37: 62.26 | P37: =MROUND(O37,5) -> 60 | Q37: 99.241 | R37: =MROUND(Q37,1) -> 99 | S37: 0.097 | T37: 0 | U37: 95.85 | V37: =MROUND(U37,1) -> 96 | W37: 94.201 | X37: =MROUND(W37,1) -> 94 | Y37: 0.069 | Z37: 0 | AA37: 0 | AB37: 0 | AC37: 14.479 | AD37: 1.114 | AE37: 0.497 | AF37: 2.758 | AG37: 21.925 | AH37: 0.466
A38: Italian Ice | B38: Cantaloupe | C38: 388.751 | D38: =MROUND(C38,10) -> 390 | E38: 0.168 | F38: 0 | G38: 0.019 | H38: 0 | I38: 0.005 | J38: 0 | K38: 0 | L38: 0 | M38: 0 | N38: 0 | O38: 64.073 | P38: =MROUND(O38,5) -> 65 | Q38: 98.747 | R38: =MROUND(Q38,1) -> 99 | S38: 0.088 | T38: 0 | U38: 94.324 | V38: =MROUND(U38,1) -> 94 | W38: 93.552 | X38: =MROUND(W38,1) -> 94 | Y38: 0.094 | Z38: 0 | AA38: 0 | AB38: 0 | AC38: 13.526 | AD38: 1.04 | AE38: 0.054 | AF38: 0.298 | AG38: 27.994 | AH38: 0.596
A39: Italian Ice | B39: Watermelon | C39: 448.329 | D39: =MROUND(C39,10) -> 450 | E39: 0.133 | F39: 0 | G39: 0.015 | H39: 0 | I39: 0.002 | J39: 0 | K39: 0 | L39: 0 | M39: 0 | N39: 0 | O39: 62.404 | P39: =MROUND(O39,5) -> 60 | Q39: 113.896 | R39: =MROUND(Q39,1) -> 114 | S39: 0.079 | T39: 0 | U39: 110.123 | V39: =MROUND(U39,1) -> 110 | W39: 109.51 | X39: =MROUND(W39,1) -> 110 | Y39: 0.094 | Z39: 0 | AA39: 0 | AB39: 0 | AC39: 13.698 | AD39: 1.054 | AE39: 0.118 | AF39: 0.653 | AG39: 12.634 | AH39: 0.269
A40: Italian Ice | B40: Key Lime | C40: 391.754 | D40: =MROUND(C40,10) -> 390 | E40: 0 | F40: 0 | G40: 0.032 | H40: 0 | I40: 0 | J40: 0 | K40: 0 | L40: 0 | M40: 0 | N40: 0 | O40: 97.942 | P40: =MROUND(O40,5) -> 100 | Q40: 99.428 | R40: =MROUND(Q40,1) -> 99 | S40: 0.09 | T40: 0 | U40: 93.481 | V40: =MROUND(U40,1) -> 93 | W40: 93.216 | X40: =MROUND(W40,1) -> 93 | Y40: 0.105 | Z40: 0 | AA40: 0 | AB40: 0 | AC40: 12.588 | AD40: 0.968 | AE40: 0.037 | AF40: 0.206 | AG40: 16.538 | AH40: 0.352
A41: Italian Ice | B41: Tropical Daiquiri | C41: 383.881 | D41: =MROUND(C41,10) -> 380 | E41: 23.369 | F41: =MROUND(E41,5) -> 25 | G41: 2.597 | H41: =MROUND(G41,0.5) -> 2.5 | I41: 2.329 | J41: =MROUND(I41,0.5) -> 2.5 | K41: 0 | L41: 0 | M41: 0 | N41: 0 | O41: 62.352 | P41: =MROUND(O41,5) -> 60 | Q41: 90.411 | R41: =MROUND(Q41,1) -> 90 | S41: 0.59 | T41: less than 1 g | U41: 87.002 | V41: =MROUND(U41,1) -> 87 | W41: 75.86 | X41: =MROUND(W41,1) -> 76 | Y41: 0.138 | Z41: 0 | AA41: 0 | AB41: 0 | AC41: 13.24 | AD41: 1.018 | AE41: 0.069 | AF41: 0.381 | AG41: 8.291 | AH41: 0.176
A42: Italian Ice | B42: Strawberry Colada | C42: 455.45 | D42: =MROUND(C42,10) -> 460 | E42: 0.03 | F42: 0 | G42: 0.003 | H42: 0 | I42: 0 | J42: 0 | K42: 0 | L42: 0 | M42: 0 | N42: 0 | O42: 64.431 | P42: =MROUND(O42,5) -> 65 | Q42: 115.176 | R42: =MROUND(Q42,1) -> 115 | S42: 0.124 | T42: 0 | U42: 111.686 | V42: =MROUND(U42,1) -> 112 | W42: 111.06 | X42: =MROUND(W42,1) -> 111 | Y42: 0.138 | Z42: 0 | AA42: 0 | AB42: 0 | AC42: 14.479 | AD42: 1.114 | AE42: 0.114 | AF42: 0.631 | AG42: 4.252 | AH42: 0.09
A43: Italian Ice | B43: Margarita | C43: 575.199 | D43: =MROUND(C43,10) -> 580 | E43: 0.392 | F43: 0 | G43: 0.044 | H43: 0 | I43: 0.003 | J43: 0 | K43: 0 | L43: 0 | M43: 0 | N43: 0 | O43: 44.376 | P43: =MROUND(O43,10) -> 40 | Q43: 137.744 | R43: =MROUND(Q43,1) -> 138 | S43: 0.386 | T43: 0 | U43: 64.528 | V43: =MROUND(U43,1) -> 65 | W43: 63.887 | X43: =MROUND(W43,1) -> 64 | Y43: 0.148 | Z43: 0 | AA43: 0 | AB43: 0 | AC43: 16.049 | AD43: 1.235 | AE43: 0.072 | AF43: 0.398 | AG43: 27.866 | AH43: 0.593
A44: Italian Ice | B44: Mango-Peach | C44: 401.968 | D44: =MROUND(C44,10) -> 400 | E44: 0.127 | F44: 0 | G44: 0.014 | H44: 0 | I44: 0.004 | J44: 0 | K44: 0.014 | L44: 0 | M44: 0 | N44: 0 | O44: 56.763 | P44: =MROUND(O44,5) -> 55 | Q44: 101.596 | R44: =MROUND(Q44,1) -> 102 | S44: 0.312 | T44: 0 | U44: 97.5 | V44: =MROUND(U44,1) -> 98 | W44: 95.53 | X44: =MROUND(W44,1) -> 96 | Y44: 0.163 | Z44: 0 | AA44: 0 | AB44: 0 | AC44: 14.376 | AD44: 1.106 | AE44: 0.108 | AF44: 0.601 | AG44: 15.729 | AH44: 0.335
A45: Italian Ice | B45: Cherry Lemonade | C45: 379.841 | D45: =MROUND(C45,10) -> 380 | E45: 0.541 | F45: 0 | G45: 0.06 | H45: 0 | I45: 0 | J45: 0 | K45: 0 | L45: 0 | M45: 0 | N45: 0 | O45: 51.231 | P45: =MROUND(O45,5) -> 50 | Q45: 98.587 | R45: =MROUND(Q45,1) -> 99 | S45: 0.093 | T45: 0 | U45: 91.729 | V45: =MROUND(U45,1) -> 92 | W45: 91.106 | X45: =MROUND(W45,1) -> 91 | Y45: 0.166 | Z45: 0 | AA45: 0 | AB45: 0 | AC45: 15.863 | AD45: 1.22 | AE45: 0.043 | AF45: 0.24 | AG45: 43.175 | AH45: 0.919
A46: Italian Ice | B46: Mango- Strawberry | C46: 446.81 | D46: =MROUND(C46,10) -> 450 | E46: 0.208 | F46: 0 | G46: 0.023 | H46: 0 | I46: 0.004 | J46: 0 | K46: 0.015 | L46: 0 | M46: 0 | N46: 0 | O46: 65.866 | P46: =MROUND(O46,5) -> 65 | Q46: 113.146 | R46: =MROUND(Q46,1) -> 113 | S46: 0.256 | T46: 0 | U46: 108.908 | V46: =MROUND(U46,1) -> 109 | W46: 107.34 | X46: =MROUND(W46,1) -> 107 | Y46: 0.167 | Z46: 0 | AA46: 0 | AB46: 0 | AC46: 14.805 | AD46: 1.139 | AE46: 0.164 | AF46: 0.911 | AG46: 0 | AH46: 0
A47: Italian Ice | B47: Peach Ring | C47: 377.176 | D47: =MROUND(C47,10) -> 380 | E47: 0 | F47: 0 | G47: 0.001 | H47: 0 | I47: 0.001 | J47: 0 | K47: 0 | L47: 0 | M47: 0 | N47: 0 | O47: 58.561 | P47: =MROUND(O47,5) -> 60 | Q47: 96.345 | R47: =MROUND(Q47,1) -> 96 | S47: 0.247 | T47: 0 | U47: 93.597 | V47: =MROUND(U47,1) -> 94 | W47: 92.721 | X47: =MROUND(W47,1) -> 93 | Y47: 0.174 | Z47: 0 | AA47: 0 | AB47: 0 | AC47: 12.512 | AD47: 0.962 | AE47: 0.094 | AF47: 0.525 | AG47: 1.574 | AH47: 0.033
A48: Italian Ice | B48: Lemon | C48: 338.439 | D48: =MROUND(C48,10) -> 340 | E48: 0.679 | F48: 0 | G48: 0.075 | H48: 0 | I48: 0.002 | J48: 0 | K48: 0 | L48: 0 | M48: 0 | N48: 0 | O48: 17.811 | P48: =MROUND(O48,5) -> 20 | Q48: 88.258 | R48: =MROUND(Q48,1) -> 88 | S48: 0.234 | T48: 0 | U48: 84.309 | V48: =MROUND(U48,1) -> 84 | W48: 83.553 | X48: =MROUND(W48,1) -> 84 | Y48: 0.199 | Z48: 0 | AA48: 0 | AB48: 0 | AC48: 17.998 | AD48: 1.384 | AE48: 0.064 | AF48: 0.05 | AG48: 50.863 | AH48: 1.082
A49: Italian Ice | B49: Strawberry- Watermelon | C49: 518.787 | D49: =MROUND(C49,10) -> 520 | E49: 0.167 | F49: 0 | G49: 0.019 | H49: 0 | I49: 0.002 | J49: 0 | K49: 0 | L49: 0 | M49: 0 | N49: 0 | O49: 65.877 | P49: =MROUND(O49,5) -> 65 | Q49: 109.1 | R49: =MROUND(Q49,1) -> 109 | S49: 0.124 | T49: 0 | U49: 105.56 | V49: =MROUND(U49,1) -> 106 | W49: 104.346 | X49: =MROUND(W49,1) -> 104 | Y49: 0.206 | Z49: 0 | AA49: 0 | AB49: 0 | AC49: 14.008 | AD49: 1.078 | AE49: 0.134 | AF49: 0.743 | AG49: 15.327 | AH49: 0.326
A50: Italian Ice | B50: Raspberry Lemonade | C50: 293.159 | D50: =MROUND(C50,10) -> 290 | E50: 0.835 | F50: 0 | G50: 0.093 | H50: 0 | I50: 0.004 | J50: 0 | K50: 0 | L50: 0 | M50: 0 | N50: 0 | O50: 52.745 | P50: =MROUND(O50,5) -> 55 | Q50: 75.619 | R50: =MROUND(Q50,1) -> 76 | S50: 0.357 | T50: 0 | U50: 71.65 | V50: =MROUND(U50,1) -> 72 | W50: 70.708 | X50: =MROUND(W50,1) -> 71 | Y50: 0.221 | Z50: 0 | AA50: 0 | AB50: 0 | AC50: 17.217 | AD50: 1.324 | AE50: 0.085 | AF50: 0.471 | AG50: 48.944 | AH50: 1.041
A51: Italian Ice | B51: Witches Brew-Berry | C51: 442.392 | D51: =MROUND(C51,10) -> 440 | E51: 0 | F51: 0 | G51: 0 | H51: 0 | I51: 0 | J51: 0 | K51: 0 | L51: 0 | M51: 0 | N51: 0 | O51: 87.631 | P51: =MROUND(O51,5) -> 90 | Q51: 112.297 | R51: =MROUND(Q51,1) -> 112 | S51: 0.043 | T51: 0 | U51: 109.127 | V51: =MROUND(U51,1) -> 109 | W51: 109.127 | X51: =MROUND(W51,1) -> 109 | Y51: 0.236 | Z51: 0 | AA51: 0 | AB51: 0 | AC51: 14.219 | AD51: 1.094 | AE51: 0.105 | AF51: 0.586 | AG51: 1.504 | AH51: 0.032
A52: Italian Ice | B52: Strawberry Lemonade | C52: 390.363 | D52: =MROUND(C52,10) -> 390 | E52: 0.354 | F52: 0 | G52: 0.039 | H52: 0 | I52: 0.001 | J52: 0 | K52: 0 | L52: 0 | M52: 0 | N52: 0 | O52: 58.842 | P52: =MROUND(O52,5) -> 60 | Q52: 99.445 | R52: =MROUND(Q52,1) -> 99 | S52: 0.282 | T52: 0 | U52: 94.981 | V52: =MROUND(U52,1) -> 95 | W52: 93.822 | X52: =MROUND(W52,1) -> 94 | Y52: 0.243 | Z52: 0 | AA52: 0 | AB52: 0 | AC52: 16.216 | AD52: 1.247 | AE52: 0.132 | AF52: 0.735 | AG52: 30.752 | AH52: 0.654
A53: Italian Ice | B53: Blueberry Lemonade | C53: 326.067 | D53: =MROUND(C53,10) -> 330 | E53: 1.096 | F53: 0 | G53: 0.0122 | H53: 0 | I53: 0.005 | J53: 0 | K53: 0 | L53: 0 | M53: 0 | N53: 0 | O53: 53.34 | P53: =MROUND(O53,5) -> 55 | Q53: 84.748 | R53: =MROUND(Q53,1) -> 85 | S53: 0.422 | T53: 0 | U53: 78.297 | V53: =MROUND(U53,1) -> 78 | W53: 76.955 | X53: =MROUND(W53,1) -> 77 | Y53: 0.245 | Z53: 0 | AA53: 0 | AB53: 0 | AC53: 18.847 | AD53: 1.45 | AE53: 0.075 | AF53: 0.418 | AG53: 59.196 | AH53: 1.259
A54: Italian Ice | B54: Georgia Peach | C54: 407.048 | D54: =MROUND(C54,10) -> 410 | E54: 0 | F54: 0 | G54: 0 | H54: 0 | I54: 0 | J54: 0 | K54: 0 | L54: 0 | M54: 0 | N54: 0 | O54: 47.785 | P54: =MROUND(O54,5) -> 50 | Q54: 102.532 | R54: =MROUND(Q54,1) -> 103 | S54: 0.401 | T54: 0 | U54: 99.35 | V54: =MROUND(U54,1) -> 99 | W54: 97.119 | X54: =MROUND(W54,1) -> 97 | Y54: 0.248 | Z54: 0 | AA54: 0 | AB54: 0 | AC54: 13.842 | AD54: 1.065 | AE54: 0.087 | AF54: 0.483 | AG54: 1.671 | AH54: 0.036
A55: Italian Ice | B55: Strawberry Margarita | C55: 448.641 | D55: =MROUND(C55,10) -> 450 | E55: 0.371 | F55: 0 | G55: 0.041 | H55: 0 | I55: 0.002 | J55: 0 | K55: 0 | L55: 0 | M55: 0 | N55: 0 | O55: 73.104 | P55: =MROUND(O55,5) -> 75 | Q55: 113.989 | R55: =MROUND(Q55,1) -> 114 | S55: 0.31 | T55: 0 | U55: 109.103 | V55: =MROUND(U55,1) -> 109 | W55: 107.957 | X55: =MROUND(W55,1) -> 108 | Y55: 0.254 | Z55: 0 | AA55: 0 | AB55: 0 | AC55: 16.506 | AD55: 1.27 | AE55: 0.116 | AF55: 0.645 | AG55: 28.325 | AH55: 0.603
... A58: Italian Ice | B58: Zombie's Blood | C58: 354.732 | D58: =MROUND(C58,10) -> 350 | E58: 0.01 | F58: 0 | G58: 0.001 | H58: 0 | I58: 0 | J58: 0 | K58: 0 | L58: 0 | M58: 0 | N58: 0 | O58: 63.435 | P58: =MROUND(O58,5) -> 65 | Q58: 87.562 | R58: =MROUND(Q58,1) -> 88 | S58: 0.106 | T58: 0 | U58: 82.883 | V58: =MROUND(U58,1) -> 83 | W58: 82.883 | X58: =MROUND(W58,1) -> 83 | Y58: 0.418 | Z58: 0 | AA58: 0 | AB58: 0 | AC58: 16.146 | AD58: 1.242 | AE58: 0.067 | AF58: 0.373 | AG58: 20.134 | AH58: 0.428
A59: Cream Ice | B59: Shamrock | C59: 515.983 | D59: =MROUND(C59,10) -> 520 | E59: 0 | F59: 0 | G59: 4.667 | H59: =MROUND(G59,0.5) -> 4.5 | I59: 0 | J59: 0 | K59: 0 | L59: 0 | M59: 0 | N59: 0 | O59: 91.712 | P59: =MROUND(O59,5) -> 90 | Q59: 119.448 | R59: =MROUND(Q59,1) -> 119 | S59: 0.015 | T59: 0 | U59: 114.116 | V59: =MROUND(U59,1) -> 114 | W59: 113.83 | X59: =MROUND(W59,1) -> 114 | Y59: 0.424 | Z59: 0 | AA59: 0 | AB59: 0 | AC59: 12.06 | AD59: 0.928 | AE59: 0.114 | AF59: 0.631 | AG59: 12.105 | AH59: 0.258
A60: Cream Ice | B60: Orange Dreamsicle | C60: 437.534 | D60: =MROUND(C60,10) -> 440 | E60: 0 | F60: 0 | G60: 4.722 | H60: =MROUND(G60,0.5) -> 4.5 | I60: 4.379 | J60: =MROUND(I60,0.5) -> 4.5 | K60: 0 | L60: 0 | M60: 0 | N60: 0 | O60: 94.831 | P60: =MROUND(O60,5) -> 95 | Q60: 99.249 | R60: =MROUND(Q60,1) -> 99 | S60: 0.008 | T60: 0 | U60: 93.108 | V60: =MROUND(U60,1) -> 93 | W60: 92.834 | X60: =MROUND(W60,1) -> 93 | Y60: 0.429 | Z60: 0 | AA60: 0 | AB60: 0 | AC60: 12.399 | AD60: 0.954 | AE60: 0.106 | AF60: 0.588 | AG60: 11.342 | AH60: 0.241
A61: Cream Ice | B61: Coconut Cream | C61: 540.492 | D61: =MROUND(C61,10) -> 540 | E61: 29.368 | F61: =MROUND(E61,5) -> 30 | G61: 8.089 | H61: =MROUND(G61,1) -> 8 | I61: 7.073 | J61: =MROUND(I61,1) -> 7 | K61: 0.094 | L61: 0 | M61: 0 | N61: 0 | O61: 119.4 | P61: =MROUND(O61,5) -> 120 | Q61: 117.418 | R61: =MROUND(Q61,1) -> 117 | S61: 0.789 | T61: less than 1 g | U61: 109.881 | V61: =MROUND(U61,1) -> 110 | W61: 98.554 | X61: =MROUND(W61,1) -> 99 | Y61: 0.443 | Z61: 0 | AA61: 0 | AB61: 0 | AC61: 16.282 | AD61: 1.252 | AE61: 0.229 | AF61: 1.271 | AG61: 16.229 | AH61: 0.345
A62: Italian Ice | B62: Swedish Fish | C62: 496.431 | D62: =MROUND(C62,10) -> 500 | E62: 0 | F62: 0 | G62: 0 | H62: 0 | I62: 0 | J62: 0 | K62: 0 | L62: 0 | M62: 0 | N62: 0 | O62: 111.581 | P62: =MROUND(O62,5) -> 110 | Q62: 126.432 | R62: =MROUND(Q62,1) -> 126 | S62: 0.04 | T62: 0 | U62: 123.024 | V62: =MROUND(U62,1) -> 123 | W62: 123.024 | X62: =MROUND(W62,1) -> 123 | Y62: 0.471 | Z62: 0 | AA62: 0 | AB62: 0 | AC62: 13.372 | AD62: 1.029 | AE62: 0.122 | AF62: 0.68 | AG62: 0 | AH62: 0
A63: Cream Ice | B63: Strawberries n' Cream | C63: 502.63 | D63: =MROUND(C63,10) -> 500 | E63: 0.078 | F63: 0 | G63: 4.815 | H63: =MROUND(G63,0.5) -> 5 | I63: 4.457 | J63: =MROUND(I63,0.5) -> 4.5 | K63: 0.001 | L63: 0 | M63: 0 | N63: 0 | O63: 98.54 | P63: =MROUND(O63,5) -> 100 | Q63: 115.749 | R63: =MROUND(Q63,1) -> 116 | S63: 0.183 | T63: 0 | U63: 109.568 | V63: =MROUND(U63,1) -> 110 | W63: 107.64 | X63: =MROUND(W63,1) -> 108 | Y63: 0.512 | Z63: less than 1 g | AA63: 0 | AB63: 0 | AC63: 13.36 | AD63: 1.028 | AE63: 0.179 | AF63: 0.996 | AG63: 24.689 | AH63: 0.525
A64: Italian Ice | B64: Raspberry | C64: 425.697 | D64: =MROUND(C64,10) -> 430 | E64: 0.042 | F64: 0 | G64: 0.005 | H64: 0 | I64: 0.005 | J64: 0 | K64: 0.005 | L64: 0 | M64: 0 | N64: 0 | O64: 62.779 | P64: =MROUND(O64,5) -> 65 | Q64: 108.082 | R64: =MROUND(Q64,1) -> 108 | S64: 1.492 | T64: =MROUND(S64,1) -> 1 | U64: 102.47 | V64: =MROUND(U64,1) -> 102 | W64: 101.455 | X64: =MROUND(W64,1) -> 101 | Y64: 0.521 | Z64: less than 1 g | AA64: 0 | AB64: 0 | AC64: 17.626 | AD64: 1.356 | AE64: 0.187 | AF64: 1.038 | AG64: 43.076 | AH64: 0.917
A65: Sugar Free Ice | B65: S/F Cherry | C65: 197.153 | D65: =MROUND(C65,10) -> 200 | E65: 0.117 | F65: 0 | G65: 0.013 | H65: 0 | I65: 0.013 | J65: 0 | K65: 0 | L65: 0 | M65: 0 | N65: 0 | O65: 39.977 | P65: =MROUND(O65,5) -> 40 | Q65: 69.202 | R65: =MROUND(Q65,1) -> 69 | S65: 0.05 | T65: 0 | U65: 0.137 | V65: 0 | W65: 0 | X65: 0 | Y65: 0.558 | Z65: less than 1 g | AA65: 0 | AB65: 0 | AC65: 20.958 | AD65: 1.612 | AE65: 0.088 | AF65: 0.488 | AG65: 28.336 | AH65: 0.603
A66: Italian Ice | B66: Wild Black Cherry | C66: 416.379 | D66: =MROUND(C66,10) -> 420 | E66: 0.017 | F66: 0 | G66: 0.017 | H66: 0 | I66: 0 | J66: 0 | K66: 0 | L66: 0 | M66: 0 | N66: 0 | O66: 70.946 | P66: =MROUND(O66,5) -> 70 | Q66: 100.496 | R66: =MROUND(Q66,1) -> 100 | S66: 0.384 | T66: 0 | U66: 93.599 | V66: =MROUND(U66,1) -> 94 | W66: 90.897 | X66: =MROUND(W66,1) -> 91 | Y66: 0.714 | Z66: less than 1 g | AA66: 0 | AB66: 0 | AC66: 22.656 | AD66: 1.743 | AE66: 0.303 | AF66: 1.681 | AG66: 33.285 | AH66: 0.708
A67: Cream Ice | B67: Cookies & Cream | C67: 606.5 | D67: =MROUND(C67,10) -> 610 | E67: 12.752 | F67: =MROUND(E67,5) -> 15 | G67: 6.125 | H67: =MROUND(G67,1) -> 6 | I67: 4.803 | J67: =MROUND(I67,0.5) -> 5 | K67: 0 | L67: 0 | M67: 0.048 | N67: 0 | O67: 116.47 | P67: =MROUND(O67,5) -> 115 | Q67: 138.798 | R67: =MROUND(Q67,1) -> 139 | S67: 0.166 | T67: 0 | U67: 130.923 | V67: =MROUND(U67,1) -> 131 | W67: 130.602 | X67: =MROUND(W67,1) -> 131 | Y67: 0.736 | Z67: less than 1 g | AA67: 0 | AB67: 0 | AC67: 14.649 | AD67: 1.127 | AE67: 0.425 | AF67: 2.359 | AG67: 22.713 | AH67: 0.483
A68: Cream Ice | B68: Raspberries n' Cream | C68: 422.971 | D68: =MROUND(C68,10) -> 420 | E68: 1.016 | F68: 0 | G68: 4.773 | H68: =MROUND(G68,0.5) -> 5 | I68: 4.331 | J68: =MROUND(I68,0.5) -> 4.5 | K68: 0.008 | L68: 0 | M68: 0 | N68: 0 | O68: 96.682 | P68: =MROUND(O68,5) -> 95 | Q68: 95.145 | R68: =MROUND(Q68,1) -> 95 | S68: 1.051 | T68: =MROUND(S68,1) -> 1 | U68: 88.15 | V68: =MROUND(U68,1) -> 88 | W68: 86.665 | X68: =MROUND(W68,1) -> 87 | Y68: 0.738 | Z68: less than 1 g | AA68: 0 | AB68: 0 | AC68: 17.089 | AD68: 1.315 | AE68: 0.252 | AF68: 1.403 | AG68: 49.152 | AH68: 1.046
A69: Cream Ice | B69: Strawberry Banana | C69: 378.122 | D69: =MROUND(C69,10) -> 380 | E69: 0.732 | F69: 0 | G69: 5.401 | H69: =MROUND(G69,1) -> 5 | I69: 4.994 | J69: =MROUND(I69,0.5) -> 5 | K69: 0.002 | L69: 0 | M69: 0 | N69: 0 | O69: 117.308 | P69: =MROUND(O69,5) -> 115 | Q69: 81.618 | R69: =MROUND(Q69,1) -> 82 | S69: 0.464 | T69: 0 | U69: 73.983 | V69: =MROUND(U69,1) -> 74 | W69: 70.933 | X69: =MROUND(W69,1) -> 71 | Y69: 0.739 | Z69: less than 1 g | AA69: 0 | AB69: 0 | AC69: 14.721 | AD69: 1.132 | AE69: 0.23 | AF69: 1.276 | AG69: 74.001 | AH69: 1.574
A70: Cream Ice | B70: Mint Oreo | C70: 502.193 | D70: =MROUND(C70,10) -> 500 | E70: 13.079 | F70: =MROUND(E70,5) -> 15 | G70: 6.282 | H70: =MROUND(G70,1) -> 6 | I70: 4.926 | J70: =MROUND(I70,0.5) -> 5 | K70: 0 | L70: 0 | M70: 0.05 | N70: 0 | O70: 121.055 | P70: =MROUND(O70,5) -> 120 | Q70: 112.75 | R70: =MROUND(Q70,1) -> 113 | S70: 0.15 | T70: 0 | U70: 105.317 | V70: =MROUND(U70,1) -> 105 | W70: 105.028 | X70: =MROUND(W70,1) -> 105 | Y70: 0.755 | Z70: less than 1 g | AA70: 0.001 | AB70: 0 | AC70: 15.894 | AD70: 1.223 | AE70: 0.436 | AF70: 2.419 | AG70: 22.924 | AH70: 0.488
A71: Cream Ice | B71: Pumpkin Pie | C71: 417.752 | D71: =MROUND(C71,10) -> 420 | E71: 0.085 | F71: 0 | G71: 4.818 | H71: =MROUND(G71,0.5) -> 5 | I71: 4.469 | J71: =MROUND(I71,0.5) -> 4.5 | K71: 0 | L71: 0 | M71: 0 | N71: 0 | O71: 99.32 | P71: =MROUND(O71,5) -> 100 | Q71: 93.963 | R71: =MROUND(Q71,1) -> 94 | S71: 1.424 | T71: =MROUND(S71,1) -> 1 | U71: 86.487 | V71: =MROUND(U71,1) -> 86 | W71: 84.971 | X71: =MROUND(W71,1) -> 85 | Y71: 0.875 | Z71: less than 1 g | AA71: 0 | AB71: 0 | AC71: 24.862 | AD71: 1.912 | AE71: 0.564 | AF71: 3.131 | AG71: 97.668 | AH71: 2.078
A72: Cream Ice | B72: S'mores | C72: 579.853 | D72: =MROUND(C72,10) -> 580 | E72: 0 | F72: 0 | G72: 7.03 | H72: =MROUND(G72,1) -> 7 | I72: 5.735 | J72: =MROUND(I72,1) -> 6 | K72: 0 | L72: 0 | M72: 0 | N72: 0 | O72: 109.685 | P72: =MROUND(O72,5) -> 110 | Q72: 131.166 | R72: =MROUND(Q72,1) -> 131 | S72: 0.8 | T72: less than 1 g | U72: 125.002 | V72: =MROUND(U72,1) -> 125 | W72: 124.747 | X72: =MROUND(W72,1) -> 125 | Y72: 0.879 | Z72: less than 1 g | AA72: 0.546 | AB72: 0 | AC72: 18.032 | AD72: 18.032 | AE72: 1.387 | AF72: 7.415 | AG72: 73.894 | AH72: 1.572
A73: Cream Ice | B73: Horchata | C73: 440 | D73: =MROUND(C73,10) -> 440 | E73: 45 | F73: =MROUND(E73,5) -> 45 | G73: 5 | H73: =MROUND(G73,0.5) -> 5 | I73: 4.5 | J73: =MROUND(I73,0.5) -> 4.5 | K73: 0 | L73: 0 | M73: 0 | N73: 0 | O73: 110 | P73: =MROUND(O73,5) -> 110 | Q73: 100 | R73: =MROUND(Q73,1) -> 100 | S73: 0 | T73: less than 1 g | U73: 94 | V73: =MROUND(U73,1) -> 94 | W73: 94 | X73: =MROUND(W73,1) -> 94 | Y73: 1 | Z73: less than 1 g | AA73: 0 | AB73: 0 | AC73: 14 | AD73: 2 | AE73: 0 | AF73: 0 | AG73: 23 | AH73: 0
A74: Cream Ice | B74: Iced Coffee | C74: 450 | D74: =MROUND(C74,10) -> 450 | E74: 45 | F74: =MROUND(E74,5) -> 45 | G74: 5 | H74: =MROUND(G74,0.5) -> 5 | I74: 4.5 | J74: =MROUND(I74,0.5) -> 4.5 | K74: 0 | L74: 0 | M74: 0 | N74: 0 | O74: 280 | P74: =MROUND(O74,5) -> 280 | Q74: 108 | R74: =MROUND(Q74,1) -> 108 | S74: 0 | T74: less than 1 g | U74: 101 | V74: =MROUND(U74,1) -> 101 | W74: 101 | X74: =MROUND(W74,1) -> 101 | Y74: 1 | Z74: less than 1 g | AA74: 0 | AB74: 0 | AC74: 19 | AD74: 2 | AE74: 0 | AF74: 0 | AG74: 191 | AH74: 4
A75: Cream Ice | B75: Pumpkin Cheesecake | C75: 448.133 | D75: =MROUND(C75,10) -> 450 | E75: 0 | F75: 0 | G75: 4.92 | H75: =MROUND(G75,0.5) -> 5 | I75: 4.525 | J75: =MROUND(I75,0.5) -> 4.5 | K75: 0 | L75: 0 | M75: 1.844 | N75: 0 | O75: 67.667 | P75: =MROUND(O75,5) -> 70 | Q75: 101.673 | R75: =MROUND(Q75,1) -> 102 | S75: 0.565 | T75: less than 1 g | U75: 94.771 | V75: =MROUND(U75,1) -> 95 | W75: 42.487 | X75: =MROUND(W75,1) -> 42 | Y75: 0.922 | Z75: less than 1 g | AA75: 0 | AB75: 0 | AC75: 19.121 | AD75: 1.471 | AE75: 0.021 | AF75: 0.118 | AG75: 17.405 | AH75: 0.37
A76: Cream Ice | B76: Banana Split Cream | C76: 503.059 | D76: =MROUND(C76,10) -> 500 | E76: 24.34 | F76: =MROUND(E76,5) -> 25 | G76: 7.453 | H76: =MROUND(G76,1) -> 7 | I76: 5.776 | J76: =MROUND(I76,1) -> 6 | K76: 0.004 | L76: 0 | M76: 0 | N76: 0 | O76: 106.947 | P76: =MROUND(O76,5) -> 105 | Q76: 118.271 | R76: =MROUND(Q76,1) -> 118 | S76: 1.008 | T76: =MROUND(S76,1) -> 1 | U76: 111.165 | V76: =MROUND(U76,1) -> 111 | W76: 100.844 | X76: =MROUND(W76,1) -> 101 | Y76: 0.924 | Z76: less than 1 g | AA76: 0.018 | AB76: 0.09 | AC76: 22.402 | AD76: 1.723 | AE76: 0.804 | AF76: 4.465 | AG76: 106.604 | AH76: 2.268
A77: Italian Ice | B77: Gummy Bear | C77: 523.764 | D77: =MROUND(C77,10) -> 520 | E77: 1.056 | F77: 0 | G77: 0.117 | H77: 0 | I77: 0 | J77: 0 | K77: 0 | L77: 0 | M77: 0 | N77: 0 | O77: 53.45 | P77: =MROUND(O77,5) -> 55 | Q77: 130.837 | R77: =MROUND(Q77,1) -> 131 | S77: 0 | T77: 0 | U77: 120.48 | V77: =MROUND(U77,1) -> 120 | W77: 120.48 | X77: =MROUND(W77,1) -> 120 | Y77: 0.939 | Z77: less than 1 g | AA77: 0 | AB77: 0 | AC77: 11.333 | AD77: 0.872 | AE77: 0.024 | AF77: 0.131 | AG77: 2.098 | AH77: 0.045
A78: Cream Ice | B78: Birthday Cake | C78: 533.357 | D78: =MROUND(C78,10) -> 530 | E78: 16.033 | F78: =MROUND(E78,5) -> 15 | G78: 6.579 | H78: =MROUND(G78,1) -> 7 | I78: 5.334 | J78: =MROUND(I78,1) -> 5 | K78: 0 | L78: 0 | M78: 0 | N78: 0 | O78: 276.636 | P78: =MROUND(O78,10) -> 280 | Q78: 118.599 | R78: =MROUND(Q78,1) -> 119 | S78: 0.19 | T78: 0 | U78: 106.287 | V78: =MROUND(U78,1) -> 106 | W78: 91.914 | X78: =MROUND(W78,1) -> 92 | Y78: 1.007 | Z78: =MROUND(Y78,1) -> 1 | AA78: 0 | AB78: 0 | AC78: 58.9 | AD78: 4.531 | AE78: 0.44 | AF78: 2.444 | AG78: 11.238 | AH78: 0.239
A79: Cream Ice | B79: Black Cherry Cheesecake | C79: 571.768 | D79: =MROUND(C79,10) -> 570 | E79: 33.226 | F79: =MROUND(E79,5) -> 35 | G79: 8.432 | H79: =MROUND(G79,1) -> 8 | I79: 6.776 | J79: =MROUND(I79,1) -> 7 | K79: 0.078 | L79: 0 | M79: 9.171 | N79: =MROUND(M79,5) -> 10 | O79: 121.724 | P79: =MROUND(O79,5) -> 120 | Q79: 122.539 | R79: =MROUND(Q79,1) -> 123 | S79: 0.039 | T79: 0 | U79: 112.08 | V79: =MROUND(U79,1) -> 112 | W79: 111.394 | X79: =MROUND(W79,1) -> 111 | Y79: 1.053 | Z79: =MROUND(Y79,1) -> 1 | AA79: 0 | AB79: 0 | AC79: 35.719 | AD79: 2.748 | AE79: 0.157 | AF79: 0.87 | AG79: 31.99 | AH79: 0.681
A80: Cream Ice | B80: Cheesecake | C80: 550.912 | D80: =MROUND(C80,10) -> 550 | E80: 33.423 | F80: =MROUND(E80,5) -> 35 | G80: 8.482 | H80: =MROUND(G80,1) -> 8 | I80: 6.816 | J80: =MROUND(I80,1) -> 7 | K80: 0.078 | L80: 0 | M80: 9.226 | N80: =MROUND(M80,5) -> 10 | O80: 123.1 | P80: =MROUND(O80,5) -> 125 | Q80: 118.416 | R80: =MROUND(Q80,1) -> 118 | S80: 0.039 | T80: 0 | U80: 107.895 | V80: =MROUND(U80,1) -> 108 | W80: 107.205 | X80: =MROUND(W80,1) -> 107 | Y80: 1.059 | Z80: =MROUND(Y80,1) -> 1 | AA80: 0 | AB80: 0 | AC80: 31.57 | AD80: 2.428 | AE80: 0.158 | AF80: 0.875 | AG80: 27.329 | AH80: 0.581
A81: Cream Ice | B81: Strawberry Cheesecake | C81: 573.658 | D81: =MROUND(C81,10) -> 570 | E81: 33.274 | F81: =MROUND(E81,5) -> 35 | G81: 8.428 | H81: =MROUND(G81,1) -> 8 | I81: 6.764 | J81: =MROUND(I81,1) -> 7 | K81: 0.078 | L81: 0 | M81: 9.154 | N81: =MROUND(M81,5) -> 10 | O81: 125.257 | P81: =MROUND(O81,5) -> 125 | Q81: 124.884 | R81: =MROUND(Q81,1) -> 125 | S81: 0.274 | T81: 0 | U81: 113.319 | V81: =MROUND(U81,1) -> 113 | W81: 110.315 | X81: =MROUND(W81,1) -> 110 | Y81: 1.113 | Z81: =MROUND(Y81,1) -> 1 | AA81: 0 | AB81: 0 | AC81: 32.81 | AD81: 2.524 | AE81: 0.241 | AF81: 1.337 | AG81: 45.873 | AH81: 0.976
A82: Italian Ice | B82: Chocolate | C82: 514.745 | D82: =MROUND(C82,10) -> 510 | E82: 5.651 | F82: =MROUND(E82,5) -> 5 | G82: 0.626 | H82: =MROUND(G82,0.5) -> 0.5 | I82: 0.37 | J82: 0 | K82: 0 | L82: 0 | M82: 0 | N82: 0 | O82: 97.177 | P82: =MROUND(O82,5) -> 95 | Q82: 131.224 | R82: =MROUND(Q82,1) -> 131 | S82: 1.832 | T82: =MROUND(S82,1) -> 2 | U82: 124.657 | V82: =MROUND(U82,1) -> 125 | W82: 132.455 | X82: =MROUND(W82,1) -> 132 | Y82: 1.116 | Z82: =MROUND(Y82,1) -> 1 | AA82: 0.008 | AB82: 0 | AC82: 28.138 | AD82: 2.164 | AE82: 2.231 | AF82: 12.395 | AG82: 196.446 | AH82: 4.18
A83: Cream Ice | B83: Mint Chocolate Chip | C83: 463.256 | D83: =MROUND(C83,10) -> 460 | E83: 34.381 | F83: =MROUND(E83,5) -> 35 | G83: 8.617 | H83: =MROUND(G83,1) -> 9 | I83: 6.74 | J83: =MROUND(I83,1) -> 7 | K83: 0 | L83: 0 | M83: 0 | N83: 0 | O83: 94.563 | P83: =MROUND(O83,5) -> 95 | Q83: 116.799 | R83: =MROUND(Q83,1) -> 117 | S83: 1.079 | T83: =MROUND(S83,1) -> 1 | U83: 110.094 | V83: =MROUND(U83,1) -> 110 | W83: 101.398 | X83: =MROUND(W83,1) -> 101 | Y83: 1.125 | Z83: =MROUND(Y83,1) -> 1 | AA83: 1.288 | AB83: 0 | AC83: 17.683 | AD83: 1.36 | AE83: 1.299 | AF83: 7.216 | AG83: 72.459 | AH83: 1.542
A84: Cream Ice | B84: Watermelon Chip | C84: 519.886 | D84: =MROUND(C84,10) -> 520 | E84: 34.383 | F84: =MROUND(E84,5) -> 35 | G84: 8.587 | H84: =MROUND(G84,1) -> 9 | I84: 6.697 | J84: =MROUND(I84,1) -> 7 | K84: 0 | L84: 0 | M84: 0 | N84: 0 | O84: 109.099 | P84: =MROUND(O84,5) -> 110 | Q84: 130.916 | R84: =MROUND(Q84,1) -> 131 | S84: 1.117 | T84: =MROUND(S84,1) -> 1 | U84: 122.179 | V84: =MROUND(U84,1) -> 122 | W84: 113.283 | X84: =MROUND(W84,1) -> 113 | Y84: 1.212 | Z84: =MROUND(Y84,1) -> 1 | AA84: 0.032 | AB84: 0.16 | AC84: 19.07 | AD84: 1.467 | AE84: 1.354 | AF84: 7.52 | AG84: 88.635 | AH84: 1.886
A85: Cream Ice | B85: Frozen Hot Cocoa | C85: 534.294 | D85: =MROUND(C85,10) -> 530 | E85: 4.276 | F85: 0 | G85: 5.012 | H85: =MROUND(G85,0.5) -> 5 | I85: 4.488 | J85: =MROUND(I85,0.5) -> 4.5 | K85: 0.155 | L85: 0 | M85: 0 | N85: 0 | O85: 130.354 | P85: =MROUND(O85,5) -> 130 | Q85: 125.127 | R85: =MROUND(Q85,1) -> 125 | S85: 1.389 | T85: =MROUND(S85,1) -> 1 | U85: 117.355 | V85: =MROUND(U85,1) -> 117 | W85: 116.724 | X85: =MROUND(W85,1) -> 117 | Y85: 1.259 | Z85: =MROUND(Y85,1) -> 1 | AA85: 0.006 | AB85: 0.031 | AC85: 21.25 | AD85: 1.635 | AE85: 0.929 | AF85: 5.163 | AG85: 113.167 | AH85: 2.408
A86: Cream Ice | B86: Chocolate Covered Banana | C86: 522.099 | D86: =MROUND(C86,10) -> 520 | E86: 29.806 | F86: =MROUND(E86,5) -> 30 | G86: 8.092 | H86: =MROUND(G86,1) -> 8 | I86: 6.922 | J86: =MROUND(I86,1) -> 7 | K86: 0.004 | L86: 0 | M86: 0.001 | N86: 0 | O86: 134.374 | P86: =MROUND(O86,5) -> 135 | Q86: 122.393 | R86: =MROUND(Q86,1) -> 122 | S86: 1.161 | T86: =MROUND(S86,1) -> 1 | U86: 112.923 | V86: =MROUND(U86,1) -> 113 | W86: 105.558 | X86: =MROUND(W86,1) -> 106 | Y86: 1.274 | Z86: =MROUND(Y86,1) -> 1 | AA86: 0.645 | AB86: 0 | AC86: 22.381 | AD86: 1.722 | AE86: 1.062 | AF86: 5.901 | AG86: 160.984 | AH86: 3.425
A87: Cream Ice | B87: Brookie Dough | C87: 590.306 | D87: =MROUND(C87,10) -> 590 | E87: 39.588 | F87: =MROUND(E87,5) -> 40 | G87: 9.207 | H87: =MROUND(G87,1) -> 9 | I87: 6.98 | J87: =MROUND(I87,1) -> 7 | K87: 0 | L87: 0 | M87: 3.77 | N87: less than 5 mg | O87: 177.592 | P87: =MROUND(O87,10) -> 180 | Q87: 126.485 | R87: =MROUND(Q87,1) -> 126 | S87: 0.805 | T87: less than 1 g | U87: 112.744 | V87: =MROUND(U87,1) -> 113 | W87: 112.309 | X87: =MROUND(W87,1) -> 112 | Y87: 1.658 | Z87: =MROUND(Y87,1) -> 2 | AA87: 0.001 | AB87: 0.006 | AC87: 24.473 | AD87: 1.883 | AE87: 0.865 | AF87: 4.808 | AG87: 129.41 | AH87: 2.753
A88: Cream Ice | B88: Cookie Dough | C88: 590.306 | D88: =MROUND(C88,10) -> 590 | E88: 39.588 | F88: =MROUND(E88,5) -> 40 | G88: 9.207 | H88: =MROUND(G88,1) -> 9 | I88: 6.98 | J88: =MROUND(I88,1) -> 7 | K88: 0 | L88: 0 | M88: 3.77 | N88: less than 5 mg | O88: 177.592 | P88: =MROUND(O88,10) -> 180 | Q88: 126.485 | R88: =MROUND(Q88,1) -> 126 | S88: 0.805 | T88: less than 1 g | U88: 112.744 | V88: =MROUND(U88,1) -> 113 | W88: 112.309 | X88: =MROUND(W88,1) -> 112 | Y88: 1.658 | Z88: =MROUND(Y88,1) -> 2 | AA88: 0.001 | AB88: 0.006 | AC88: 24.473 | AD88: 1.883 | AE88: 0.865 | AF88: 4.808 | AG88: 129.41 | AH88: 2.753
A89: Cream Ice | B89: Chocolate Covered Strawberry | C89: 497.719 | D89: =MROUND(C89,10) -> 500 | E89: 46.822 | F89: =MROUND(E89,5) -> 45 | G89: 10.062 | H89: =MROUND(G89,1) -> 10 | I89: 8.094 | J89: =MROUND(I89,1) -> 8 | K89: 0 | L89: 0 | M89: 0.001 | N89: 0 | O89: 146.765 | P89: =MROUND(O89,10) -> 150 | Q89: 120.675 | R89: =MROUND(Q89,1) -> 121 | S89: 1.643 | T89: =MROUND(S89,1) -> 2 | U89: 111.791 | V89: =MROUND(U89,1) -> 112 | W89: 101.38 | X89: =MROUND(W89,1) -> 101 | Y89: 1.795 | Z89: =MROUND(Y89,1) -> 2 | AA89: 1.309 | AB89: 0 | AC89: 27.661 | AD89: 2.128 | AE89: 1.79 | AF89: 9.946 | AG89: 135.582 | AH89: 2.885
A90: Italian Ice | B90: Chocolate Chocolate Chip | C90: 583.237 | D90: =MROUND(C90,10) -> 580 | E90: 5.651 | F90: =MROUND(E90,5) -> 5 | G90: 4.453 | H90: =MROUND(G90,0.5) -> 4.5 | I90: 2.652 | J90: =MROUND(I90,0.5) -> 2.5 | K90: 0 | L90: 0 | M90: 0 | N90: 0 | O90: 96.825 | P90: =MROUND(O90,5) -> 95 | Q90: 141.453 | R90: =MROUND(Q90,1) -> 141 | S90: 2.999 | T90: =MROUND(S90,1) -> 3 | U90: 132.971 | V90: =MROUND(U90,1) -> 133 | W90: 132.455 | X90: =MROUND(W90,1) -> 132 | Y90: 1.855 | Z90: =MROUND(Y90,1) -> 2 | AA90: 1.211 | AB90: 0 | AC90: 28.138 | AD90: 2.164 | AE90: 2.231 | AF90: 12.395 | AG90: 196.446 | AH90: 4.18
A91: Cream Ice | B91: Fudge Brownie | C91: 643.315 | D91: =MROUND(C91,10) -> 640 | E91: 41.88 | F91: =MROUND(E91,5) -> 40 | G91: 9.236 | H91: =MROUND(G91,1) -> 9 | I91: 6.301 | J91: =MROUND(I91,1) -> 6 | K91: 0.061 | L91: 0 | M91: 3.677 | N91: less than 5 mg | O91: 166.282 | P91: =MROUND(O91,10) -> 170 | Q91: 148.219 | R91: =MROUND(Q91,1) -> 148 | S91: 2.577 | T91: =MROUND(S91,1) -> 3 | U91: 131.931 | V91: =MROUND(U91,1) -> 132 | W91: 121.314 | X91: =MROUND(W91,1) -> 121 | Y91: 2.795 | Z91: =MROUND(Y91,1) -> 3 | AA91: 0.666 | AB91: 0 | AC91: 28.141 | AD91: 2.165 | AE91: 1.432 | AF91: 7.974 | AG91: 224.294 | AH91: 4.772
A92: Cream Ice | B92: Marshmallow Peanut Butter | C92: 654.624 | D92: =MROUND(C92,10) -> 650 | E92: 92.736 | F92: =MROUND(E92,10) -> 90 | G92: 14.998 | H92: =MROUND(G92,1) -> 15 | I92: 6.063 | J92: =MROUND(I92,1) -> 6 | K92: 0 | L92: 0 | M92: 0 | N92: 0 | O92: 186.484 | P92: =MROUND(O92,10) -> 190 | Q92: 129.109 | R92: =MROUND(Q92,1) -> 129 | S92: 1.199 | T92: =MROUND(S92,1) -> 1 | U92: 122.485 | V92: =MROUND(U92,1) -> 122 | W92: 121.707 | X92: =MROUND(W92,1) -> 122 | Y92: 3.821 | Z92: =MROUND(Y92,1) -> 4 | AA92: 0 | AB92: 0 | AC92: 26.697 | AD92: 2.054 | AE92: 1.164 | AF92: 6.465 | AG92: 127.089 | AH92: 2.704
A93: Italian Ice | B93: Chocolate Peanut Butter | C93: 621.707 | D93: =MROUND(C93,10) -> 620 | E93: 5.642 | F93: =MROUND(E93,5) -> 5 | G93: 10.953 | H93: =MROUND(G93,1) -> 11 | I93: 2.085 | J93: =MROUND(I93,0.5) -> 2 | K93: 0 | L93: 0 | M93: 0 | N93: 0 | O93: 142.417 | P93: =MROUND(O93,10) -> 140 | Q93: 132.987 | R93: =MROUND(Q93,1) -> 133 | S93: 2.955 | T93: =MROUND(S93,1) -> 3 | U93: 126.423 | V93: =MROUND(U93,1) -> 126 | W93: 125.385 | X93: =MROUND(W93,1) -> 125 | Y93: 4.519 | Z93: =MROUND(Y93,1) -> 5 | AA93: 0.328 | AB93: 0 | AC93: 34.741 | AD93: 2.672 | AE93: 1.577 | AF93: 8.761 | AG93: 224.878 | AH93: 4.785
A94: Cream Ice | B94: Chocolate Chip Cheesecake | C94: 552.433 | D94: =MROUND(C94,10) -> 550 | E94: 67.787 | F94: =MROUND(E94,10) -> 70 | G94: 12.314 | H94: =MROUND(G94,1) -> 12 | I94: 9.12 | J94: =MROUND(I94,1) -> 9 | K94: 0.078 | L94: 0 | M94: 9.251 | N94: =MROUND(M94,5) -> 10 | O94: 122.815 | P94: =MROUND(O94,5) -> 125 | Q94: 128.912 | R94: =MROUND(Q94,1) -> 129 | S94: 1.114 | T94: =MROUND(S94,1) -> 1 | U94: 116.6 | V94: =MROUND(U94,1) -> 117 | W94: 107.501 | X94: =MROUND(W94,1) -> 108 | Y94: 1.749 | Z94: =MROUND(Y94,1) -> 2 | AA94: 0.032 | AB94: 0.161 | AC94: 36.393 | AD94: 2.799 | AE94: 1.332 | AF94: 7.399 | AG94: 87.376 | AH94: 1.859
B96: This nutrition information is based on standard recipes and product formulations; however; variations may occur due to differences in preparation, serving sizes, ingredients, or special orders. Current recommendations are to limit total saturated fat intake to 20 grams per day and to limit sodium intake to less than 2,400 mg per day for a 2,000 calorie-per-day diet. A 2,000 calorie daily diet is used for the basis of general nutrition advice; individual calorie needs however; may vary. ©2015 RITA’S FRANCHISE COMPANY. ALL RIGHTS RESERVED.
B98: Average Italian Ice | C98: =AVERAGE(C4:C59) -> 397.25445 | E98: =AVERAGE(E4:E59) -> 0.71175 | G98: =AVERAGE(G4:G59) -> 0.20293214 | I98: =AVERAGE(I4:I59) -> 0.043375 | K98: =AVERAGE(K4:K59) -> 0.0033392857 | M98: =AVERAGE(M4:M59) -> 0 | O98: =AVERAGE(O4:O59) -> 61.076821 | Q98: =AVERAGE(Q4:Q59) -> 98.84975 | S98: =AVERAGE(S4:S59) -> 0.13751786 | U98: =AVERAGE(U4:U59) -> 90.173571 | W98: =AVERAGE(W4:W59) -> 86.866268 | Y98: =AVERAGE(Y4:Y59) -> 0.096107143 | AA98: =AVERAGE(AA4:AA59) -> 0.021892857 | AB98: =AVERAGE(AB4:AB59) -> 0.10944643 | AC98: =AVERAGE(AC4:AC59) -> 14.226839 | AD98: =AVERAGE(AD4:AD59) -> 1.0806786 | AE98: =AVERAGE(AE4:AE59) -> 0.11682143 | AF98: =AVERAGE(AF4:AF59) -> 0.56244643 | AG98: =AVERAGE(AG4:AG59) -> 18.914571 | AH98: =AVERAGE(AH4:AH59) -> 0.36817857
B99: Range Italian Ice | C99: =ROUND(MIN(C4:C59),0) & " - " & ROUND(MAX(C4:C59),0) -> 136 - 575 | E99: =ROUND(MIN(E4:E59),0) & " - " & ROUND(MAX(E4:E59),0) -> 0 - 23 | G99: =ROUND(MIN(G4:G59),0) & " - " & ROUND(MAX(G4:G59),0) -> 0 - 5 | I99: =ROUND(MIN(I4:I59),0) & " - " & ROUND(MAX(I4:I59),0) -> 0 - 2 | K99: =ROUND(MIN(K4:K59),0) & " - " & ROUND(MAX(K4:K59),0) -> 0 - 0 | M99: =ROUND(MIN(M4:M59),0) & " - " & ROUND(MAX(M4:M59),0) -> 0 - 0 | O99: =ROUND(MIN(O4:O59),0) & " - " & ROUND(MAX(O4:O59),0) -> 18 - 188 | Q99: =ROUND(MIN(Q4:Q59),0) & " - " & ROUND(MAX(Q4:Q59),0) -> 12 - 138 | S99: =ROUND(MIN(S4:S59),0) & " - " & ROUND(MAX(S4:S59),0) -> 0 - 1 | U99: =ROUND(MIN(U4:U59),0) & " - " & ROUND(MAX(U4:U59),0) -> 0 - 122 | W99: =ROUND(MIN(W4:W59),0) & " - " & ROUND(MAX(W4:W59),0) -> 0 - 114 | Y99: =ROUND(MIN(Y4:Y59),0) & " - " & ROUND(MAX(Y4:Y59),0) -> 0 - 0 | AA99: =ROUND(MIN(AA4:AA59),0) & " - " & ROUND(MAX(AA4:AA59),0) -> 0 - 1 | AB99: =ROUND(MIN(AB4:AB59),0) & " - " & ROUND(MAX(AB4:AB59),0) -> 0 - 6 | AC99: =ROUND(MIN(AC4:AC59),0) & " - " & ROUND(MAX(AC4:AC59),0) -> 10 - 21 | AD99: =ROUND(MIN(AD4:AD59),0) & " - " & ROUND(MAX(AD4:AD59),0) -> 0 - 2 | AE99: =ROUND(MIN(AE4:AE59),0) & " - " & ROUND(MAX(AE4:AE59),0) -> 0 - 1 | AF99: =ROUND(MIN(AF4:AF59),0) & " - " & ROUND(MAX(AF4:AF59),0) -> 0 - 5 | AG99: =ROUND(MIN(AG4:AG59),0) & " - " & ROUND(MAX(AG4:AG59),0) -> 0 - 90 | AH99: =ROUND(MIN(AH4:AH59),0) & " - " & ROUND(MAX(AH4:AH59),0) -> 0 - 1
B100: Average All-Natural Ice | C100: =AVERAGE(#REF!) -> #REF! | E100: =AVERAGE(#REF!) -> #REF! | G100: =AVERAGE(#REF!) -> #REF! | I100: =AVERAGE(#REF!) -> #REF! | K100: =AVERAGE(#REF!) -> #REF! | M100: =AVERAGE(#REF!) -> #REF! | O100: =AVERAGE(#REF!) -> #REF! | Q100: =AVERAGE(#REF!) -> #REF! | S100: =AVERAGE(#REF!) -> #REF! | U100: =AVERAGE(#REF!) -> #REF! | W100: =AVERAGE(#REF!) -> #REF! | Y100: =AVERAGE(#REF!) -> #REF! | AA100: =AVERAGE(#REF!) -> #REF! | AB100: =AVERAGE(#REF!) -> #REF! | AC100: =AVERAGE(#REF!) -> #REF! | AD100: =AVERAGE(#REF!) -> #REF! | AE100: =AVERAGE(#REF!) -> #REF! | AF100: =AVERAGE(#REF!) -> #REF! | AG100: =AVERAGE(#REF!) -> #REF! | AH100: =AVERAGE(#REF!) -> #REF!
B101: Range All-Natural Ice | C101: =ROUND( MIN(#REF!),0) & " - " & ROUND(MAX(#REF!),0) -> #REF! | E101: =ROUND( MIN(#REF!),0) & " - " & ROUND(MAX(#REF!),0) -> #REF! | G101: =ROUND( MIN(#REF!),0) & " - " & ROUND(MAX(#REF!),0) -> #REF! | I101: =ROUND( MIN(#REF!),0) & " - " & ROUND(MAX(#REF!),0) -> #REF! | K101: =ROUND( MIN(#REF!),0) & " - " & ROUND(MAX(#REF!),0) -> #REF! | M101: =ROUND( MIN(#REF!),0) & " - " & ROUND(MAX(#REF!),0) -> #REF! | O101: =ROUND( MIN(#REF!),0) & " - " & ROUND(MAX(#REF!),0) -> #REF! | Q101: =ROUND( MIN(#REF!),0) & " - " & ROUND(MAX(#REF!),0) -> #REF! | S101: =ROUND( MIN(#REF!),0) & " - " & ROUND(MAX(#REF!),0) -> #REF! | U101: =ROUND( MIN(#REF!),0) & " - " & ROUND(MAX(#REF!),0) -> #REF! | W101: =ROUND( MIN(#REF!),0) & " - " & ROUND(MAX(#REF!),0) -> #REF! | Y101: =ROUND( MIN(#REF!),0) & " - " & ROUND(MAX(#REF!),0) -> #REF! | AA101: =ROUND( MIN(#REF!),0) & " - " & ROUND(MAX(#REF!),0) -> #REF! | AB101: =ROUND( MIN(#REF!),0) & " - " & ROUND(MAX(#REF!),0) -> #REF! | AC101: =ROUND( MIN(#REF!),0) & " - " & ROUND(MAX(#REF!),0) -> #REF! | AD101: =ROUND( MIN(#REF!),0) & " - " & ROUND(MAX(#REF!),0) -> #REF! | AE101: =ROUND( MIN(#REF!),0) & " - " & ROUND(MAX(#REF!),0) -> #REF! | AF101: =ROUND( MIN(#REF!),0) & " - " & ROUND(MAX(#REF!),0) -> #REF! | AG101: =ROUND( MIN(#REF!),0) & " - " & ROUND(MAX(#REF!),0) -> #REF! | AH101: =ROUND( MIN(#REF!),0) & " - " & ROUND(MAX(#REF!),0) -> #REF!
B102: Average Cream Ice | C102: =AVERAGE(C60:C88) -> 491.49138 | E102: =AVERAGE(E60:E88) -> 16.424517 | G102: =AVERAGE(G60:G88) -> 5.3741034 | I102: =AVERAGE(I60:I88) -> 4.4604483 | K102: =AVERAGE(K60:K88) -> 0.017482759 | M102: =AVERAGE(M60:M88) -> 1.2770345 | O102: =AVERAGE(O60:O88) -> 118.76228 | Q102: =AVERAGE(Q60:Q88) -> 114.23159 | S102: =AVERAGE(S60:S88) -> 0.59668966 | U102: =AVERAGE(U60:U88) -> 103.97731 | W102: =AVERAGE(W60:W88) -> 99.690517 | Y102: =AVERAGE(Y60:Y88) -> 0.92031034 | AA102: =AVERAGE(AA60:AA88) -> 0.087793103 | AB102: =AVERAGE(AB60:AB88) -> 0.010103448 | AC102: =AVERAGE(AC60:AC88) -> 21.524931 | AD102: =AVERAGE(AD60:AD88) -> 2.2802069 | AE102: =AVERAGE(AE60:AE88) -> 0.5157931 | AF102: =AVERAGE(AF60:AF88) -> 2.8550345 | AG102: =AVERAGE(AG60:AG88) -> 63.598517 | AH102: =AVERAGE(AH60:AH88) -> 1.3340345
B103: Range Cream Ice | C103: =ROUND( MIN(C60:C88),0) & " - " & ROUND(MAX(C60:C88),0) -> 197 - 607 | E103: =ROUND( MIN(E60:E88),0) & " - " & ROUND(MAX(E60:E88),0) -> 0 - 45 | G103: =ROUND( MIN(G60:G88),0) & " - " & ROUND(MAX(G60:G88),0) -> 0 - 9 | I103: =ROUND( MIN(I60:I88),0) & " - " & ROUND(MAX(I60:I88),0) -> 0 - 7 | K103: =ROUND( MIN(K60:K88),0) & " - " & ROUND(MAX(K60:K88),0) -> 0 - 0 | M103: =ROUND( MIN(M60:M88),0) & " - " & ROUND(MAX(M60:M88),0) -> 0 - 9 | O103: =ROUND( MIN(O60:O88),0) & " - " & ROUND(MAX(O60:O88),0) -> 40 - 280 | Q103: =ROUND( MIN(Q60:Q88),0) & " - " & ROUND(MAX(Q60:Q88),0) -> 69 - 139 | S103: =ROUND( MIN(S60:S88),0) & " - " & ROUND(MAX(S60:S88),0) -> 0 - 2 | U103: =ROUND( MIN(U60:U88),0) & " - " & ROUND(MAX(U60:U88),0) -> 0 - 131 | W103: =ROUND( MIN(W60:W88),0) & " - " & ROUND(MAX(W60:W88),0) -> 0 - 132 | Y103: =ROUND( MIN(Y60:Y88),0) & " - " & ROUND(MAX(Y60:Y88),0) -> 0 - 2 | AA103: =ROUND( MIN(AA60:AA88),0) & " - " & ROUND(MAX(AA60:AA88),0) -> 0 - 1 | AB103: =ROUND( MIN(AB60:AB88),0) & " - " & ROUND(MAX(AB60:AB88),0) -> 0 - 0 | AC103: =ROUND( MIN(AC60:AC88),0) & " - " & ROUND(MAX(AC60:AC88),0) -> 11 - 59 | AD103: =ROUND( MIN(AD60:AD88),0) & " - " & ROUND(MAX(AD60:AD88),0) -> 1 - 18 | AE103: =ROUND( MIN(AE60:AE88),0) & " - " & ROUND(MAX(AE60:AE88),0) -> 0 - 2 | AF103: =ROUND( MIN(AF60:AF88),0) & " - " & ROUND(MAX(AF60:AF88),0) -> 0 - 12 | AG103: =ROUND( MIN(AG60:AG88),0) & " - " & ROUND(MAX(AG60:AG88),0) -> 0 - 196 | AH103: =ROUND( MIN(AH60:AH88),0) & " - " & ROUND(MAX(AH60:AH88),0) -> 0 - 4
B104: Average Sugar-Free Ice | C104: =AVERAGE(C89:C94) -> 592.1725 | E104: =AVERAGE(E89:E94) -> 43.419667 | G104: =AVERAGE(G89:G94) -> 10.336 | I104: =AVERAGE(I89:I94) -> 5.7191667 | K104: =AVERAGE(K89:K94) -> 0.023166667 | M104: =AVERAGE(M89:M94) -> 2.1548333 | O104: =AVERAGE(O89:O94) -> 143.598 | Q104: =AVERAGE(Q89:Q94) -> 133.55917 | S104: =AVERAGE(S89:S94) -> 2.0811667 | U104: =AVERAGE(U89:U94) -> 123.70017 | W104: =AVERAGE(W89:W94) -> 118.29033 | Y104: =AVERAGE(Y89:Y94) -> 2.7556667 | AA104: =AVERAGE(AA89:AA94) -> 0.591 | AB104: =AVERAGE(AB89:AB94) -> 0.026833333 | AC104: =AVERAGE(AC89:AC94) -> 30.295167 | AD104: =AVERAGE(AD89:AD94) -> 2.3303333 | AE104: =AVERAGE(AE89:AE94) -> 1.5876667 | AF104: =AVERAGE(AF89:AF94) -> 8.8233333 | AG104: =AVERAGE(AG89:AG94) -> 165.94417 | AH104: =AVERAGE(AH89:AH94) -> 3.5308333
B105: Range Sugar-Free Ice | C105: =ROUND( MIN(C89:C94),0) & " - " &ROUND( MAX(C89:C94),0) -> 498 - 655 | E105: =ROUND( MIN(E89:E94),0) & " - " &ROUND( MAX(E89:E94),0) -> 6 - 93 | G105: =ROUND( MIN(G89:G94),0) & " - " &ROUND( MAX(G89:G94),0) -> 4 - 15 | I105: =ROUND( MIN(I89:I94),0) & " - " &ROUND( MAX(I89:I94),0) -> 2 - 9 | K105: =ROUND( MIN(K89:K94),0) & " - " &ROUND( MAX(K89:K94),0) -> 0 - 0 | M105: =ROUND( MIN(M89:M94),0) & " - " &ROUND( MAX(M89:M94),0) -> 0 - 9 | O105: =ROUND( MIN(O89:O94),0) & " - " &ROUND( MAX(O89:O94),0) -> 97 - 186 | Q105: =ROUND( MIN(Q89:Q94),0) & " - " &ROUND( MAX(Q89:Q94),0) -> 121 - 148 | S105: =ROUND( MIN(S89:S94),0) & " - " &ROUND( MAX(S89:S94),0) -> 1 - 3 | U105: =ROUND( MIN(U89:U94),0) & " - " &ROUND( MAX(U89:U94),0) -> 112 - 133 | W105: =ROUND( MIN(W89:W94),0) & " - " &ROUND( MAX(W89:W94),0) -> 101 - 132 | Y105: =ROUND( MIN(Y89:Y94),0) & " - " &ROUND( MAX(Y89:Y94),0) -> 2 - 5 | AA105: =ROUND( MIN(AA89:AA94),0) & " - " &ROUND( MAX(AA89:AA94),0) -> 0 - 1 | AB105: =ROUND( MIN(AB89:AB94),0) & " - " &ROUND( MAX(AB89:AB94),0) -> 0 - 0 | AC105: =ROUND( MIN(AC89:AC94),0) & " - " &ROUND( MAX(AC89:AC94),0) -> 27 - 36 | AD105: =ROUND( MIN(AD89:AD94),0) & " - " &ROUND( MAX(AD89:AD94),0) -> 2 - 3 | AE105: =ROUND( MIN(AE89:AE94),0) & " - " &ROUND( MAX(AE89:AE94),0) -> 1 - 2 | AF105: =ROUND( MIN(AF89:AF94),0) & " - " &ROUND( MAX(AF89:AF94),0) -> 6 - 12 | AG105: =ROUND( MIN(AG89:AG94),0) & " - " &ROUND( MAX(AG89:AG94),0) -> 87 - 225 | AH105: =ROUND( MIN(AH89:AH94),0) & " - " &ROUND( MAX(AH89:AH94),0) -> 2 - 5

Sheet Ice Quart
B3: Flavor | C3: Calories | D3: Calories | E3: Calories from Fat | F3: Calories from Fat | G3: Fat | H3: Fat | I3: Saturated Fat | J3: Saturated Fat | K3: Trans Fat | L3: Trans Fat | M3: Cholesterol | N3: Cholesterol | O3: Sodium | P3: Sodium | Q3: Total Carbohydrates | R3: Total Carbohydrates | S3: Dietary Fiber | T3: Dietary Fiber | U3: Total Sugar | V3: Total Sugar | W3: Added Sugar | X3: Added Sugar | Y3: Protein | Z3: Protein | AA3: Vitamin D | AB3: Vitamin D (% DV) | AC3: Calcium | AD3: Calcium (%DV) | AE3: Iron | AF3: Iron (%DV) | AG3: Potassium | AH3: Potassium (%DV)
A4: Sugar Free | B4: S/F Mango Peach | C4: 330.038 | D4: =MROUND(C4,10) -> 330 | E4: 0.28 | F4: 0 | G4: 0.031 | H4: 0 | I4: 0.022 | J4: 0 | K4: 0 | L4: 0 | M4: 0 | N4: 0 | O4: 68.342 | P4: =MROUND(O4,1) -> 68 | Q4: 114.608 | R4: =MROUND(Q4,1) -> 115 | S4: 0.067 | T4: 0 | U4: 0.589 | V4: less than 1 g | W4: 0 | X4: 0 | Y4: 0 | Z4: 0 | AA4: 0 | AB4: 0 | AC4: 36.266 | AD4: 0.0279 | AE4: 0.213 | AF4: 0.01184 | AG4: 59.969 | AH4: 0.01276
A5: Italian Ice | B5: Unicorn | C5: 730.258 | D5: =MROUND(C5,10) -> 730 | E5: 0 | F5: 0 | G5: 0 | H5: 0 | I5: 0 | J5: 0 | K5: 0 | L5: 0 | M5: 0 | N5: 0 | O5: 329.48 | P5: =MROUND(O5,1) -> 329 | Q5: 186.837 | R5: =MROUND(Q5,1) -> 187 | S5: 0.067 | T5: 0 | U5: 170.007 | V5: =MROUND(U5,1) -> 170 | W5: 170.007 | X5: =MROUND(W5,1) -> 170 | Y5: 0.01 | Z5: 0 | AA5: 0 | AB5: 0 | AC5: 25.346 | AD5: 0.0195 | AE5: 1.714 | AF5: 0.09522 | AG5: 65.31 | AH5: 0.0139
A6: Italian Ice | B6: Chocolate Peanut Butter | C6: 1087.137 | D6: =MROUND(C6,10) -> 1090 | E6: 9.866 | F6: =MROUND(E6,5) -> 10 | G6: 19.079 | H6: =MROUND(G6,1) -> 19 | I6: 3.646 | J6: =MROUND(I6,0.5) -> 3.5 | K6: 0 | L6: 0 | M6: 0 | N6: 0 | O6: 249.035 | P6: =MROUND(O6,1) -> 249 | Q6: 232.546 | R6: =MROUND(Q6,1) -> 233 | S6: 5.166 | T6: =MROUND(S6,1) -> 5 | U6: 221.068 | V6: =MROUND(U6,1) -> 221 | W6: 219.252 | X6: =MROUND(W6,1) -> 219 | Y6: 7.903 | Z6: =MROUND(Y6,1) -> 8 | AA6: 0.014 | AB6: 0.00072 | AC6: 60.749 | AD6: 0.04673 | AE6: 2.758 | AF6: 0.1532 | AG6: 393.229 | AH6: 0.08367
A7: Italian Ice | B7: Swedish Fish | C7: 868.076 | D7: =MROUND(C7,10) -> 870 | E7: 0 | F7: 0 | G7: 0 | H7: 0 | I7: 0 | J7: 0 | K7: 0 | L7: 0 | M7: 0 | N7: 0 | O7: 195.114 | P7: =MROUND(O7,1) -> 195 | Q7: 221.083 | R7: =MROUND(Q7,1) -> 221 | S7: 0.069 | T7: 0 | U7: 215.123 | V7: =MROUND(U7,1) -> 215 | W7: 215.123 | X7: =MROUND(W7,1) -> 215 | Y7: 0.824 | Z7: less than 1 g | AA7: 0 | AB7: 0 | AC7: 23.383 | AD7: 0.01799 | AE7: 0.214 | AF7: 0.01189 | AG7: 3.151 | AH7: 0.067
A8: Italian Ice | B8: KOOL-AID Tropical Punch | C8: 720.431 | D8: =MROUND(C8,10) -> 720 | E8: 0 | F8: 0 | G8: 0 | H8: 0 | I8: 0 | J8: 0 | K8: 0 | L8: 0 | M8: 0 | N8: =MROUND(M8,5) -> 0 | O8: 178.969 | P8: =MROUND(O8,1) -> 179 | Q8: 178.969 | R8: =MROUND(Q8,1) -> 179 | S8: 0 | T8: 0 | U8: 177.731 | V8: =MROUND(U8,1) -> 178 | W8: 177.731 | X8: =MROUND(W8,1) -> 178 | Y8: 0 | Z8: 0 | AA8: 0 | AB8: 0 | AC8: 20.469 | AD8: 1.577 | AE8: 0.038 | AF8: 0.208 | AG8: 13.339 | AH8: 0.284
A9: Italian Ice | B9: Key Lime | C9: 685.035 | D9: =MROUND(C9,10) -> 690 | E9: 0 | F9: 0 | G9: 0.056 | H9: 0 | I9: 0 | J9: 0 | K9: 0 | L9: 0 | M9: 0 | N9: 0 | O9: 171.264 | P9: =MROUND(O9,1) -> 171 | Q9: 173.863 | R9: =MROUND(Q9,1) -> 174 | S9: 0.157 | T9: 0 | U9: 163.464 | V9: =MROUND(U9,1) -> 163 | W9: 163.001 | X9: =MROUND(W9,1) -> 163 | Y9: 0.184 | Z9: 0 | AA9: 0 | AB9: 0 | AC9: 22.012 | AD9: 0.01693 | AE9: 0.065 | AF9: 0.00361 | AG9: 28.919 | AH9: 0.00615
A10: Italian Ice | B10: Chocolate | C10: 900.1 | D10: =MROUND(C10,10) -> 900 | E10: 9.855 | F10: =MROUND(E10,5) -> 10 | G10: 1.095 | H10: =MROUND(G10,0.5) -> 1 | I10: 0.648 | J10: =MROUND(I10,0.5) -> 0.5 | K10: 0 | L10: 0 | M10: 0 | N10: 0 | O10: 169.926 | P10: =MROUND(O10,1) -> 170 | Q10: 229.462 | R10: =MROUND(Q10,1) -> 229 | S10: 3.203 | T10: =MROUND(S10,1) -> 3 | U10: 217.98 | V10: =MROUND(U10,1) -> 218 | W10: 217.08 | X10: =MROUND(W10,1) -> 217 | Y10: 1.952 | Z10: =MROUND(Y10,1) -> 2 | AA10: 0.014 | AB10: 0.00072 | AC10: 40.138 | AD10: 0.03088 | AE10: 1.7 | AF10: 0.09442 | AG10: 230.403 | AH10: 0.04902
A11: Italian Ice | B11: Chocolate Chocolate Chip | C11: 1019.868 | D11: =MROUND(C11,10) -> 1020 | E11: 9.882 | F11: =MROUND(E11,5) -> 10 | G11: 7.787 | H11: =MROUND(G11,1) -> 8 | I11: 4.637 | J11: =MROUND(I11,0.5) -> 4.5 | K11: 0 | L11: 0 | M11: 0 | N11: 0 | O11: 169.312 | P11: =MROUND(O11,1) -> 169 | Q11: 247.35 | R11: =MROUND(Q11,1) -> 247 | S11: 5.245 | T11: =MROUND(S11,1) -> 5 | U11: 232.517 | V11: =MROUND(U11,1) -> 233 | W11: 231.615 | X11: =MROUND(W11,1) -> 232 | Y11: 3.244 | Z11: =MROUND(Y11,1) -> 3 | AA11: 0.014 | AB11: 0.00072 | AC11: 49.203 | AD11: 0.03785 | AE11: 3.901 | AF11: 0.21674 | AG11: 343.513 | AH11: 0.07309
A12: Italian Ice | B12: Witches Brew-Berry | C12: 773.582 | D12: =MROUND(C12,10) -> 770 | E12: 0 | F12: 0 | G12: 0 | H12: 0 | I12: 0 | J12: 0 | K12: 0 | L12: 0 | M12: 0 | N12: 0 | O12: 153.234 | P12: =MROUND(O12,1) -> 153 | Q12: 196.366 | R12: =MROUND(Q12,1) -> 196 | S12: 0.075 | T12: 0 | U12: 190.824 | V12: =MROUND(U12,1) -> 191 | W12: 190.824 | X12: =MROUND(W12,1) -> 191 | Y12: 0.412 | Z12: 0 | AA12: 0 | AB12: 0 | AC12: 24.864 | AD12: 1.913 | AE12: 0.184 | AF12: 1.024 | AG12: 2.631 | AH12: 0.056
A13: Italian Ice | B13: Cherry Limeade | C13: 745.619 | D13: =MROUND(C13,10) -> 750 | E13: 0.138 | F13: 0 | G13: 0.015 | H13: 0 | I13: 0.002 | J13: 0 | K13: 0 | L13: 0 | M13: 0 | N13: 0 | O13: 152.382 | P13: =MROUND(O13,1) -> 152 | Q13: 190.539 | R13: =MROUND(Q13,1) -> 191 | S13: 0.342 | T13: 0 | U13: 181.217 | V13: =MROUND(U13,1) -> 181 | W13: 181.087 | X13: =MROUND(W13,1) -> 181 | Y13: 0.091 | Z13: 0 | AA13: 0 | AB13: 0 | AC13: 24.192 | AD13: 0.01861 | AE13: 0.104 | AF13: 0.00577 | AG13: 10.157 | AH13: 0.00216
A14: Italian Ice | B14: Margarita | C14: 1005.812 | D14: =MROUND(C14,10) -> 1010 | E14: 0.686 | F14: 0 | G14: 0.076 | H14: 0 | I14: 0.005 | J14: 0 | K14: 0 | L14: 0 | M14: 0 | N14: 0 | O14: 131.484 | P14: =MROUND(O14,1) -> 131 | Q14: 240.864 | R14: =MROUND(Q14,1) -> 241 | S14: 0.675 | T14: less than 1 g | U14: 112.836 | V14: =MROUND(U14,1) -> 113 | W14: 111.715 | X14: =MROUND(W14,1) -> 112 | Y14: 0.258 | Z14: 0 | AA14: 0 | AB14: 0 | AC14: 28.064 | AD14: 0.02159 | AE14: 0.125 | AF14: 0.00696 | AG14: 48.728 | AH14: 0.01037
A15: Italian Ice | B15: Strawberry Margarita | C15: 784.508 | D15: =MROUND(C15,10) -> 780 | E15: 0.649 | F15: 0 | G15: 0.072 | H15: 0 | I15: 0.003 | J15: 0 | K15: 0 | L15: 0 | M15: 0 | N15: 0 | O15: 127.833 | P15: =MROUND(O15,1) -> 128 | Q15: 199.324 | R15: =MROUND(Q15,1) -> 199 | S15: 0.542 | T15: less than 1 g | U15: 190.782 | V15: =MROUND(U15,1) -> 191 | W15: 188.777 | X15: =MROUND(W15,1) -> 189 | Y15: 0.445 | Z15: 0 | AA15: 0 | AB15: 0 | AC15: 28.863 | AD15: 0.0222 | AE15: 0.203 | AF15: 0.01127 | AG15: 49.53 | AH15: 0.01054
A16: Italian Ice | B16: Wild Black Cherry | C16: 728.095 | D16: =MROUND(C16,10) -> 730 | E16: 0.03 | F16: 0 | G16: 0.029 | H16: 0 | I16: 0 | J16: 0 | K16: 0 | L16: 0 | M16: 0 | N16: 0 | O16: 124.058 | P16: =MROUND(O16,1) -> 124 | Q16: 175.731 | R16: =MROUND(Q16,1) -> 176 | S16: 0.671 | T16: less than 1 g | U16: 163.671 | V16: =MROUND(U16,1) -> 164 | W16: 158.976 | X16: =MROUND(W16,1) -> 159 | Y16: 1.249 | Z16: =MROUND(Y16,1) -> 1 | AA16: 0 | AB16: 0 | AC16: 39.617 | AD16: 3.047 | AE16: 0.529 | AF16: 2.939 | AG16: 58.203 | AH16: 1.238
A17: Italian Ice | B17: Vanilla | C17: 701.455 | D17: =MROUND(C17,10) -> 700 | E17: 0 | F17: 0 | G17: 0 | H17: 0 | I17: 0 | J17: 0 | K17: 0 | L17: 0 | M17: 0 | N17: 0 | O17: 116.438 | P17: =MROUND(O17,1) -> 116 | Q17: 176.781 | R17: =MROUND(Q17,1) -> 177 | S17: 0.113 | T17: 0 | U17: 171.36 | V17: =MROUND(U17,1) -> 171 | W17: 171.149 | X17: =MROUND(W17,1) -> 171 | Y17: 0 | Z17: 0 | AA17: 0 | AB17: 0 | AC17: 23.619 | AD17: 1.817 | AE17: 0.16 | AF17: 0.888 | AG17: 53.503 | AH17: 1.138
A18: Italian Ice | B18: Mango- Orange | C18: 768.131 | D18: =MROUND(C18,10) -> 770 | E18: 0.239 | F18: 0 | G18: 0.027 | H18: 0 | I18: 0.007 | J18: 0 | K18: 0.027 | L18: 0 | M18: 0 | N18: 0 | O18: 115.895 | P18: =MROUND(O18,1) -> 116 | Q18: 195.095 | R18: =MROUND(Q18,1) -> 195 | S18: 0.18 | T18: 0 | U18: 182.439 | V18: =MROUND(U18,1) -> 182 | W18: 178.183 | X18: =MROUND(W18,1) -> 178 | Y18: 0.06 | Z18: 0 | AA18: 0 | AB18: 0 | AC18: 23.028 | AD18: 0.01771 | AE18: 0.144 | AF18: 0.00797 | AG18: 29.141 | AH18: 0.0062
A19: Italian Ice | B19: Mango | C19: 770.381 | D19: =MROUND(C19,10) -> 770 | E19: 0.477 | F19: 0 | G19: 0.053 | H19: 0 | I19: 0.014 | J19: 0 | K19: 0.053 | L19: 0 | M19: 0 | N19: 0 | O19: 115.984 | P19: =MROUND(O19,1) -> 116 | Q19: 195.905 | R19: =MROUND(Q19,1) -> 196 | S19: 0.357 | T19: 0 | U19: 186.944 | V19: =MROUND(U19,1) -> 187 | W19: 184.075 | X19: =MROUND(W19,1) -> 184 | Y19: 0.108 | Z19: 0 | AA19: 0 | AB19: 0 | AC19: 25.801 | AD19: 0.01985 | AE19: 0.24 | AF19: 0.01334 | AG19: 56.147 | AH19: 0.01195
A20: Italian Ice | B20: Mango- Strawberry | C20: 781.307 | D20: =MROUND(C20,10) -> 780 | E20: 0.364 | F20: 0 | G20: 0.04 | H20: 0 | I20: 0.007 | J20: 0 | K20: 0.027 | L20: 0 | M20: 0 | N20: 0 | O20: 115.176 | P20: =MROUND(O20,1) -> 115 | Q20: 197.851 | R20: =MROUND(Q20,1) -> 198 | S20: 0.448 | T20: 0 | U20: 190.441 | V20: =MROUND(U20,1) -> 190 | W20: 187.699 | X20: =MROUND(W20,1) -> 188 | Y20: 0.291 | Z20: 0 | AA20: 0 | AB20: 0 | AC20: 25.889 | AD20: 0.01991 | AE20: 0.287 | AF20: 0.01593 | AG20: 45.214 | AH20: 0.00962
A21: Italian Ice | B21: Strawberry- Watermelon | C21: 755.418 | D21: =MROUND(C21,10) -> 760 | E21: 0.293 | F21: 0 | G21: 0.003 | H21: 0 | I21: 0 | J21: 0 | K21: 0 | L21: 0 | M21: 0 | N21: 0 | O21: 115.194 | P21: =MROUND(O21,1) -> 115 | Q21: 190.775 | R21: =MROUND(Q21,1) -> 191 | S21: 0.217 | T21: 0 | U21: 184.586 | V21: =MROUND(U21,1) -> 185 | W21: 182.463 | X21: =MROUND(W21,1) -> 182 | Y21: 0.36 | Z21: 0 | AA21: 0 | AB21: 0 | AC21: 24.495 | AD21: 0.01884 | AE21: 0.234 | AF21: 0.01299 | AG21: 26.801 | AH21: 0.57
A22: Italian Ice | B22: Watermelon | C22: 755.418 | D22: =MROUND(C22,10) -> 760 | E22: 0.293 | F22: 0 | G22: 0.033 | H22: 0 | I22: 0.003 | J22: 0 | K22: 0 | L22: 0 | M22: 0 | N22: 0 | O22: 115.194 | P22: =MROUND(O22,1) -> 115 | Q22: 190.775 | R22: =MROUND(Q22,1) -> 191 | S22: 0.217 | T22: 0 | U22: 184.586 | V22: =MROUND(U22,1) -> 185 | W22: 182.463 | X22: =MROUND(W22,1) -> 182 | Y22: 0.36 | Z22: 0 | AA22: 0 | AB22: 0 | AC22: 24.495 | AD22: 0.01884 | AE22: 0.234 | AF22: 0.01299 | AG22: 26.8 | AH22: 0.57
A23: Sugar Free | B23: S/F Mango Dragonfruit | C23: 342.417 | D23: =MROUND(C23,10) -> 340 | E23: 0.245 | F23: 0 | G23: 0.027 | H23: 0 | I23: 0.022 | J23: 0 | K23: 0 | L23: 0 | M23: 0 | N23: 0 | O23: 71.578 | P23: =MROUND(O23,1) -> 72 | Q23: 119.382 | R23: =MROUND(Q23,1) -> 119 | S23: 0.046 | T23: 0 | U23: 0.425 | V23: 0 | W23: 0 | X23: 0 | Y23: 0.036 | Z23: 0 | AA23: 0 | AB23: 0 | AC23: 36.595 | AD23: 2.815 | AE23: 0.187 | AF23: 1.037 | AG23: 65.231 | AH23: 1.388
A24: Sugar Free | B24: S/F Tangerine | C24: 348.639 | D24: =MROUND(C24,10) -> 350 | E24: 0.204 | F24: 0 | G24: 0.023 | H24: 0 | I24: 0 | J24: 0 | K24: 0 | L24: 0 | M24: 0 | N24: 0 | O24: 104.55 | P24: =MROUND(O24,1) -> 105 | Q24: 120.407 | R24: =MROUND(Q24,1) -> 120 | S24: 0 | T24: 0 | U24: 0.239 | V24: 0 | W24: 0 | X24: 0 | Y24: 0.038 | Z24: 0 | AA24: 0 | AB24: 0 | AC24: 23.363 | AD24: 0.01797 | AE24: 0.154 | AF24: 0.854 | AG24: 67.081 | AH24: 0.01427
A25: Italian Ice | B25: Strawberry | C25: 802.048 | D25: =MROUND(C25,10) -> 800 | E25: 0.252 | F25: 0 | G25: 0.028 | H25: 0 | I25: 0.001 | J25: 0 | K25: 0 | L25: 0 | M25: 0 | N25: 0 | O25: 115.008 | P25: =MROUND(O25,1) -> 115 | Q25: 202.143 | R25: =MROUND(Q25,1) -> 202 | S25: 0.546 | T25: less than 1 g | U25: 196.268 | V25: =MROUND(U25,1) -> 196 | W25: 193.589 | X25: =MROUND(W25,1) -> 194 | Y25: 0.494 | Z25: 0 | AA25: 0 | AB25: 0 | AC25: 25.943 | AD25: 0.01996 | AE25: 0.339 | AF25: 0.01884 | AG25: 34.156 | AH25: 0.727
A26: Italian Ice | B26: Apple Berry Blue | C26: 704.674 | D26: =MROUND(C26,10) -> 700 | E26: 0 | F26: 0 | G26: 0 | H26: 0 | I26: 0 | J26: 0 | K26: 0 | L26: 0 | M26: 0 | N26: 0 | O26: 113.504 | P26: =MROUND(O26,1) -> 114 | Q26: 178.384 | R26: =MROUND(Q26,1) -> 178 | S26: 0.06 | T26: 0 | U26: 172.896 | V26: =MROUND(U26,1) -> 173 | W26: 167.231 | X26: =MROUND(W26,1) -> 167 | Y26: 0 | Z26: 0 | AA26: 0 | AB26: 0 | AC26: 23.157 | AD26: 0.01781 | AE26: 0.096 | AF26: 0.00532 | AG26: 1.967 | AH26: 0.00042
A27: Italian Ice | B27: Green Apple | C27: 747.909 | D27: =MROUND(C27,10) -> 750 | E27: 0 | F27: 0 | G27: 0 | H27: 0 | I27: 0 | J27: 0 | K27: 0 | L27: 0 | M27: 0 | N27: 0 | O27: 113.269 | P27: =MROUND(O27,1) -> 113 | Q27: 189.645 | R27: =MROUND(Q27,1) -> 190 | S27: 0.041 | T27: 0 | U27: 183.921 | V27: =MROUND(U27,1) -> 184 | W27: 173.149 | X27: =MROUND(W27,1) -> 173 | Y27: 0 | Z27: 0 | AA27: 0 | AB27: 0 | AC27: 20.209 | AD27: 0.01555 | AE27: 0.046 | AF27: 0.00255 | AG27: 1.929 | AH27: 0.00041
A28: Sugar Free | B28: S/F Dragon Fruit | C28: 345.114 | D28: =MROUND(C28,10) -> 350 | E28: 0.201 | F28: 0 | G28: 0.022 | H28: 0 | I28: 0.022 | J28: 0 | K28: 0 | L28: 0 | M28: 0 | N28: 0 | O28: 73.874 | P28: =MROUND(O28,1) -> 74 | Q28: 120.794 | R28: =MROUND(Q28,1) -> 121 | S28: 0.022 | T28: 0 | U28: 0.244 | V28: 0 | W28: 0 | X28: 0 | Y28: 0.072 | Z28: 0 | AA28: 0 | AB28: 0 | AC28: 36.659 | AD28: 2.82 | AE28: 0.154 | AF28: 0.856 | AG28: 68.735 | AH28: 1.462
A29: Sugar Free | B29: S/F Pink Lemonade | C29: 453.609 | D29: =MROUND(C29,10) -> 450 | E29: 0 | F29: 0 | G29: 0 | H29: 0 | I29: 0 | J29: 0 | K29: 0 | L29: 0 | M29: 0 | N29: 0 | O29: 70.471 | P29: =MROUND(O29,1) -> 70 | Q29: 118.671 | R29: =MROUND(Q29,1) -> 119 | S29: 0.805 | T29: less than 1 g | U29: 0 | V29: 0 | W29: 0 | X29: 0 | Y29: 0.078 | Z29: 0 | AA29: 0 | AB29: 0 | AC29: 24.984 | AD29: 1.922 | AE29: 0.104 | AF29: 0.577 | AG29: 15.081 | AH29: 0.321
A30: Italian Ice | B30: Sour Patch Kids Red | C30: 791.695 | D30: =MROUND(C30,10) -> 790 | E30: 0 | F30: 0 | G30: 0 | H30: 0 | I30: 0 | J30: 0 | K30: 0 | L30: 0 | M30: 0 | N30: 0 | O30: 113.265 | P30: =MROUND(O30,1) -> 113 | Q30: 200.069 | R30: =MROUND(Q30,1) -> 200 | S30: 0 | T30: 0 | U30: 188.325 | V30: =MROUND(U30,1) -> 188 | W30: 188.325 | X30: =MROUND(W30,1) -> 188 | Y30: 0 | Z30: 0 | AA30: 0 | AB30: 0 | AC30: 20.426 | AD30: 0.01571 | AE30: 0.063 | AF30: 0.348 | AG30: 2.579 | AH30: 0.055
A31: Italian Ice | B31: Strawberry Colada | C31: 796.416 | D31: =MROUND(C31,10) -> 800 | E31: 0.052 | F31: 0 | G31: 0.006 | H31: 0 | I31: 0 | J31: 0 | K31: 0 | L31: 0 | M31: 0 | N31: 0 | O31: 112.666 | P31: =MROUND(O31,1) -> 113 | Q31: 201.401 | R31: =MROUND(Q31,1) -> 201 | S31: 0.218 | T31: 0 | U31: 195.298 | V31: =MROUND(U31,1) -> 195 | W31: 194.203 | X31: =MROUND(W31,1) -> 194 | Y31: 0.241 | Z31: 0 | AA31: 0 | AB31: 0 | AC31: 25.319 | AD31: 0.01948 | AE31: 0.199 | AF31: 0.01103 | AG31: 7.436 | AH31: 0.158
A32: Italian Ice | B32: Root Beer | C32: 722.023 | D32: =MROUND(C32,10) -> 720 | E32: 0 | F32: 0 | G32: 0 | H32: 0 | I32: 0 | J32: 0 | K32: 0 | L32: 0 | M32: 0 | N32: 0 | O32: 112.315 | P32: =MROUND(O32,1) -> 112 | Q32: 182.428 | R32: =MROUND(Q32,1) -> 182 | S32: 0.058 | T32: 0 | U32: 177.207 | V32: =MROUND(U32,1) -> 177 | W32: 177.207 | X32: =MROUND(W32,1) -> 177 | Y32: 0 | Z32: 0 | AA32: 0 | AB32: 0 | AC32: 26.049 | AD32: 0.02004 | AE32: 0.165 | AF32: 0.917 | AG32: 56.584 | AH32: 0.01204
A33: Italian Ice | B33: Pina Colada | C33: 756.552 | D33: =MROUND(C33,10) -> 760 | E33: 16.806 | F33: =MROUND(E33,5) -> 15 | G33: 1.867 | H33: =MROUND(G33,0.5) -> 2 | I33: 0 | J33: 0 | K33: 0 | L33: 0 | M33: 0 | N33: 0 | O33: 111.518 | P33: =MROUND(O33,1) -> 112 | Q33: 191.8 | R33: =MROUND(Q33,1) -> 192 | S33: 0.358 | T33: 0 | U33: 183.997 | V33: =MROUND(U33,1) -> 184 | W33: 182.443 | X33: =MROUND(W33,1) -> 182 | Y33: 0.12 | Z33: 0 | AA33: 0 | AB33: 0 | AC33: 29.76 | AD33: 0.02289 | AE33: 0.166 | AF33: 0.00924 | AG33: 3.129 | AH33: 0.00067
A34: Italian Ice | B34: Cantaloupe | C34: 679.783 | D34: =MROUND(C34,10) -> 680 | E34: 0.294 | F34: 0 | G34: 0.033 | H34: 0 | I34: 0.009 | J34: 0 | K34: 0.001 | L34: 0 | M34: 0 | N34: 0 | O34: 112.04 | P34: =MROUND(O34,1) -> 112 | Q34: 172.673 | R34: =MROUND(Q34,1) -> 173 | S34: 0.155 | T34: 0 | U34: 164.939 | V34: =MROUND(U34,1) -> 165 | W34: 163.588 | X34: =MROUND(W34,1) -> 164 | Y34: 0.164 | Z34: 0 | AA34: 0 | AB34: 0 | AC34: 23.652 | AD34: 1.819 | AE34: 0.094 | AF34: 0.521 | AG34: 48.951 | AH34: 1.042
A35: Italian Ice | B35: Blueberry | C35: 798.941 | D35: =MROUND(C35,10) -> 800 | E35: 0.943 | F35: 0 | G35: 0.105 | H35: 0 | I35: 0.009 | J35: 0 | K35: 0 | L35: 0 | M35: 0 | N35: 0 | O35: 110.859 | P35: =MROUND(O35,1) -> 111 | Q35: 202.405 | R35: =MROUND(Q35,1) -> 202 | S35: 0.524 | T35: less than 1 g | U35: 196.569 | V35: =MROUND(U35,1) -> 197 | W35: 195.186 | X35: =MROUND(W35,1) -> 195 | Y35: 0.069 | Z35: 0 | AA35: 0 | AB35: 0 | AC35: 26.619 | AD35: 0.02048 | AE35: 0.199 | AF35: 0.01103 | AG35: 11.512 | AH35: 0.00245
A36: Italian Ice | B36: Mango- Pineapple | C36: 774.298 | D36: =MROUND(C36,10) -> 770 | E36: 0.205 | F36: 0 | G36: 0.023 | H36: 0 | I36: 0.006 | J36: 0 | K36: 0.023 | L36: 0 | M36: 0 | N36: 0 | O36: 110.925 | P36: =MROUND(O36,1) -> 111 | Q36: 195.293 | R36: =MROUND(Q36,1) -> 195 | S36: 0.25 | T36: 0 | U36: 188.085 | V36: =MROUND(U36,1) -> 188 | W36: 185.231 | X36: =MROUND(W36,1) -> 185 | Y36: 0.114 | Z36: 0 | AA36: 0 | AB36: 0 | AC36: 25.27 | AD36: 0.01944 | AE36: 0.597 | AF36: 0.03316 | AG36: 45.963 | AH36: 0.00978
A37: Italian Ice | B37: Zombie's Blood | C37: 620.297 | D37: =MROUND(C37,10) -> 620 | E37: 0.018 | F37: 0 | G37: 0.002 | H37: 0 | I37: 0 | J37: 0 | K37: 0 | L37: 0 | M37: 0 | N37: 0 | O37: 110.924 | P37: =MROUND(O37,1) -> 111 | Q37: 153.113 | R37: =MROUND(Q37,1) -> 153 | S37: 0.185 | T37: 0 | U37: 144.933 | V37: =MROUND(U37,1) -> 145 | W37: 144.933 | X37: =MROUND(W37,1) -> 145 | Y37: 0.73 | Z37: less than 1 g | AA37: 0 | AB37: 0 | AC37: 28.234 | AD37: 2.172 | AE37: 0.118 | AF37: 0.653 | AG37: 35.207 | AH37: 0.749
A38: Italian Ice | B38: Blue Raspberry | C38: 795.951 | D38: =MROUND(C38,10) -> 800 | E38: 0 | F38: 0 | G38: 0 | H38: 0 | I38: 0 | J38: 0 | K38: 0 | L38: 0 | M38: 0 | N38: 0 | O38: 109.777 | P38: =MROUND(O38,1) -> 110 | Q38: 201.869 | R38: =MROUND(Q38,1) -> 202 | S38: 0.08 | T38: 0 | U38: 196.732 | V38: =MROUND(U38,1) -> 197 | W38: 196.732 | X38: =MROUND(W38,1) -> 197 | Y38: 0 | Z38: 0 | AA38: 0 | AB38: 0 | AC38: 25.722 | AD38: 0.01979 | AE38: 0.168 | AF38: 0.00936 | AG38: 2.726 | AH38: 0.00058
A39: Italian Ice | B39: Raspberry | C39: 744.388 | D39: =MROUND(C39,10) -> 740 | E39: 0.073 | F39: 0 | G39: 0.008 | H39: 0 | I39: 0.008 | J39: 0 | K39: 0 | L39: 0 | M39: 0 | N39: 0 | O39: 109.778 | P39: =MROUND(O39,1) -> 110 | Q39: 188.996 | R39: =MROUND(Q39,1) -> 189 | S39: 2.608 | T39: =MROUND(S39,1) -> 3 | U39: 179.183 | V39: =MROUND(U39,1) -> 179 | W39: 177.408 | X39: =MROUND(W39,1) -> 177 | Y39: 0.911 | Z39: less than 1 g | AA39: 0 | AB39: 0 | AC39: 30.822 | AD39: 0.02371 | AE39: 0.327 | AF39: 0.01816 | AG39: 75.324 | AH39: 0.01603
A40: Italian Ice | B40: Pineapple | C40: 695.175 | D40: =MROUND(C40,10) -> 700 | E40: 0 | F40: 0 | G40: 0 | H40: 0 | I40: 0 | J40: 0 | K40: 0 | L40: 0 | M40: 0 | N40: 0 | O40: 108.869 | P40: =MROUND(O40,1) -> 109 | Q40: 173.536 | R40: =MROUND(Q40,1) -> 174 | S40: 0.17 | T40: 0 | U40: 167.607 | V40: =MROUND(U40,1) -> 168 | W40: 164.723 | X40: =MROUND(W40,1) -> 165 | Y40: 0.121 | Z40: 0 | AA40: 0 | AB40: 0 | AC40: 25.318 | AD40: 0.01948 | AE40: 0.868 | AF40: 0.04823 | AG40: 38.338 | AH40: 0.816
A41: Italian Ice | B41: Tropical Daiquiri | C41: 671.268 | D41: =MROUND(C41,10) -> 670 | E41: 40.864 | F41: =MROUND(E41,5) -> 40 | G41: 4.54 | H41: =MROUND(G41,0.5) -> 4.5 | I41: 4.072 | J41: =MROUND(I41,0.5) -> 4 | K41: 0 | L41: 0 | M41: 0 | N41: 0 | O41: 109.031 | P41: =MROUND(O41,1) -> 109 | Q41: 158.095 | R41: =MROUND(Q41,1) -> 158 | S41: 1.032 | T41: =MROUND(S41,1) -> 1 | U41: 152.134 | V41: =MROUND(U41,1) -> 152 | W41: 132.652 | X41: =MROUND(W41,1) -> 133 | Y41: 0.241 | Z41: 0 | AA41: 0 | AB41: 0 | AC41: 23.152 | AD41: 1.781 | AE41: 0.12 | AF41: 0.666 | AG41: 14.498 | AH41: 0.308
A42: Italian Ice | B42: Cherry | C42: 614.93 | D42: =MROUND(C42,10) -> 610 | E42: 0 | F42: 0 | G42: 0.054 | H42: 0 | I42: 0 | J42: 0 | K42: 0 | L42: 0 | M42: 0 | N42: 0 | O42: 105.388 | P42: =MROUND(O42,1) -> 105 | Q42: 158.177 | R42: =MROUND(Q42,1) -> 158 | S42: 0.315 | T42: 0 | U42: 148.73 | V42: =MROUND(U42,1) -> 149 | W42: 143.772 | X42: =MROUND(W42,1) -> 144 | Y42: 0.08 | Z42: 0 | AA42: 0 | AB42: 0 | AC42: 37.286 | AD42: 0.02868 | AE42: 0.082 | AF42: 0.00454 | AG42: 3.241 | AH42: 0.00069
A43: Italian Ice | B43: Strawberry Lemonade | C43: 682.602 | D43: =MROUND(C43,10) -> 680 | E43: 0.619 | F43: 0 | G43: 0.069 | H43: 0 | I43: 0.002 | J43: 0 | K43: 0 | L43: 0 | M43: 0 | N43: 0 | O43: 102.893 | P43: =MROUND(O43,1) -> 103 | Q43: 173.894 | R43: =MROUND(Q43,1) -> 174 | S43: 0.492 | T43: 0 | U43: 166.087 | V43: =MROUND(U43,1) -> 166 | W43: 164.061 | X43: =MROUND(W43,1) -> 164 | Y43: 0.425 | Z43: 0 | AA43: 0 | AB43: 0 | AC43: 28.356 | AD43: 0.02181 | AE43: 0.231 | AF43: 0.01286 | AG43: 53.774 | AH43: 0.01144
